{"text_format":"2","workbook":"xlsx","n_sheets":1,"sheets":["추첨결과리스트"],"not_rendered":{"charts":0,"images":0,"macros":0,"external_links":1,"defined_names":2,"comments":0,"pivot_tables":0},"unopened":[],"bounds":{"document_bytes":16777216,"sheet_cells":100000,"run_cost":"one","rows_first":2000,"rows_last":500,"rows_between":2000,"halvings":0,"cell_chars":16384,"cell_head_chars":4096},"cells_cut":0,"cells_raw":0,"read":"whole","date_system":"1900"}

{"sheet":"추첨결과리스트","index":0,"n_rows":70,"n_cols":9,"rows_kept":70,"cut":false,"hidden":false,"merged":[[2,7,3,7],[2,8,3,8],[2,1,3,1],[2,2,3,2],[2,3,2,4],[2,5,3,5],[2,6,3,6]]}
[null,"□ 동탄(2) 생활대책용지 추첨 결과"]
[{"$nulls":8},"2013. 11. 27(수) 14:00~"]
[null,"연번","용도","필지번호",null,"면적(㎡)","공급가격\n(단위 : 원)","당첨조합","비 고"]
[null,null,null,"본번","부번"]
[null,1,"근상2",832,101,1168,{"$f":"'[1]데이터및입력(토지내역및당첨자)'!N9","v":4286560000},null,"2차공급대상"]
[null,2,"근상2",832,102,1071,{"$f":"'[1]데이터및입력(토지내역및당첨자)'!N10","v":4069800000},"두리"]
[null,3,"근상2",832,103,1244,{"$f":"'[1]데이터및입력(토지내역및당첨자)'!N11","v":4677440000},"동탄스타1"]
[null,4,"근상2",832,201,1379,{"$f":"'[1]데이터및입력(토지내역및당첨자)'!N12","v":5447050000},"동탄스마트"]
[null,5,"근상2",832,202,1439,{"$f":"'[1]데이터및입력(토지내역및당첨자)'!N13","v":5684050000},"동남"]
[null,6,"근상2",832,203,924,{"$f":"'[1]데이터및입력(토지내역및당첨자)'!N14","v":3391080000},null,"2차공급대상"]
[null,7,"근상2",832,204,1069,{"$f":"'[1]데이터및입력(토지내역및당첨자)'!N15","v":4436350000},"해성"]
[null,8,"근상3",833,201,1164,{"$f":"'[1]데이터및입력(토지내역및당첨자)'!N17","v":4888800000},"신용"]
[null,9,"근상3",833,202,1091,{"$f":"'[1]데이터및입력(토지내역및당첨자)'!N18","v":4396730000},"월드"]
[null,10,"근상3",833,203,1095,{"$f":"'[1]데이터및입력(토지내역및당첨자)'!N19","v":4412850000},"삼성"]
[null,11,"근상3",833,204,1169,{"$f":"'[1]데이터및입력(토지내역및당첨자)'!N20","v":4804590000},"동탄 원주민상가4"]
[null,12,"근상3",833,401,1176,{"$f":"'[1]데이터및입력(토지내역및당첨자)'!N21","v":4833360000},"대성"]
[null,13,"근상3",833,402,1116,{"$f":"'[1]데이터및입력(토지내역및당첨자)'!N22","v":4497480000},"팀"]
[null,14,"근상3",833,403,1140,{"$f":"'[1]데이터및입력(토지내역및당첨자)'!N23","v":4833600000},"청계"]
[null,15,"근상12",8312,101,2607,{"$f":"'[1]데이터및입력(토지내역및당첨자)'!N25","v":10323720000},"한솔"]
[null,16,"근상12",8312,201,1447,{"$f":"'[1]데이터및입력(토지내역및당첨자)'!N26","v":5513070000},"행운"]
[null,17,"근상12",8312,202,1292,{"$f":"'[1]데이터및입력(토지내역및당첨자)'!N27","v":4870840000},"미러클1"]
[null,18,"근상12",8312,301,1034,{"$f":"'[1]데이터및입력(토지내역및당첨자)'!N28","v":3970560000},"미래"]
[null,19,"근상13",8313,101,1569,{"$f":"'[1]데이터및입력(토지내역및당첨자)'!N30","v":6370140000},"백발백중"]
[null,20,"근상13",8313,102,1457,{"$f":"'[1]데이터및입력(토지내역및당첨자)'!N31","v":5696870000},"나루"]
[null,21,"근상13",8313,103,1428,{"$f":"'[1]데이터및입력(토지내역및당첨자)'!N32","v":5583480000},null,"2차공급대상"]
[null,22,"근상13",8313,104,1530,{"$f":"'[1]데이터및입력(토지내역및당첨자)'!N33","v":6104700000},"태산"]
[null,23,"근생7",507,101,777,{"$f":"'[1]데이터및입력(토지내역및당첨자)'!N36","v":2564100000},"지엘상가"]
[null,24,"근생7",507,102,737,{"$f":"'[1]데이터및입력(토지내역및당첨자)'!N37","v":2269960000},"환재조합"]
[null,25,"근생7",507,103,659,{"$f":"'[1]데이터및입력(토지내역및당첨자)'!N38","v":2069260000},"동탄토박이"]
[null,26,"근생7",507,201,624,{"$f":"'[1]데이터및입력(토지내역및당첨자)'!N39","v":1959360000},"에이스"]
[null,27,"근생7",507,202,662,{"$f":"'[1]데이터및입력(토지내역및당첨자)'!N40","v":2019100000},"길상"]
[null,28,"근생7",507,203,785,{"$f":"'[1]데이터및입력(토지내역및당첨자)'!N41","v":2394250000},null,"2차공급대상"]
[null,29,"근생9",509,101,1285,{"$f":"'[1]데이터및입력(토지내역및당첨자)'!N43","v":3598000000},null,"2차공급대상"]
[null,30,"근생9",509,102,1283,{"$f":"'[1]데이터및입력(토지내역및당첨자)'!N44","v":3515420000},null,"2차공급대상"]
[null,31,"근생10",510,101,1193,{"$f":"'[1]데이터및입력(토지내역및당첨자)'!N46","v":2791620000},null,"2차공급대상"]
[null,32,"근생10",510,102,914,{"$f":"'[1]데이터및입력(토지내역및당첨자)'!N47","v":2138760000},null,"2차공급대상"]
[null,33,"근생10",510,103,915,{"$f":"'[1]데이터및입력(토지내역및당첨자)'!N48","v":2141100000},null,"2차공급대상"]
[null,34,"근생10",510,104,915,{"$f":"'[1]데이터및입력(토지내역및당첨자)'!N49","v":2141100000},null,"2차공급대상"]
[null,35,"근생10",510,105,915,{"$f":"'[1]데이터및입력(토지내역및당첨자)'!N50","v":2141100000},null,"2차공급대상"]
[null,36,"근생10",510,106,910,{"$f":"'[1]데이터및입력(토지내역및당첨자)'!N51","v":2129400000},null,"2차공급대상"]
[null,37,"근생10",510,107,929,{"$f":"'[1]데이터및입력(토지내역및당첨자)'!N52","v":2257470000},"하나로"]
[null,38,"근생11",511,101,900,{"$f":"'[1]데이터및입력(토지내역및당첨자)'!N54","v":2322000000},null,"2차공급대상"]
[null,39,"근생11",511,102,795,{"$f":"'[1]데이터및입력(토지내역및당첨자)'!N55","v":1955700000},null,"2차공급대상"]
[null,40,"근생11",511,103,795,{"$f":"'[1]데이터및입력(토지내역및당첨자)'!N56","v":1955700000},null,"2차공급대상"]
[null,41,"근생11",511,104,793,{"$f":"'[1]데이터및입력(토지내역및당첨자)'!N57","v":1950780000},null,"2차공급대상"]
[null,42,"근생11",511,105,894,{"$f":"'[1]데이터및입력(토지내역및당첨자)'!N58","v":2243940000},"지산"]
[null,43,"근생12",512,101,852,{"$f":"'[1]데이터및입력(토지내역및당첨자)'!N60","v":2624160000},"천지인"]
[null,44,"근생12",512,102,1058,{"$f":"'[1]데이터및입력(토지내역및당첨자)'!N61","v":3258640000},"반석"]
[null,45,"근생12",512,103,1694,{"$f":"'[1]데이터및입력(토지내역및당첨자)'!N62","v":5336100000},"보상협의회"]
[null,46,"근생13",513,101,738,{"$f":"'[1]데이터및입력(토지내역및당첨자)'!N64","v":2442780000},"신동탄조합"]
[null,47,"근생13",513,102,738,{"$f":"'[1]데이터및입력(토지내역및당첨자)'!N65","v":2442780000},"참조은"]
[null,48,"근생13",513,103,738,{"$f":"'[1]데이터및입력(토지내역및당첨자)'!N66","v":2442780000},"원모동탄"]
[null,49,"근생13",513,104,754,{"$f":"'[1]데이터및입력(토지내역및당첨자)'!N67","v":2623920000},"참좋은동탄2상가"]
[null,50,"근생28",528,101,773,{"$f":"'[1]데이터및입력(토지내역및당첨자)'!N69","v":2125750000},null,"2차공급대상"]
[null,51,"근생28",528,102,708,{"$f":"'[1]데이터및입력(토지내역및당첨자)'!N70","v":1854960000},null,"2차공급대상"]
[null,52,"근생28",528,103,708,{"$f":"'[1]데이터및입력(토지내역및당첨자)'!N71","v":1854960000},null,"2차공급대상"]
[null,53,"근생28",528,104,708,{"$f":"'[1]데이터및입력(토지내역및당첨자)'!N72","v":1854960000},null,"2차공급대상"]
[null,54,"근생28",528,105,707,{"$f":"'[1]데이터및입력(토지내역및당첨자)'!N73","v":1852340000},"유신"]
[null,55,"근생28",528,106,710,{"$f":"'[1]데이터및입력(토지내역및당첨자)'!N74","v":1931200000},"태광"]
[null,56,"근생28",528,201,915,{"$f":"'[1]데이터및입력(토지내역및당첨자)'!N75","v":2488800000},"대박"]
[null,57,"근생28",528,202,921,{"$f":"'[1]데이터및입력(토지내역및당첨자)'!N76","v":2413020000},"중리상가"]
[null,58,"근생28",528,203,930,{"$f":"'[1]데이터및입력(토지내역및당첨자)'!N77","v":2585400000},null,"2차공급대상"]
[null,59,"근생33",533,101,920,{"$f":"'[1]데이터및입력(토지내역및당첨자)'!N79","v":2097600000},null,"2차공급대상"]
[null,60,"근생33",533,102,920,{"$f":"'[1]데이터및입력(토지내역및당첨자)'!N80","v":2097600000},null,"2차공급대상"]
[null,61,"근생33",533,103,920,{"$f":"'[1]데이터및입력(토지내역및당첨자)'!N81","v":2097600000},null,"2차공급대상"]
[null,62,"근생33",533,104,920,{"$f":"'[1]데이터및입력(토지내역및당첨자)'!N82","v":2097600000},null,"2차공급대상"]
[null,63,"근생33",533,105,920,{"$f":"'[1]데이터및입력(토지내역및당첨자)'!N83","v":2097600000},"정성"]
[null,64,"근생33",533,106,920,{"$f":"'[1]데이터및입력(토지내역및당첨자)'!N84","v":2097600000},"동탄스타2"]
[null,65,"근생33",533,107,920,{"$f":"'[1]데이터및입력(토지내역및당첨자)'!N85","v":2097600000},null,"2차공급대상"]
[null,66,"근생33",533,108,920,{"$f":"'[1]데이터및입력(토지내역및당첨자)'!N86","v":2143600000},null,"2차공급대상"]