{"text_format":"2","workbook":"xlsx","n_sheets":11,"sheets":["총괄표","참여업체현황","1(1)참여기술자","1(2)참여기술자실적","2.(1)유사용역(실적_배수지, 가압장, 정수장)","2.(2)유사용역(금액)","3.신용도","4(1)기술개발및투자실적","4.(2)투자실적","4(3)활용실적","5.업무중첩도"],"not_rendered":{"charts":0,"images":0,"macros":0,"external_links":0,"defined_names":25,"comments":4,"pivot_tables":0},"unopened":[],"bounds":{"document_bytes":16777216,"sheet_cells":100000,"run_cost":"one","rows_first":2000,"rows_last":500,"rows_between":2000,"halvings":0,"cell_chars":16384,"cell_head_chars":4096},"cells_cut":0,"cells_raw":0,"read":"whole","date_system":"1900"}

{"sheet":"총괄표","index":0,"n_rows":40,"n_cols":8,"rows_kept":40,"cut":false,"hidden":false,"merged":[[19,2,19,3],[23,2,23,3],[26,2,26,3],[36,2,36,3],[38,2,38,3],[39,2,39,3],[0,2,0,7],[7,2,7,3],[6,2,6,3],[33,2,33,3],[37,2,37,3],[31,2,31,3],[32,2,32,3],[34,2,34,3],[35,2,35,3],[8,2,8,3],[30,2,30,3],[9,2,9,3],[15,2,15,3]]}
[null,null,"사업수행능력 평가 총괄표"]
[]
[null,null,"-","용역명 : 남양주진건지금지구 배수지 건설공사 기본 및 실시설계용역",null,null,"입찰공고일     :","2012-10-05"]
[null,null,"-","추정용역비 :",572801000,"원","과업규모(배수지):",24000]
[{"$nulls":6},"과업규모(가압장,정수장):",46993]
[]
[null,null,"구                분",null,"배  점","자기평가","확  인","비   고"]
[null,null,"총          계",null,{"$f":"E9+E27+E31+E34+E38","v":100},{"$f":"F9+F27+F31+F34+F38","v":82.740000000000009},{"$f":"G9+G27+G31+G34+G38","v":0}]
[null,null,"1. 참여기술자",null,{"$f":"E10+E16+E20+E24","v":50},{"$f":"F10+F16+F20+F24","v":39.25},{"$f":"G10+G16+G20+G24","v":0}]
[null,null,"가. 사업책임기술자",null,{"$f":"SUM(E11:E15)","v":20},{"$f":"SUM(F11:F15)","v":15.2},{"$f":"SUM(G11:G15)","v":0}]
[null,null,null,"등급",{"$f":"'1(1)참여기술자'!D7","v":5},{"$f":"'1(1)참여기술자'!E7","v":5},{"$f":"'1(1)참여기술자'!F7","v":0}]
[null,null,null,"경력",{"$f":"'1(1)참여기술자'!D8","v":6},{"$f":"'1(1)참여기술자'!E8","v":6},{"$f":"'1(1)참여기술자'!F8","v":0}]
[null,null,null,"실적",{"$f":"'1(1)참여기술자'!D9","v":7},{"$f":"'1(1)참여기술자'!E9","v":4.2},{"$f":"'1(1)참여기술자'!F9","v":0}]
[null,null,null,"기술능력",{"$f":"'1(1)참여기술자'!D10","v":1},{"$f":"'1(1)참여기술자'!E10","v":0},{"$f":"'1(1)참여기술자'!F10","v":0}]
[null,null,null,"업무관리능력",{"$f":"'1(1)참여기술자'!D11","v":1},{"$f":"'1(1)참여기술자'!E11","v":0},{"$f":"'1(1)참여기술자'!F11","v":0}]
[null,null,"나. 분야별 책임기술자",null,{"$f":"SUM(E17:E19)","v":20},{"$f":"SUM(F17:F19)","v":15.8},{"$f":"SUM(G17:G19)","v":0}]
[null,null,null,"자격및 등급",{"$f":"'1(1)참여기술자'!D12","v":5},{"$f":"'1(1)참여기술자'!E12","v":4.7},{"$f":"'1(1)참여기술자'!F12","v":0}]
[null,null,null,"경력",{"$f":"'1(1)참여기술자'!D13","v":7},{"$f":"'1(1)참여기술자'!E13","v":6.3},{"$f":"'1(1)참여기술자'!F13","v":0}]
[null,null,null,"실적",{"$f":"'1(1)참여기술자'!D14","v":8},{"$f":"'1(1)참여기술자'!E14","v":4.8},{"$f":"'1(1)참여기술자'!F14","v":0}]
[null,null,"다. 분야별 참여기술자",null,{"$f":"SUM(E21:E23)","v":8},{"$f":"SUM(F21:F23)","v":6.4799999999999995},{"$f":"SUM(G21:G23)","v":0}]
[null,null,null,"자격및 등급",{"$f":"'1(1)참여기술자'!D30","v":2},{"$f":"'1(1)참여기술자'!E30","v":1.98},{"$f":"'1(1)참여기술자'!F30","v":0}]
[null,null,null,"경력",{"$f":"'1(1)참여기술자'!D31","v":3},{"$f":"'1(1)참여기술자'!E31","v":2.7},{"$f":"'1(1)참여기술자'!F31","v":0}]
[null,null,null,"실적",{"$f":"'1(1)참여기술자'!D32","v":3},{"$f":"'1(1)참여기술자'!E32","v":1.8},{"$f":"'1(1)참여기술자'!F32","v":0}]
[null,null,"라. 참여기술자 교육훈련, 전차용역실적",null,{"$f":"SUM(E25:E26)","v":2},{"$f":"SUM(F25:F26)","v":1.77},{"$f":"SUM(G25:G26)","v":0}]
[null,null,null,"교육훈련",1,{"$f":"'1(1)참여기술자'!M6","v":0.77},{"$f":"'1(1)참여기술자'!N6","v":0}]
[null,null,null,"전차용역 수행실적",1,1,null,"만점처리"]
[null,null,"2. 유사용역 수행실적",null,{"$f":"SUM(E28:E30)","v":15},{"$f":"SUM(F28:F30)","v":15},{"$f":"SUM(G28:G28)","v":0}]
[null,null,"가. 실적",null,7,{"$f":"'2.(1)유사용역(실적_배수지, 가압장, 정수장)'!F8","v":7}]
[null,null,"나. 금액",null,7,{"$f":"'2.(2)유사용역(금액)'!F8","v":7}]
[null,null,"다. 전차용역 수행실적",null,1,1,null,"       만점처리"]
[null,null,"3. 신용도",null,{"$f":"SUM(E32:E33)","v":10},{"$f":"SUM(F32:F33)","v":5.4499999999999993},{"$f":"SUM(G32:G33)","v":0}]
[null,null,"가. 입찰제한,업무정지,부실벌점",null,{"$f":"'3.신용도'!G7","v":7},{"$f":"'3.신용도'!H7","v":2.4499999999999997},{"$f":"'3.신용도'!I7","v":0}]
[null,null,"나. 재정상태 건실도",null,3,{"$f":"'3.신용도'!K7","v":3},0]
[null,null,"4. 기술개발 및 투자실적",null,{"$f":"SUM(E35:E37)","v":15},{"$f":"SUM(F35:F37)","v":13.040000000000001},{"$f":"SUM(G35:G37)","v":0}]
[null,null,"가. 개발실적",null,{"$f":"'4(1)기술개발및투자실적'!D7","v":2},{"$f":"'4(1)기술개발및투자실적'!E7","v":0.8},{"$f":"'4(1)기술개발및투자실적'!F7","v":0}]
[null,null,"나. 투자실적",null,10,{"$f":"'4.(2)투자실적'!J7","v":10},{"$f":"'4.(2)투자실적'!K7","v":0}]
[null,null,"다. 활용실적",null,{"$f":"'4(3)활용실적'!D7","v":3},{"$f":"'4(3)활용실적'!E7","v":2.2400000000000002},{"$f":"'4(3)활용실적'!F7","v":0}]
[null,null,"5. 업무중첩도",null,{"$f":"SUM(E39:E40)","v":10},{"$f":"SUM(F39:F40)","v":10},{"$f":"SUM(G39:G40)","v":0}]
[null,null,"가. 사업책임기술자",null,{"$f":"'5.업무중첩도'!C5","v":6},{"$f":"'5.업무중첩도'!D5","v":6},{"$f":"'5.업무중첩도'!E5","v":0}]
[null,null,"나. 분야별 책임기술자",null,{"$f":"'5.업무중첩도'!C10","v":4},{"$f":"'5.업무중첩도'!D10","v":4},{"$f":"'5.업무중첩도'!E10","v":0}]

{"sheet":"참여업체현황","index":1,"n_rows":14,"n_cols":12,"rows_kept":14,"cut":false,"hidden":false,"merged":[[2,4,2,11],[0,0,0,11],[6,2,7,2],[8,2,9,2],[12,2,13,2],[6,0,7,0],[10,2,11,2],[10,0,11,0],[10,1,11,1],[12,0,13,0],[12,1,13,1],[2,3,3,3],[2,0,3,0],[2,1,3,1],[2,2,3,2],[4,2,5,2],[4,0,5,0],[4,1,5,1],[6,1,7,1],[8,0,9,0],[8,1,9,1]]}
["참여업체 현황"]
[]
["구  분","상  호","지분율","참여분야","보유면허"]
[{"$nulls":4},"상하수도","구조","토질 지질","일반기계","전기설비","측량","조경","수질관리"]
["공동","A사",0.5,"참여분야","O","O","O","O","O","O","O","O"]
[null,null,null,"보유면허","O","O","O","O","O","O","O","O"]
["공동","B사",0.3,"참여분야","O","O","O","O","O","O","O","O"]
[null,null,null,"보유면허","O","O","O","O","O","O","O","O"]
["공동","C사",0.2,"참여분야","O","O","O","O","O","O","O","O"]
[null,null,null,"보유면허","O","O","O","O","O","O","O","O"]
["공동","D사",0,"참여분야"]
[null,null,null,"보유면허"]
["공동","E사",0,"참여분야"]
[null,null,null,"보유면허"]

{"sheet":"1(1)참여기술자","index":2,"n_rows":78,"n_cols":13,"rows_kept":78,"cut":false,"hidden":false,"merged":[[20,12,22,12],[23,9,25,9],[23,10,25,10],[20,1,22,1],[20,6,22,6],[20,7,22,7],[20,8,22,8],[20,9,22,9],[23,12,25,12],[3,5,4,5],[23,7,25,7],[23,8,25,8],[38,1,40,1],[29,0,46,0],[32,1,34,1],[32,6,34,6],[5,0,5,2],[26,12,28,12],[29,10,31,10],[32,10,34,10],[41,1,43,1],[41,6,43,6],[41,7,43,7],[23,11,25,11],[26,1,28,1],[26,6,28,6],[26,7,28,7],[26,8,28,8],[26,9,28,9],[26,10,28,10],[26,11,28,11],[35,6,37,6],[35,7,37,7],[14,12,16,12],[3,10,4,10],[17,1,19,1],[11,12,13,12],[14,8,16,8],[17,12,19,12],[11,1,13,1],[14,1,16,1],[44,10,46,10],[35,1,37,1],[29,1,31,1],[6,10,10,10],[11,10,13,10],[14,10,16,10],[17,10,19,10],[44,1,46,1],[3,6,4,6],[17,6,19,6],[3,7,4,7],[3,8,4,8],[29,8,31,8],[3,0,4,2],[3,3,4,3],[3,4,4,4],[38,10,40,10],[38,11,40,11],[38,12,40,12],[41,8,43,8],[41,9,43,9],[41,10,43,10],[41,11,43,11],[44,12,46,12],[1,0,1,12],[11,11,13,11],[14,11,16,11],[17,11,19,11],[3,9,4,9],[3,11,3,12],[20,10,22,10],[20,11,22,11],[23,1,25,1],[23,6,25,6],[6,0,10,1],[6,6,10,6],[6,7,10,7],[6,8,10,8],[6,9,10,9],[11,0,28,0],[6,11,10,11],[6,12,10,12],[44,7,46,7],[29,11,31,11],[41,12,43,12],[32,7,34,7],[29,9,31,9],[29,6,31,6],[29,7,31,7],[29,12,31,12],[32,8,34,8],[32,9,34,9],[32,12,34,12],[32,11,34,11],[35,8,37,8],[35,9,37,9],[35,10,37,10],[35,11,37,11],[35,12,37,12],[38,7,40,7],[11,8,13,8],[11,9,13,9],[44,11,46,11],[44,9,46,9],[11,6,13,6],[11,7,13,7],[14,6,16,6],[14,7,16,7],[17,7,19,7],[17,8,19,8],[17,9,19,9],[44,6,46,6],[14,9,16,9],[44,8,46,8],[38,8,40,8],[38,9,40,9],[38,6,40,6]]}
[]
["1. 참여기술자"]
[]
["구   분",null,null,"배  점","자기\n평가","확  인","성  명","자  격","면허번호","경  력(년)","실적건수","교 육 실 적"]
[{"$nulls":11},"기  간","점수"]
["총   계",null,null,"-","-","-","-","-","-","-","-","-",{"$f":"ROUND((M45+M42+M39+M36+M33+M27+M24+M21+M18+M15+M7)/11,2)","v":0.77}]
["사업책임기술자",null,"등급",5,{"$f":"IF(H7=\"기술사\",5,IF(H7=\"그외\",0))","v":5},null,"김일동","기술사","00000000000","20년이상",{"$f":"'1(2)참여기술자실적'!Q5","v":1},2,{"$f":"IF(L7>=2,\"1\",IF(L7=0,\"0\",IF(L7<2,\"0.5\")))","v":"1"}]
[null,null,"경력",6,{"$f":"IF(J7=\"20년이상\",6,IF(J7>=18,5.4,IF(J7>=16,4.8,IF(J7>=14,4.2,IF(J7<14,3.6)))))","v":6}]
[null,null,"실적",7,{"$f":"IF(K7>=15,7,IF(K7>=13,6.3,IF(K7>=11,5.6,IF(K7>=9,4.9,IF(K7<9,4.2)))))","v":4.2}]
[null,null,"기술능력",1,0]
[null,null,"업무관리\n능력",1,0]
["분야별\n책임\n기술자","총계","등급",5,{"$f":"ROUND((E15*0.5+E18*0.2+E21*0.1+E24*0.1+E27*0.1),2)","v":4.7},{"$f":"ROUND((F15+F18+F21+F24+F27)/5,2)","v":0},"-","-","-","-","-","-","-"]
[null,null,"경력",7,{"$f":"ROUND((E16*0.5+E19*0.2+E22*0.1+E25*0.1+E28*0.1),2)","v":6.3},{"$f":"ROUND((F16+F19+F22+F25+F28)/5,2)","v":0}]
[null,null,"실적",8,{"$f":"ROUND((E17*0.5+E20*0.2+E23*0.1+E26*0.1+E29*0.1),2)","v":4.8},{"$f":"ROUND((F17+F20+F23+F26+F29)/5,2)","v":0}]
[null,{"$f":"참여업체현황!$E$4","v":"상하수도"},"등급",5,{"$f":"IF(H15=\"기술사\",5,IF(H15=\"특급\",5,IF(H15=\"고급\",4.5,IF(H15=\"중급\",4,IF(H15=\"초급\",3.5,IF(H15=\"\",0))))))","v":5},null,"김이동","기술사","00000000000","15년이상",{"$f":"'1(2)참여기술자실적'!Q35","v":1},1,{"$f":"IF(L15>=2,\"1\",IF(L15=0,\"0\",IF(L15<2,\"0.5\")))","v":"0.5"}]
[null,null,"경력",7,{"$f":"IF(J15=\"15년이상\",7,IF(J15>=13,6.3,IF(J15>=11,5.6,IF(J15>=9,4.9,IF(J15<9,4.2)))))","v":7}]
[null,null,"실적",8,{"$f":"IF(K15>=15,8,IF(K15>=13,7.2,IF(K15>=11,6.4,IF(K15>=9,5.6,IF(K15<9,4.8)))))","v":4.8}]
[null,{"$f":"참여업체현황!$F$4","v":"구조"},"등급",5,{"$f":"IF(H18=\"기술사\",5,IF(H18=\"특급\",5,IF(H18=\"고급\",4.5,IF(H18=\"중급\",4,IF(H18=\"초급\",3.5,IF(H18=\"\",0))))))","v":5},null,"김삼동","특급","0000000000",14,{"$f":"'1(2)참여기술자실적'!Q66","v":1},2,{"$f":"IF(L18>=2,\"1\",IF(L18=0,\"0\",IF(L18<2,\"0.5\")))","v":"1"}]
[null,null,"경력",7,{"$f":"IF(J18=\"15년이상\",7,IF(J18>=13,6.3,IF(J18>=11,5.6,IF(J18>=9,4.9,IF(J18<9,4.2)))))","v":6.3}]
[null,null,"실적",8,{"$f":"IF(K18>=15,8,IF(K18>=13,7.2,IF(K18>=11,6.4,IF(K18>=9,5.6,IF(K18<9,4.8)))))","v":4.8}]
[null,{"$f":"참여업체현황!$G$4","v":"토질 지질"},"등급",5,{"$f":"IF(H21=\"기술사\",5,IF(H21=\"특급\",5,IF(H21=\"고급\",4.5,IF(H21=\"중급\",4,IF(H21=\"초급\",3.5,IF(H21=\"\",0))))))","v":4.5},null,"김사동","고급",111111111,13,{"$f":"'1(2)참여기술자실적'!Q97","v":1},1,{"$f":"IF(L21>=2,\"1\",IF(L21=0,\"0\",IF(L21<2,\"0.5\")))","v":"0.5"}]
[null,null,"경력",7,{"$f":"IF(J21=\"15년이상\",7,IF(J21>=13,6.3,IF(J21>=11,5.6,IF(J21>=9,4.9,IF(J21<9,4.2)))))","v":6.3}]
[null,null,"실적",8,{"$f":"IF(K21>=15,8,IF(K21>=13,7.2,IF(K21>=11,6.4,IF(K21>=9,5.6,IF(K21<9,4.8)))))","v":4.8}]
[null,{"$f":"참여업체현황!$H$4","v":"일반기계"},"등급",5,{"$f":"IF(H24=\"기술사\",5,IF(H24=\"특급\",5,IF(H24=\"고급\",4.5,IF(H24=\"중급\",4,IF(H24=\"초급\",3.5,IF(H24=\"\",0))))))","v":4},null,"김오동","중급",2222222222,10,{"$f":"'1(2)참여기술자실적'!Q128","v":1},1,{"$f":"IF(L24>=2,\"1\",IF(L24=0,\"0\",IF(L24<2,\"0.5\")))","v":"0.5"}]
[null,null,"경력",7,{"$f":"IF(J24=\"15년이상\",7,IF(J24>=13,6.3,IF(J24>=11,5.6,IF(J24>=9,4.9,IF(J24<9,4.2)))))","v":4.9000000000000004}]
[null,null,"실적",8,{"$f":"IF(K24>=15,8,IF(K24>=13,7.2,IF(K24>=11,6.4,IF(K24>=9,5.6,IF(K24<9,4.8)))))","v":4.8}]
[null,{"$f":"참여업체현황!$I$4","v":"전기설비"},"등급",5,{"$f":"IF(H27=\"기술사\",5,IF(H27=\"특급\",5,IF(H27=\"고급\",4.5,IF(H27=\"중급\",4,IF(H27=\"초급\",3.5,IF(H27=\"\",0))))))","v":3.5},null,"김육동","초급",333333333,7,{"$f":"'1(2)참여기술자실적'!Q159","v":1},2,{"$f":"IF(L27>=2,\"1\",IF(L27=0,\"0\",IF(L27<2,\"0.5\")))","v":"1"}]
[null,null,"경력",7,{"$f":"IF(J27=\"15년이상\",7,IF(J27>=13,6.3,IF(J27>=11,5.6,IF(J27>=9,4.9,IF(J27<9,4.2)))))","v":4.2}]
[null,null,"실적",8,{"$f":"IF(K27>=15,8,IF(K27>=13,7.2,IF(K27>=11,6.4,IF(K27>=9,5.6,IF(K27<9,4.8)))))","v":4.8}]
["분야별\n참여\n기술자","총계","등급",2,{"$f":"ROUND((E33*0.5+E36*0.2+E39*0.1+E42*0.1+E45*0.1),2)","v":1.98},{"$f":"ROUND((F33+F36+F39+F42+F45)/5,2)","v":0},"-","-","-","-","-","-","-"]
[null,null,"경력",3,{"$f":"ROUND((E34*0.5+E37*0.2+E40*0.1+E43*0.1+E46*0.1),2)","v":2.7},{"$f":"ROUND((F34+F37+F40+F43+F46)/5,2)","v":0}]
[null,null,"실적",3,{"$f":"ROUND((E35*0.5+E38*0.2+E41*0.1+E44*0.1+E47*0.1),2)","v":1.8},{"$f":"ROUND((F35+F38+F41+F44+F47)/5,2)","v":0}]
[null,{"$f":"참여업체현황!$E$4","v":"상하수도"},"등급",2,{"$f":"IF(H33=\"기술사\",2,IF(H33=\"특급\",2,IF(H33=\"고급\",2,IF(H33=\"중급\",1.8,IF(H33=\"초급\",1.6,IF(H33=\"\",0))))))","v":2},null,"이일동","기술사","000000000000","10년이상",{"$f":"'1(2)참여기술자실적'!Q190","v":1},2,{"$f":"IF(L33>=2,\"1\",IF(L33=0,\"0\",IF(L33<2,\"0.5\")))","v":"1"}]
[null,null,"경력",3,{"$f":"IF(J33>=\"10년이상\",3,IF(J33>=8,2.7,IF(J33>=6,2.4,IF(J33>=4,2.1,IF(J33<4,1.8)))))","v":3}]
[null,null,"실적",3,{"$f":"IF(K33>=10,3,IF(K33>=8,2.7,IF(K33>=6,2.4,IF(K33>=4,2.1,IF(K33<4,1.8)))))","v":1.8}]
[null,{"$f":"참여업체현황!$F$4","v":"구조"},"등급",2,{"$f":"IF(H36=\"기술사\",2,IF(H36=\"특급\",2,IF(H36=\"고급\",2,IF(H36=\"중급\",1.8,IF(H36=\"초급\",1.6,IF(H36=\"\",0))))))","v":2},null,"이이동","특급","00000000000",8,{"$f":"'1(2)참여기술자실적'!Q221","v":1},1,{"$f":"IF(L36>=2,\"1\",IF(L36=0,\"0\",IF(L36<2,\"0.5\")))","v":"0.5"}]
[null,null,"경력",3,{"$f":"IF(J36>=\"10년이상\",3,IF(J36>=8,2.7,IF(J36>=6,2.4,IF(J36>=4,2.1,IF(J36<4,1.8)))))","v":2.7}]
[null,null,"실적",3,{"$f":"IF(K36>=10,3,IF(K36>=8,2.7,IF(K36>=6,2.4,IF(K36>=4,2.1,IF(K36<4,1.8)))))","v":1.8}]
[null,{"$f":"참여업체현황!$G$4","v":"토질 지질"},"등급",2,{"$f":"IF(H39=\"기술사\",2,IF(H39=\"특급\",2,IF(H39=\"고급\",2,IF(H39=\"중급\",1.8,IF(H39=\"초급\",1.6,IF(H39=\"\",0))))))","v":2},null,"이삼동","고급","00000000000",6,{"$f":"'1(2)참여기술자실적'!Q252","v":1},2,{"$f":"IF(L39>=2,\"1\",IF(L39=0,\"0\",IF(L39<2,\"0.5\")))","v":"1"}]
[null,null,"경력",3,{"$f":"IF(J39>=\"10년이상\",3,IF(J39>=8,2.7,IF(J39>=6,2.4,IF(J39>=4,2.1,IF(J39<4,1.8)))))","v":2.4}]
[null,null,"실적",3,{"$f":"IF(K39>=10,3,IF(K39>=8,2.7,IF(K39>=6,2.4,IF(K39>=4,2.1,IF(K39<4,1.8)))))","v":1.8}]
[null,{"$f":"참여업체현황!$H$4","v":"일반기계"},"등급",2,{"$f":"IF(H42=\"기술사\",2,IF(H42=\"특급\",2,IF(H42=\"고급\",2,IF(H42=\"중급\",1.8,IF(H42=\"초급\",1.6,IF(H42=\"\",0))))))","v":2},null,"이사동","고급","00000000000",5,{"$f":"'1(2)참여기술자실적'!Q283","v":1},3,{"$f":"IF(L42>=2,\"1\",IF(L42=0,\"0\",IF(L42<2,\"0.5\")))","v":"1"}]
[null,null,"경력",3,{"$f":"IF(J42>=\"10년이상\",3,IF(J42>=8,2.7,IF(J42>=6,2.4,IF(J42>=4,2.1,IF(J42<4,1.8)))))","v":2.1}]
[null,null,"실적",3,{"$f":"IF(K42>=10,3,IF(K42>=8,2.7,IF(K42>=6,2.4,IF(K42>=4,2.1,IF(K42<4,1.8)))))","v":1.8}]
[null,{"$f":"참여업체현황!$I$4","v":"전기설비"},"등급",2,{"$f":"IF(H45=\"기술사\",2,IF(H45=\"특급\",2,IF(H45=\"고급\",2,IF(H45=\"중급\",1.8,IF(H45=\"초급\",1.6,IF(H45=\"\",0))))))","v":1.8},null,"이오동","중급","00000000000",4,{"$f":"'1(2)참여기술자실적'!Q314","v":1},1,{"$f":"IF(L45>=2,\"1\",IF(L45=0,\"0\",IF(L45<2,\"0.5\")))","v":"0.5"}]
[null,null,"경력",3,{"$f":"IF(J45>=\"10년이상\",3,IF(J45>=8,2.7,IF(J45>=6,2.4,IF(J45>=4,2.1,IF(J45<4,1.8)))))","v":2.1}]
[null,null,"실적",3,{"$f":"IF(K45>=10,3,IF(K45>=8,2.7,IF(K45>=6,2.4,IF(K45>=4,2.1,IF(K45<4,1.8)))))","v":1.8}]
{"$rows_empty":11}
[null,"기술사",null,"기술사",null,null,1,1,1]
[null,"특급",null,"그외",null,null,2,2,2]
[null,"고급",{"$nulls":4},3,3,3]
[null,"중급",{"$nulls":4},4,4,4]
[null,"초급",{"$nulls":4},5,5,5]
[{"$nulls":6},6,6,6]
[{"$nulls":6},7,7,7]
[{"$nulls":6},8,8,8]
[{"$nulls":6},9,9,9]
[{"$nulls":6},10,10,"10년이상"]
[{"$nulls":6},11,11]
[{"$nulls":6},12,12]
[{"$nulls":6},13,13]
[{"$nulls":6},14,14]
[{"$nulls":6},15,"15년이상"]
[{"$nulls":6},16]
[{"$nulls":6},17]
[{"$nulls":6},18]
[{"$nulls":6},19]
[{"$nulls":6},"20년이상"]

{"sheet":"1(2)참여기술자실적","index":3,"n_rows":344,"n_cols":19,"rows_kept":344,"cut":false,"hidden":false,"merged":[[158,1,188,1],[159,2,188,2],[0,0,0,16],[2,0,3,1],[2,3,3,3],[2,2,3,2],[2,8,2,10],[2,14,3,14],[2,16,3,16],[2,15,3,15],[2,13,3,13],[2,4,3,4],[2,6,3,6],[2,5,3,5],[2,12,3,12],[2,11,3,11],[314,2,343,2],[313,1,343,1],[313,0,343,0],[283,2,312,2],[282,1,312,1],[282,0,312,0],[2,7,3,7],[5,2,33,2],[34,1,64,1],[65,1,95,1],[66,2,95,2],[4,0,33,1],[34,0,64,0],[35,2,64,2],[65,0,95,0],[252,2,281,2],[251,1,281,1],[251,0,281,0],[96,1,126,1],[97,2,126,2],[96,0,126,0],[127,1,157,1],[128,2,157,2],[127,0,157,0],[158,0,188,0],[221,2,250,2],[220,1,250,1],[220,0,250,0],[190,2,219,2],[189,1,219,1],[189,0,219,0]]}
["1-2. 참여기술자(실적)"]
[]
["구   분",null,"성  명","용역명","발주처","소속사","담당업무","계약기간(일)","참여기간",null,null,"용역준공일","참여비율","용역금액\n(원)","과업규모\n(m,㎥,㎥/일)","실적계수","실적건수"]
[{"$nulls":8},"참여시작일","종료일","기간(일)"]
["사업책임기술자",null,"합계","-","-","-","-","-","-","-","-","-","-","-","-","-",{"$f":"Q6+Q7+Q8+Q9+Q10+Q11+Q12+Q13+Q14+Q15+Q16+Q17+Q18+Q19+Q20+Q21+Q22+Q23+Q24+Q25+Q26+Q27+Q28+Q29+Q30+Q31+Q32+Q33+Q34","v":1}]
[null,null,"홍길동","00용역","00공사","00엔지니어링","상하수도",400,"2009-10-11","2010-10-12",{"$f":"IF(J6-I6=0,\" \",IF(J6-I6>0,J6-I6+1))","v":367},"2011-10-12",{"$f":"IF(H6=0,\" \",IF(H6>0,K6/H6))","v":0.91749999999999998},756132564,10000,{"$f":"IF(N6=0,\" \",IF(N6>0,N6/총괄표!$E$4))","v":1.3200615292221907},{"$f":"IF(H6<90,\"0\",IF(S6>10,\"0\",IF(M6<30%,\"0\",IF(P6=\" \",\"0\",IF(P6>=200%,\"2\",IF(P6>=150%,\"1.5\",IF(P6>=100%,\"1\",IF(P6>=50%,\"0.5\",IF(P6<50%,\"0\")))))))))","v":"1"},null,{"$f":"IF(L6=\"\",\"0\",(총괄표!$H$3-L6)/365)","v":0.98356164383561639}]
[null,null,null,"00용역","0공사","000엔지니어링","상하수도",600,"2008-10-10","2009-12-11",{"$f":"IF(J7-I7=0,\" \",IF(J7-I7>0,J7-I7+1))","v":428},"2009-12-11",{"$f":"IF(H7=0,\" \",IF(H7>0,K7/H7))","v":0.71333333333333337},123352213,1800000,{"$f":"IF(N7=0,\" \",IF(N7>0,N7/총괄표!$E$4))","v":0.21534915790998968},"0",null,{"$f":"IF(L7=\"\",\"0\",(총괄표!$H$3-L7)/365)","v":2.8191780821917809}]
[{"$nulls":4},"0공사","000엔지니어링","상하수도",800,"2009-10-11","2010-10-10",{"$f":"IF(J8-I8=0,\" \",IF(J8-I8>0,J8-I8+1))","v":365},"2010-10-10",0.45624999999999999,123352213,1700000,{"$f":"IF(N8=0,\" \",IF(N8>0,N8/총괄표!$E$4))","v":0.21534915790998968},"0",null,{"$f":"IF(L8=\"\",\"0\",(총괄표!$H$3-L8)/365)","v":1.989041095890411}]
[{"$nulls":4},"0공사","000엔지니어링","상하수도",600,"2008-09-09","2010-01-01",480,"2010-01-01",0.8,123352213,1600000,{"$f":"IF(N9=0,\" \",IF(N9>0,N9/총괄표!$E$4))","v":0.21534915790998968},"0",null,{"$f":"IF(L9=\"\",\"0\",(총괄표!$H$3-L9)/365)","v":2.7616438356164386}]
[{"$nulls":4},"0공사","000엔지니어링","상하수도",500,"2007-12-12","2009-12-11",731,"2010-05-05",1.462,123352213,1500000,{"$f":"IF(N10=0,\" \",IF(N10>0,N10/총괄표!$E$4))","v":0.21534915790998968},"0",null,{"$f":"IF(L10=\"\",\"0\",(총괄표!$H$3-L10)/365)","v":2.4219178082191779}]
[{"$nulls":4},"0공사","000엔지니어링","상하수도",400,"2009-10-11","2009-12-11",62,"2010-02-02",0.155,123352213,1400000,{"$f":"IF(N11=0,\" \",IF(N11>0,N11/총괄표!$E$4))","v":0.21534915790998968},"0",null,{"$f":"IF(L11=\"\",\"0\",(총괄표!$H$3-L11)/365)","v":2.6739726027397261}]
[{"$nulls":4},"0공사","000엔지니어링","상하수도",600,"2008-10-10","2009-12-11",428,"2009-12-11",0.71333333333333337,123352213,1300000,{"$f":"IF(N12=0,\" \",IF(N12>0,N12/총괄표!$E$4))","v":0.21534915790998968},"0",null,{"$f":"IF(L12=\"\",\"0\",(총괄표!$H$3-L12)/365)","v":2.8191780821917809}]
[{"$nulls":4},"0공사","000엔지니어링","상하수도",800,"2009-10-11","2010-10-10",{"$f":"IF(J13-I13=0,\" \",IF(J13-I13>0,J13-I13+1))","v":365},"2010-10-10",0.45624999999999999,123352213,1200000,{"$f":"IF(N13=0,\" \",IF(N13>0,N13/총괄표!$E$4))","v":0.21534915790998968},"0",null,{"$f":"IF(L13=\"\",\"0\",(총괄표!$H$3-L13)/365)","v":1.989041095890411}]
[{"$nulls":4},"0공사","000엔지니어링","상하수도",600,"2008-09-09","2010-01-01",480,"2010-01-01",0.8,123352213,1100000,{"$f":"IF(N14=0,\" \",IF(N14>0,N14/총괄표!$E$4))","v":0.21534915790998968},"0",null,{"$f":"IF(L14=\"\",\"0\",(총괄표!$H$3-L14)/365)","v":2.7616438356164386}]
[{"$nulls":4},"0공사","000엔지니어링","상하수도",500,"2007-12-12","2009-12-11",731,"2010-05-05",1.462,123352213,1000000,{"$f":"IF(N15=0,\" \",IF(N15>0,N15/총괄표!$E$4))","v":0.21534915790998968},"0",null,{"$f":"IF(L15=\"\",\"0\",(총괄표!$H$3-L15)/365)","v":2.4219178082191779}]
[{"$nulls":4},"0공사","000엔지니어링","상하수도",400,"2009-10-11","2009-12-11",62,"2010-02-02",0.155,123352213,900000,{"$f":"IF(N16=0,\" \",IF(N16>0,N16/총괄표!$E$4))","v":0.21534915790998968},"0",null,{"$f":"IF(L16=\"\",\"0\",(총괄표!$H$3-L16)/365)","v":2.6739726027397261}]
[{"$nulls":4},"0공사","000엔지니어링","상하수도",800,"2009-10-11","2010-10-10",365,"2010-10-10",0.45624999999999999,123352213,700000,{"$f":"IF(N17=0,\" \",IF(N17>0,N17/총괄표!$E$4))","v":0.21534915790998968},"0",null,{"$f":"IF(L17=\"\",\"0\",(총괄표!$H$3-L17)/365)","v":1.989041095890411}]
[{"$nulls":4},"0공사","000엔지니어링","상하수도",600,"2008-09-09","2010-01-01",480,"2010-01-01",0.8,123352213,600000,{"$f":"IF(N18=0,\" \",IF(N18>0,N18/총괄표!$E$4))","v":0.21534915790998968},"0",null,{"$f":"IF(L18=\"\",\"0\",(총괄표!$H$3-L18)/365)","v":2.7616438356164386}]
[{"$nulls":4},"0공사","000엔지니어링","상하수도",500,"2007-12-12","2009-12-11",731,"2010-05-05",1.462,123352213,500000,{"$f":"IF(N19=0,\" \",IF(N19>0,N19/총괄표!$E$4))","v":0.21534915790998968},"0",null,{"$f":"IF(L19=\"\",\"0\",(총괄표!$H$3-L19)/365)","v":2.4219178082191779}]
[{"$nulls":4},"0공사","000엔지니어링","상하수도",400,"2009-10-11","2009-12-11",62,"2010-02-02",0.155,123352213,400000,{"$f":"IF(N20=0,\" \",IF(N20>0,N20/총괄표!$E$4))","v":0.21534915790998968},"0",null,{"$f":"IF(L20=\"\",\"0\",(총괄표!$H$3-L20)/365)","v":2.6739726027397261}]
[{"$nulls":4},"0공사","000엔지니어링","상하수도",600,"2008-10-10","2009-12-11",428,"2009-12-11",0.71333333333333337,123352213,3000000,{"$f":"IF(N21=0,\" \",IF(N21>0,N21/총괄표!$E$4))","v":0.21534915790998968},"0",null,{"$f":"IF(L21=\"\",\"0\",(총괄표!$H$3-L21)/365)","v":2.8191780821917809}]
[{"$nulls":4},"0공사","000엔지니어링","상하수도",800,"2009-10-11","2010-10-10",365,"2010-10-10",0.45624999999999999,123352213,3000000,{"$f":"IF(N22=0,\" \",IF(N22>0,N22/총괄표!$E$4))","v":0.21534915790998968},"0",null,{"$f":"IF(L22=\"\",\"0\",(총괄표!$H$3-L22)/365)","v":1.989041095890411}]
[{"$nulls":4},"0공사","000엔지니어링","상하수도",600,"2008-09-09","2010-01-01",480,"2010-01-01",0.8,123352213,3000000,{"$f":"IF(N23=0,\" \",IF(N23>0,N23/총괄표!$E$4))","v":0.21534915790998968},"0",null,{"$f":"IF(L23=\"\",\"0\",(총괄표!$H$3-L23)/365)","v":2.7616438356164386}]
[{"$nulls":4},"0공사","000엔지니어링","상하수도",500,"2007-12-12","2009-12-11",731,"2010-05-05",1.462,123352213,3000000,{"$f":"IF(N24=0,\" \",IF(N24>0,N24/총괄표!$E$4))","v":0.21534915790998968},"0",null,{"$f":"IF(L24=\"\",\"0\",(총괄표!$H$3-L24)/365)","v":2.4219178082191779}]
[{"$nulls":4},"0공사","000엔지니어링","상하수도",400,"2009-10-11","2009-12-11",62,"2010-02-02",0.155,123352213,3000000,{"$f":"IF(N25=0,\" \",IF(N25>0,N25/총괄표!$E$4))","v":0.21534915790998968},"0",null,{"$f":"IF(L25=\"\",\"0\",(총괄표!$H$3-L25)/365)","v":2.6739726027397261}]
[{"$nulls":10},{"$f":"IF(J26-I26=0,\" \",IF(J26-I26>0,J26-I26+1))","v":" "},null,{"$f":"IF(H26=0,\" \",IF(H26>0,K26/H26))","v":" "},null,null,{"$f":"IF(N26=0,\" \",IF(N26>0,N26/총괄표!$E$4))","v":" "},"0",null,{"$f":"IF(L26=\"\",\"0\",(총괄표!$H$3-L26)/365)","v":"0"}]
[{"$nulls":10}," ",null," ",null,null,{"$f":"IF(N27=0,\" \",IF(N27>0,N27/총괄표!$E$4))","v":" "},"0",null,{"$f":"IF(L27=\"\",\"0\",(총괄표!$H$3-L27)/365)","v":"0"}]
[{"$nulls":10}," ",null," ",null,null,{"$f":"IF(N28=0,\" \",IF(N28>0,N28/총괄표!$E$4))","v":" "},"0",null,{"$f":"IF(L28=\"\",\"0\",(총괄표!$H$3-L28)/365)","v":"0"}]
[{"$nulls":10}," ",null," ",null,null,{"$f":"IF(N29=0,\" \",IF(N29>0,N29/총괄표!$E$4))","v":" "},"0",null,{"$f":"IF(L29=\"\",\"0\",(총괄표!$H$3-L29)/365)","v":"0"}]
[{"$nulls":10}," ",null," ",null,null,{"$f":"IF(N30=0,\" \",IF(N30>0,N30/총괄표!$E$4))","v":" "},"0",null,{"$f":"IF(L30=\"\",\"0\",(총괄표!$H$3-L30)/365)","v":"0"}]
[{"$nulls":10}," ",null," ",null,null,{"$f":"IF(N31=0,\" \",IF(N31>0,N31/총괄표!$E$4))","v":" "},"0",null,{"$f":"IF(L31=\"\",\"0\",(총괄표!$H$3-L31)/365)","v":"0"}]
[{"$nulls":10}," ",null," ",null,null,{"$f":"IF(N32=0,\" \",IF(N32>0,N32/총괄표!$E$4))","v":" "},"0",null,{"$f":"IF(L32=\"\",\"0\",(총괄표!$H$3-L32)/365)","v":"0"}]
[{"$nulls":10}," ",null," ",null,null,{"$f":"IF(N33=0,\" \",IF(N33>0,N33/총괄표!$E$4))","v":" "},"0",null,{"$f":"IF(L33=\"\",\"0\",(총괄표!$H$3-L33)/365)","v":"0"}]
[{"$nulls":10}," ",null," ",null,null,{"$f":"IF(N34=0,\" \",IF(N34>0,N34/총괄표!$E$4))","v":" "},"0",null,{"$f":"IF(L34=\"\",\"0\",(총괄표!$H$3-L34)/365)","v":"0"}]
["분야별\n책임\n기술자",{"$f":"참여업체현황!E4","v":"상하수도"},"합계","-","-","-","-",null,"-","-","-",null,null,"-","-","-",{"$f":"Q36+Q37+Q38+Q39+Q40+Q41+Q42+Q43+Q44+Q45+Q46+Q47+Q48+Q49+Q50+Q51+Q52+Q53+Q54+Q55+Q56+Q57+Q58+Q59+Q60+Q61+Q62+Q63+Q64+Q65","v":1},null,{"$f":"IF(L35=\"\",\"0\",(총괄표!$H$3-L35)/365)","v":"0"}]
[null,null,null,"00용역","00공사","00엔지니어링",{"$f":"$B$35","v":"상하수도"},400,"2009-10-11","2010-10-12",{"$f":"IF(J36-I36=0,\" \",IF(J36-I36>0,J36-I36+1))","v":367},"2010-10-12",{"$f":"IF(H36=0,\" \",IF(H36>0,K36/H36))","v":0.91749999999999998},756132564,1900000,{"$f":"IF(N36=0,\" \",IF(N36>0,N36/총괄표!$E$4))","v":1.3200615292221907},{"$f":"IF(H36<90,\"0\",IF(S36>10,\"0\",IF(M36<30%,\"0\",IF(P36=\" \",\"0\",IF(P36>=200%,\"2\",IF(P36>=150%,\"1.5\",IF(P36>=100%,\"1\",IF(P36>=50%,\"0.5\",IF(P36<50%,\"0\")))))))))","v":"1"},null,{"$f":"IF(L36=\"\",\"0\",(총괄표!$H$3-L36)/365)","v":1.9835616438356165}]
[null,null,null,"00용역","0공사","000엔지니어링",{"$f":"$B$35","v":"상하수도"},600,"2008-10-10","2009-12-11",{"$f":"IF(J37-I37=0,\" \",IF(J37-I37>0,J37-I37+1))","v":428},"2009-12-11",0.71333333333333337,123352213,1800000,{"$f":"IF(N37=0,\" \",IF(N37>0,N37/총괄표!$E$4))","v":0.21534915790998968},"0",null,{"$f":"IF(L37=\"\",\"0\",(총괄표!$H$3-L37)/365)","v":2.8191780821917809}]
[{"$nulls":4},"0공사","000엔지니어링","상하수도",800,"2009-10-11","2010-10-10",365,"2010-10-10",0.45624999999999999,123352213,1700000,{"$f":"IF(N38=0,\" \",IF(N38>0,N38/총괄표!$E$4))","v":0.21534915790998968},"0",null,{"$f":"IF(L38=\"\",\"0\",(총괄표!$H$3-L38)/365)","v":1.989041095890411}]
[{"$nulls":4},"0공사","000엔지니어링","상하수도",600,"2008-09-09","2010-01-01",480,"2010-01-01",0.8,123352213,1600000,{"$f":"IF(N39=0,\" \",IF(N39>0,N39/총괄표!$E$4))","v":0.21534915790998968},"0",null,{"$f":"IF(L39=\"\",\"0\",(총괄표!$H$3-L39)/365)","v":2.7616438356164386}]
[{"$nulls":4},"0공사","000엔지니어링","상하수도",500,"2007-12-12","2009-12-11",731,"2010-05-05",1.462,123352213,1500000,{"$f":"IF(N40=0,\" \",IF(N40>0,N40/총괄표!$E$4))","v":0.21534915790998968},"0",null,{"$f":"IF(L40=\"\",\"0\",(총괄표!$H$3-L40)/365)","v":2.4219178082191779}]
[{"$nulls":4},"0공사","000엔지니어링","상하수도",400,"2009-10-11","2009-12-11",62,"2010-02-02",0.155,123352213,1400000,{"$f":"IF(N41=0,\" \",IF(N41>0,N41/총괄표!$E$4))","v":0.21534915790998968},"0",null,{"$f":"IF(L41=\"\",\"0\",(총괄표!$H$3-L41)/365)","v":2.6739726027397261}]
[{"$nulls":4},"0공사","000엔지니어링","상하수도",600,"2008-10-10","2009-12-11",428,"2009-12-11",0.71333333333333337,123352213,1300000,{"$f":"IF(N42=0,\" \",IF(N42>0,N42/총괄표!$E$4))","v":0.21534915790998968},"0",null,{"$f":"IF(L42=\"\",\"0\",(총괄표!$H$3-L42)/365)","v":2.8191780821917809}]
[{"$nulls":4},"0공사","000엔지니어링","상하수도",800,"2009-10-11","2010-10-10",365,"2010-10-10",0.45624999999999999,123352213,1200000,{"$f":"IF(N43=0,\" \",IF(N43>0,N43/총괄표!$E$4))","v":0.21534915790998968},"0",null,{"$f":"IF(L43=\"\",\"0\",(총괄표!$H$3-L43)/365)","v":1.989041095890411}]
[{"$nulls":4},"0공사","000엔지니어링","상하수도",600,"2008-09-09","2010-01-01",480,"2010-01-01",0.8,123352213,1100000,{"$f":"IF(N44=0,\" \",IF(N44>0,N44/총괄표!$E$4))","v":0.21534915790998968},"0",null,{"$f":"IF(L44=\"\",\"0\",(총괄표!$H$3-L44)/365)","v":2.7616438356164386}]
[{"$nulls":4},"0공사","000엔지니어링","상하수도",500,"2007-12-12","2009-12-11",731,"2010-05-05",1.462,123352213,1000000,{"$f":"IF(N45=0,\" \",IF(N45>0,N45/총괄표!$E$4))","v":0.21534915790998968},"0",null,{"$f":"IF(L45=\"\",\"0\",(총괄표!$H$3-L45)/365)","v":2.4219178082191779}]
[{"$nulls":4},"0공사","000엔지니어링","상하수도",400,"2009-10-11","2009-12-11",62,"2010-02-02",0.155,123352213,900000,{"$f":"IF(N46=0,\" \",IF(N46>0,N46/총괄표!$E$4))","v":0.21534915790998968},"0",null,{"$f":"IF(L46=\"\",\"0\",(총괄표!$H$3-L46)/365)","v":2.6739726027397261}]
[{"$nulls":4},"0공사","000엔지니어링","상하수도",600,"2008-10-10","2009-12-11",428,"2009-12-11",0.71333333333333337,123352213,700000,{"$f":"IF(N47=0,\" \",IF(N47>0,N47/총괄표!$E$4))","v":0.21534915790998968},"0",null,{"$f":"IF(L47=\"\",\"0\",(총괄표!$H$3-L47)/365)","v":2.8191780821917809}]
[{"$nulls":4},"0공사","000엔지니어링","상하수도",800,"2009-10-11","2010-10-10",365,"2010-10-10",0.45624999999999999,123352213,600000,{"$f":"IF(N48=0,\" \",IF(N48>0,N48/총괄표!$E$4))","v":0.21534915790998968},"0",null,{"$f":"IF(L48=\"\",\"0\",(총괄표!$H$3-L48)/365)","v":1.989041095890411}]
[{"$nulls":4},"0공사","000엔지니어링","상하수도",600,"2008-09-09","2010-01-01",480,"2010-01-01",0.8,123352213,500000,{"$f":"IF(N49=0,\" \",IF(N49>0,N49/총괄표!$E$4))","v":0.21534915790998968},"0",null,{"$f":"IF(L49=\"\",\"0\",(총괄표!$H$3-L49)/365)","v":2.7616438356164386}]
[{"$nulls":4},"0공사","000엔지니어링","상하수도",500,"2007-12-12","2009-12-11",731,"2010-05-05",1.462,123352213,400000,{"$f":"IF(N50=0,\" \",IF(N50>0,N50/총괄표!$E$4))","v":0.21534915790998968},"0",null,{"$f":"IF(L50=\"\",\"0\",(총괄표!$H$3-L50)/365)","v":2.4219178082191779}]
[{"$nulls":4},"0공사","000엔지니어링","상하수도",400,"2009-10-11","2009-12-11",62,"2010-02-02",0.155,123352213,3000000,{"$f":"IF(N51=0,\" \",IF(N51>0,N51/총괄표!$E$4))","v":0.21534915790998968},"0",null,{"$f":"IF(L51=\"\",\"0\",(총괄표!$H$3-L51)/365)","v":2.6739726027397261}]
[{"$nulls":10},{"$f":"IF(J52-I52=0,\" \",IF(J52-I52>0,J52-I52+1))","v":" "},null,{"$f":"IF(H52=0,\" \",IF(H52>0,K52/H52))","v":" "},null,null,{"$f":"IF(N52=0,\" \",IF(N52>0,N52/총괄표!$E$4))","v":" "},"0",null,{"$f":"IF(L52=\"\",\"0\",(총괄표!$H$3-L52)/365)","v":"0"}]
[{"$nulls":10}," ",null," ",null,null,{"$f":"IF(N53=0,\" \",IF(N53>0,N53/총괄표!$E$4))","v":" "},"0",null,{"$f":"IF(L53=\"\",\"0\",(총괄표!$H$3-L53)/365)","v":"0"}]
[{"$nulls":10}," ",null," ",null,null,{"$f":"IF(N54=0,\" \",IF(N54>0,N54/총괄표!$E$4))","v":" "},"0",null,{"$f":"IF(L54=\"\",\"0\",(총괄표!$H$3-L54)/365)","v":"0"}]
[{"$nulls":10}," ",null," ",null,null,{"$f":"IF(N55=0,\" \",IF(N55>0,N55/총괄표!$E$4))","v":" "},"0",null,{"$f":"IF(L55=\"\",\"0\",(총괄표!$H$3-L55)/365)","v":"0"}]
[{"$nulls":10}," ",null," ",null,null,{"$f":"IF(N56=0,\" \",IF(N56>0,N56/총괄표!$E$4))","v":" "},"0",null,{"$f":"IF(L56=\"\",\"0\",(총괄표!$H$3-L56)/365)","v":"0"}]
[{"$nulls":10}," ",null," ",null,null,{"$f":"IF(N57=0,\" \",IF(N57>0,N57/총괄표!$E$4))","v":" "},"0",null,{"$f":"IF(L57=\"\",\"0\",(총괄표!$H$3-L57)/365)","v":"0"}]
[{"$nulls":10}," ",null," ",null,null,{"$f":"IF(N58=0,\" \",IF(N58>0,N58/총괄표!$E$4))","v":" "},"0",null,{"$f":"IF(L58=\"\",\"0\",(총괄표!$H$3-L58)/365)","v":"0"}]
[{"$nulls":10}," ",null," ",null,null,{"$f":"IF(N59=0,\" \",IF(N59>0,N59/총괄표!$E$4))","v":" "},"0",null,{"$f":"IF(L59=\"\",\"0\",(총괄표!$H$3-L59)/365)","v":"0"}]
[{"$nulls":10}," ",null," ",null,null,{"$f":"IF(N60=0,\" \",IF(N60>0,N60/총괄표!$E$4))","v":" "},"0",null,{"$f":"IF(L60=\"\",\"0\",(총괄표!$H$3-L60)/365)","v":"0"}]
[{"$nulls":10}," ",null," ",null,null,{"$f":"IF(N61=0,\" \",IF(N61>0,N61/총괄표!$E$4))","v":" "},"0",null,{"$f":"IF(L61=\"\",\"0\",(총괄표!$H$3-L61)/365)","v":"0"}]
[{"$nulls":10}," ",null," ",null,null,{"$f":"IF(N62=0,\" \",IF(N62>0,N62/총괄표!$E$4))","v":" "},"0",null,{"$f":"IF(L62=\"\",\"0\",(총괄표!$H$3-L62)/365)","v":"0"}]
[{"$nulls":10}," ",null," ",null,null,{"$f":"IF(N63=0,\" \",IF(N63>0,N63/총괄표!$E$4))","v":" "},"0",null,{"$f":"IF(L63=\"\",\"0\",(총괄표!$H$3-L63)/365)","v":"0"}]
[{"$nulls":10}," ",null," ",null,null,{"$f":"IF(N64=0,\" \",IF(N64>0,N64/총괄표!$E$4))","v":" "},"0",null,{"$f":"IF(L64=\"\",\"0\",(총괄표!$H$3-L64)/365)","v":"0"}]
[{"$nulls":10}," ",null," ",null,null,{"$f":"IF(N65=0,\" \",IF(N65>0,N65/총괄표!$E$4))","v":" "},"0",null,{"$f":"IF(L65=\"\",\"0\",(총괄표!$H$3-L65)/365)","v":"0"}]
["분야별\n책임\n기술자",{"$f":"참여업체현황!F4","v":"구조"},"합계","-","-","-","-",null,"-","-","-",null,null,"-","-","-",{"$f":"Q67+Q68+Q69+Q70+Q71+Q72+Q73+Q74+Q75+Q76+Q77+Q78+Q79+Q80+Q81+Q82+Q83+Q84+Q85+Q86+Q87+Q88+Q89+Q90+Q91+Q92+Q93+Q94+Q95+Q96","v":1},null,{"$f":"IF(L66=\"\",\"0\",(총괄표!$H$3-L66)/365)","v":"0"}]
[null,null,null,"00용역","00공사","00엔지니어링","구조",400,"2009-10-11","2010-10-12",{"$f":"IF(J67-I67=0,\" \",IF(J67-I67>0,J67-I67+1))","v":367},"2010-10-12",{"$f":"IF(H67=0,\" \",IF(H67>0,K67/H67))","v":0.91749999999999998},756132564,1900000,{"$f":"IF(N67=0,\" \",IF(N67>0,N67/총괄표!$E$4))","v":1.3200615292221907},{"$f":"IF(H67<90,\"0\",IF(S67>10,\"0\",IF(M67<30%,\"0\",IF(P67=\" \",\"0\",IF(P67>=200%,\"2\",IF(P67>=150%,\"1.5\",IF(P67>=100%,\"1\",IF(P67>=50%,\"0.5\",IF(P67<50%,\"0\")))))))))","v":"1"},null,{"$f":"IF(L67=\"\",\"0\",(총괄표!$H$3-L67)/365)","v":1.9835616438356165}]
[null,null,null,"00용역","0공사","000엔지니어링","구조",600,"2008-10-10","2009-12-11",{"$f":"IF(J68-I68=0,\" \",IF(J68-I68>0,J68-I68+1))","v":428},"2009-12-11",0.71333333333333337,123352213,1800000,{"$f":"IF(N68=0,\" \",IF(N68>0,N68/총괄표!$E$4))","v":0.21534915790998968},"0",null,{"$f":"IF(L68=\"\",\"0\",(총괄표!$H$3-L68)/365)","v":2.8191780821917809}]
[{"$nulls":4},"0공사","000엔지니어링","구조",800,"2009-10-11","2010-10-10",365,"2010-10-10",0.45624999999999999,123352213,1700000,{"$f":"IF(N69=0,\" \",IF(N69>0,N69/총괄표!$E$4))","v":0.21534915790998968},"0",null,{"$f":"IF(L69=\"\",\"0\",(총괄표!$H$3-L69)/365)","v":1.989041095890411}]
[{"$nulls":4},"0공사","000엔지니어링","구조",600,"2008-09-09","2010-01-01",480,"2010-01-01",0.8,123352213,1600000,{"$f":"IF(N70=0,\" \",IF(N70>0,N70/총괄표!$E$4))","v":0.21534915790998968},"0",null,{"$f":"IF(L70=\"\",\"0\",(총괄표!$H$3-L70)/365)","v":2.7616438356164386}]
[{"$nulls":4},"0공사","000엔지니어링","구조",500,"2007-12-12","2009-12-11",731,"2010-05-05",1.462,123352213,1500000,{"$f":"IF(N71=0,\" \",IF(N71>0,N71/총괄표!$E$4))","v":0.21534915790998968},"0",null,{"$f":"IF(L71=\"\",\"0\",(총괄표!$H$3-L71)/365)","v":2.4219178082191779}]
[{"$nulls":4},"0공사","000엔지니어링","구조",400,"2009-10-11","2009-12-11",62,"2010-02-02",0.155,123352213,1400000,{"$f":"IF(N72=0,\" \",IF(N72>0,N72/총괄표!$E$4))","v":0.21534915790998968},"0",null,{"$f":"IF(L72=\"\",\"0\",(총괄표!$H$3-L72)/365)","v":2.6739726027397261}]
[{"$nulls":4},"0공사","000엔지니어링","구조",600,"2008-10-10","2009-12-11",428,"2009-12-11",0.71333333333333337,123352213,1300000,{"$f":"IF(N73=0,\" \",IF(N73>0,N73/총괄표!$E$4))","v":0.21534915790998968},"0",null,{"$f":"IF(L73=\"\",\"0\",(총괄표!$H$3-L73)/365)","v":2.8191780821917809}]
[{"$nulls":4},"0공사","000엔지니어링","구조",800,"2009-10-11","2010-10-10",365,"2010-10-10",0.45624999999999999,123352213,1200000,{"$f":"IF(N74=0,\" \",IF(N74>0,N74/총괄표!$E$4))","v":0.21534915790998968},"0",null,{"$f":"IF(L74=\"\",\"0\",(총괄표!$H$3-L74)/365)","v":1.989041095890411}]
[{"$nulls":4},"0공사","000엔지니어링","구조",600,"2008-09-09","2010-01-01",480,"2010-01-01",0.8,123352213,1100000,{"$f":"IF(N75=0,\" \",IF(N75>0,N75/총괄표!$E$4))","v":0.21534915790998968},"0",null,{"$f":"IF(L75=\"\",\"0\",(총괄표!$H$3-L75)/365)","v":2.7616438356164386}]
[{"$nulls":4},"0공사","000엔지니어링","구조",500,"2007-12-12","2009-12-11",731,"2010-05-05",1.462,123352213,1000000,{"$f":"IF(N76=0,\" \",IF(N76>0,N76/총괄표!$E$4))","v":0.21534915790998968},"0",null,{"$f":"IF(L76=\"\",\"0\",(총괄표!$H$3-L76)/365)","v":2.4219178082191779}]
[{"$nulls":4},"0공사","000엔지니어링","구조",400,"2009-10-11","2009-12-11",62,"2010-02-02",0.155,123352213,900000,{"$f":"IF(N77=0,\" \",IF(N77>0,N77/총괄표!$E$4))","v":0.21534915790998968},"0",null,{"$f":"IF(L77=\"\",\"0\",(총괄표!$H$3-L77)/365)","v":2.6739726027397261}]
[{"$nulls":4},"0공사","000엔지니어링","구조",600,"2008-10-10","2009-12-11",428,"2009-12-11",0.71333333333333337,123352213,700000,{"$f":"IF(N78=0,\" \",IF(N78>0,N78/총괄표!$E$4))","v":0.21534915790998968},"0",null,{"$f":"IF(L78=\"\",\"0\",(총괄표!$H$3-L78)/365)","v":2.8191780821917809}]
[{"$nulls":4},"0공사","000엔지니어링","구조",800,"2009-10-11","2010-10-10",365,"2010-10-10",0.45624999999999999,123352213,600000,{"$f":"IF(N79=0,\" \",IF(N79>0,N79/총괄표!$E$4))","v":0.21534915790998968},"0",null,{"$f":"IF(L79=\"\",\"0\",(총괄표!$H$3-L79)/365)","v":1.989041095890411}]
[{"$nulls":4},"0공사","000엔지니어링","구조",600,"2008-09-09","2010-01-01",480,"2010-01-01",0.8,123352213,500000,{"$f":"IF(N80=0,\" \",IF(N80>0,N80/총괄표!$E$4))","v":0.21534915790998968},"0",null,{"$f":"IF(L80=\"\",\"0\",(총괄표!$H$3-L80)/365)","v":2.7616438356164386}]
[{"$nulls":4},"0공사","000엔지니어링","구조",500,"2007-12-12","2009-12-11",731,"2010-05-05",1.462,123352213,400000,{"$f":"IF(N81=0,\" \",IF(N81>0,N81/총괄표!$E$4))","v":0.21534915790998968},"0",null,{"$f":"IF(L81=\"\",\"0\",(총괄표!$H$3-L81)/365)","v":2.4219178082191779}]
[{"$nulls":4},"0공사","000엔지니어링","구조",400,"2009-10-11","2009-12-11",62,"2010-02-02",0.155,123352213,3000000,{"$f":"IF(N82=0,\" \",IF(N82>0,N82/총괄표!$E$4))","v":0.21534915790998968},"0",null,{"$f":"IF(L82=\"\",\"0\",(총괄표!$H$3-L82)/365)","v":2.6739726027397261}]
[{"$nulls":10},{"$f":"IF(J83-I83=0,\" \",IF(J83-I83>0,J83-I83+1))","v":" "},null,{"$f":"IF(H83=0,\" \",IF(H83>0,K83/H83))","v":" "},null,null,{"$f":"IF(N83=0,\" \",IF(N83>0,N83/총괄표!$E$4))","v":" "},"0",null,{"$f":"IF(L83=\"\",\"0\",(총괄표!$H$3-L83)/365)","v":"0"}]
[{"$nulls":10}," ",null," ",null,null,{"$f":"IF(N84=0,\" \",IF(N84>0,N84/총괄표!$E$4))","v":" "},"0",null,{"$f":"IF(L84=\"\",\"0\",(총괄표!$H$3-L84)/365)","v":"0"}]
[{"$nulls":10}," ",null," ",null,null,{"$f":"IF(N85=0,\" \",IF(N85>0,N85/총괄표!$E$4))","v":" "},"0",null,{"$f":"IF(L85=\"\",\"0\",(총괄표!$H$3-L85)/365)","v":"0"}]
[{"$nulls":10}," ",null," ",null,null,{"$f":"IF(N86=0,\" \",IF(N86>0,N86/총괄표!$E$4))","v":" "},"0",null,{"$f":"IF(L86=\"\",\"0\",(총괄표!$H$3-L86)/365)","v":"0"}]
[{"$nulls":10}," ",null," ",null,null,{"$f":"IF(N87=0,\" \",IF(N87>0,N87/총괄표!$E$4))","v":" "},"0",null,{"$f":"IF(L87=\"\",\"0\",(총괄표!$H$3-L87)/365)","v":"0"}]
[{"$nulls":10}," ",null," ",null,null,{"$f":"IF(N88=0,\" \",IF(N88>0,N88/총괄표!$E$4))","v":" "},"0",null,{"$f":"IF(L88=\"\",\"0\",(총괄표!$H$3-L88)/365)","v":"0"}]
[{"$nulls":10}," ",null," ",null,null,{"$f":"IF(N89=0,\" \",IF(N89>0,N89/총괄표!$E$4))","v":" "},"0",null,{"$f":"IF(L89=\"\",\"0\",(총괄표!$H$3-L89)/365)","v":"0"}]
[{"$nulls":10}," ",null," ",null,null,{"$f":"IF(N90=0,\" \",IF(N90>0,N90/총괄표!$E$4))","v":" "},"0",null,{"$f":"IF(L90=\"\",\"0\",(총괄표!$H$3-L90)/365)","v":"0"}]
[{"$nulls":10}," ",null," ",null,null,{"$f":"IF(N91=0,\" \",IF(N91>0,N91/총괄표!$E$4))","v":" "},"0",null,{"$f":"IF(L91=\"\",\"0\",(총괄표!$H$3-L91)/365)","v":"0"}]
[{"$nulls":10}," ",null," ",null,null,{"$f":"IF(N92=0,\" \",IF(N92>0,N92/총괄표!$E$4))","v":" "},"0",null,{"$f":"IF(L92=\"\",\"0\",(총괄표!$H$3-L92)/365)","v":"0"}]
[{"$nulls":10}," ",null," ",null,null,{"$f":"IF(N93=0,\" \",IF(N93>0,N93/총괄표!$E$4))","v":" "},"0",null,{"$f":"IF(L93=\"\",\"0\",(총괄표!$H$3-L93)/365)","v":"0"}]
[{"$nulls":10}," ",null," ",null,null,{"$f":"IF(N94=0,\" \",IF(N94>0,N94/총괄표!$E$4))","v":" "},"0",null,{"$f":"IF(L94=\"\",\"0\",(총괄표!$H$3-L94)/365)","v":"0"}]
[{"$nulls":10}," ",null," ",null,null,{"$f":"IF(N95=0,\" \",IF(N95>0,N95/총괄표!$E$4))","v":" "},"0",null,{"$f":"IF(L95=\"\",\"0\",(총괄표!$H$3-L95)/365)","v":"0"}]
[{"$nulls":10}," ",null," ",null,null,{"$f":"IF(N96=0,\" \",IF(N96>0,N96/총괄표!$E$4))","v":" "},"0",null,{"$f":"IF(L96=\"\",\"0\",(총괄표!$H$3-L96)/365)","v":"0"}]
["분야별\n책임\n기술자",{"$f":"참여업체현황!G4","v":"토질 지질"},"합계","-","-","-","-",null,"-","-","-",null,null,"-","-","-",{"$f":"Q98+Q99+Q100+Q101+Q102+Q103+Q104+Q105+Q106+Q107+Q108+Q109+Q110+Q111+Q112+Q113+Q114+Q115+Q116+Q117+Q118+Q119+Q120+Q121+Q122+Q123+Q124+Q125+Q126+Q127","v":1},null,{"$f":"IF(L97=\"\",\"0\",(총괄표!$H$3-L97)/365)","v":"0"}]
[null,null,null,"00용역","00공사","00엔지니어링",{"$f":"$B$97","v":"토질 지질"},400,"2009-10-11","2010-10-12",{"$f":"IF(J98-I98=0,\" \",IF(J98-I98>0,J98-I98+1))","v":367},"2010-10-12",{"$f":"IF(H98=0,\" \",IF(H98>0,K98/H98))","v":0.91749999999999998},756132564,1900000,{"$f":"IF(N98=0,\" \",IF(N98>0,N98/총괄표!$E$4))","v":1.3200615292221907},{"$f":"IF(H98<90,\"0\",IF(S98>10,\"0\",IF(M98<30%,\"0\",IF(P98=\" \",\"0\",IF(P98>=200%,\"2\",IF(P98>=150%,\"1.5\",IF(P98>=100%,\"1\",IF(P98>=50%,\"0.5\",IF(P98<50%,\"0\")))))))))","v":"1"},null,{"$f":"IF(L98=\"\",\"0\",(총괄표!$H$3-L98)/365)","v":1.9835616438356165}]
[null,null,null,"00용역","0공사","000엔지니어링","토질 지질",600,"2008-10-10","2009-12-11",{"$f":"IF(J99-I99=0,\" \",IF(J99-I99>0,J99-I99+1))","v":428},"2009-12-11",0.71333333333333337,123352213,1800000,{"$f":"IF(N99=0,\" \",IF(N99>0,N99/총괄표!$E$4))","v":0.21534915790998968},"0",null,{"$f":"IF(L99=\"\",\"0\",(총괄표!$H$3-L99)/365)","v":2.8191780821917809}]
[{"$nulls":4},"0공사","000엔지니어링","토질 지질",800,"2009-10-11","2010-10-10",365,"2010-10-10",0.45624999999999999,123352213,1700000,{"$f":"IF(N100=0,\" \",IF(N100>0,N100/총괄표!$E$4))","v":0.21534915790998968},"0",null,{"$f":"IF(L100=\"\",\"0\",(총괄표!$H$3-L100)/365)","v":1.989041095890411}]
[{"$nulls":4},"0공사","000엔지니어링","토질 지질",600,"2008-09-09","2010-01-01",480,"2010-01-01",0.8,123352213,1600000,{"$f":"IF(N101=0,\" \",IF(N101>0,N101/총괄표!$E$4))","v":0.21534915790998968},"0",null,{"$f":"IF(L101=\"\",\"0\",(총괄표!$H$3-L101)/365)","v":2.7616438356164386}]
[{"$nulls":4},"0공사","000엔지니어링","토질 지질",500,"2007-12-12","2009-12-11",731,"2010-05-05",1.462,123352213,1500000,{"$f":"IF(N102=0,\" \",IF(N102>0,N102/총괄표!$E$4))","v":0.21534915790998968},"0",null,{"$f":"IF(L102=\"\",\"0\",(총괄표!$H$3-L102)/365)","v":2.4219178082191779}]
[{"$nulls":4},"0공사","000엔지니어링","토질 지질",400,"2009-10-11","2009-12-11",62,"2010-02-02",0.155,123352213,1400000,{"$f":"IF(N103=0,\" \",IF(N103>0,N103/총괄표!$E$4))","v":0.21534915790998968},"0",null,{"$f":"IF(L103=\"\",\"0\",(총괄표!$H$3-L103)/365)","v":2.6739726027397261}]
[{"$nulls":4},"0공사","000엔지니어링","토질 지질",600,"2008-10-10","2009-12-11",428,"2009-12-11",0.71333333333333337,123352213,1300000,{"$f":"IF(N104=0,\" \",IF(N104>0,N104/총괄표!$E$4))","v":0.21534915790998968},"0",null,{"$f":"IF(L104=\"\",\"0\",(총괄표!$H$3-L104)/365)","v":2.8191780821917809}]
[{"$nulls":4},"0공사","000엔지니어링","토질 지질",800,"2009-10-11","2010-10-10",365,"2010-10-10",0.45624999999999999,123352213,1200000,{"$f":"IF(N105=0,\" \",IF(N105>0,N105/총괄표!$E$4))","v":0.21534915790998968},"0",null,{"$f":"IF(L105=\"\",\"0\",(총괄표!$H$3-L105)/365)","v":1.989041095890411}]
[{"$nulls":4},"0공사","000엔지니어링","토질 지질",600,"2008-09-09","2010-01-01",480,"2010-01-01",0.8,123352213,1100000,{"$f":"IF(N106=0,\" \",IF(N106>0,N106/총괄표!$E$4))","v":0.21534915790998968},"0",null,{"$f":"IF(L106=\"\",\"0\",(총괄표!$H$3-L106)/365)","v":2.7616438356164386}]
[{"$nulls":4},"0공사","000엔지니어링","토질 지질",500,"2007-12-12","2009-12-11",731,"2010-05-05",1.462,123352213,1000000,{"$f":"IF(N107=0,\" \",IF(N107>0,N107/총괄표!$E$4))","v":0.21534915790998968},"0",null,{"$f":"IF(L107=\"\",\"0\",(총괄표!$H$3-L107)/365)","v":2.4219178082191779}]
[{"$nulls":4},"0공사","000엔지니어링","토질 지질",600,"2008-10-10","2009-12-11",428,"2009-12-11",0.71333333333333337,123352213,900000,{"$f":"IF(N108=0,\" \",IF(N108>0,N108/총괄표!$E$4))","v":0.21534915790998968},"0",null,{"$f":"IF(L108=\"\",\"0\",(총괄표!$H$3-L108)/365)","v":2.8191780821917809}]
[{"$nulls":4},"0공사","000엔지니어링","토질 지질",800,"2009-10-11","2010-10-10",365,"2010-10-10",0.45624999999999999,123352213,700000,{"$f":"IF(N109=0,\" \",IF(N109>0,N109/총괄표!$E$4))","v":0.21534915790998968},"0",null,{"$f":"IF(L109=\"\",\"0\",(총괄표!$H$3-L109)/365)","v":1.989041095890411}]
[{"$nulls":4},"0공사","000엔지니어링","토질 지질",600,"2008-09-09","2010-01-01",480,"2010-01-01",0.8,123352213,600000,{"$f":"IF(N110=0,\" \",IF(N110>0,N110/총괄표!$E$4))","v":0.21534915790998968},"0",null,{"$f":"IF(L110=\"\",\"0\",(총괄표!$H$3-L110)/365)","v":2.7616438356164386}]
[{"$nulls":4},"0공사","000엔지니어링","토질 지질",500,"2007-12-12","2009-12-11",731,"2010-05-05",1.462,123352213,500000,{"$f":"IF(N111=0,\" \",IF(N111>0,N111/총괄표!$E$4))","v":0.21534915790998968},"0",null,{"$f":"IF(L111=\"\",\"0\",(총괄표!$H$3-L111)/365)","v":2.4219178082191779}]
[{"$nulls":4},"0공사","000엔지니어링","토질 지질",400,"2009-10-11","2009-12-11",62,"2010-02-02",0.155,123352213,400000,{"$f":"IF(N112=0,\" \",IF(N112>0,N112/총괄표!$E$4))","v":0.21534915790998968},"0",null,{"$f":"IF(L112=\"\",\"0\",(총괄표!$H$3-L112)/365)","v":2.6739726027397261}]
[{"$nulls":10},{"$f":"IF(J113-I113=0,\" \",IF(J113-I113>0,J113-I113+1))","v":" "},null,{"$f":"IF(H113=0,\" \",IF(H113>0,K113/H113))","v":" "},null,null,{"$f":"IF(N113=0,\" \",IF(N113>0,N113/총괄표!$E$4))","v":" "},"0",null,{"$f":"IF(L113=\"\",\"0\",(총괄표!$H$3-L113)/365)","v":"0"}]
[{"$nulls":10}," ",null," ",null,null,{"$f":"IF(N114=0,\" \",IF(N114>0,N114/총괄표!$E$4))","v":" "},"0",null,{"$f":"IF(L114=\"\",\"0\",(총괄표!$H$3-L114)/365)","v":"0"}]
[{"$nulls":10}," ",null," ",null,null,{"$f":"IF(N115=0,\" \",IF(N115>0,N115/총괄표!$E$4))","v":" "},"0",null,{"$f":"IF(L115=\"\",\"0\",(총괄표!$H$3-L115)/365)","v":"0"}]
[{"$nulls":10}," ",null," ",null,null,{"$f":"IF(N116=0,\" \",IF(N116>0,N116/총괄표!$E$4))","v":" "},"0",null,{"$f":"IF(L116=\"\",\"0\",(총괄표!$H$3-L116)/365)","v":"0"}]
[{"$nulls":10}," ",null," ",null,null,{"$f":"IF(N117=0,\" \",IF(N117>0,N117/총괄표!$E$4))","v":" "},"0",null,{"$f":"IF(L117=\"\",\"0\",(총괄표!$H$3-L117)/365)","v":"0"}]
[{"$nulls":10}," ",null," ",null,null,{"$f":"IF(N118=0,\" \",IF(N118>0,N118/총괄표!$E$4))","v":" "},"0",null,{"$f":"IF(L118=\"\",\"0\",(총괄표!$H$3-L118)/365)","v":"0"}]
[{"$nulls":10}," ",null," ",null,null,{"$f":"IF(N119=0,\" \",IF(N119>0,N119/총괄표!$E$4))","v":" "},"0",null,{"$f":"IF(L119=\"\",\"0\",(총괄표!$H$3-L119)/365)","v":"0"}]
[{"$nulls":10}," ",null," ",null,null,{"$f":"IF(N120=0,\" \",IF(N120>0,N120/총괄표!$E$4))","v":" "},"0",null,{"$f":"IF(L120=\"\",\"0\",(총괄표!$H$3-L120)/365)","v":"0"}]
[{"$nulls":10}," ",null," ",null,null,{"$f":"IF(N121=0,\" \",IF(N121>0,N121/총괄표!$E$4))","v":" "},"0",null,{"$f":"IF(L121=\"\",\"0\",(총괄표!$H$3-L121)/365)","v":"0"}]
[{"$nulls":10}," ",null," ",null,null,{"$f":"IF(N122=0,\" \",IF(N122>0,N122/총괄표!$E$4))","v":" "},"0",null,{"$f":"IF(L122=\"\",\"0\",(총괄표!$H$3-L122)/365)","v":"0"}]
[{"$nulls":10}," ",null," ",null,null,{"$f":"IF(N123=0,\" \",IF(N123>0,N123/총괄표!$E$4))","v":" "},"0",null,{"$f":"IF(L123=\"\",\"0\",(총괄표!$H$3-L123)/365)","v":"0"}]
[{"$nulls":10}," ",null," ",null,null,{"$f":"IF(N124=0,\" \",IF(N124>0,N124/총괄표!$E$4))","v":" "},"0",null,{"$f":"IF(L124=\"\",\"0\",(총괄표!$H$3-L124)/365)","v":"0"}]
[{"$nulls":10}," ",null," ",null,null,{"$f":"IF(N125=0,\" \",IF(N125>0,N125/총괄표!$E$4))","v":" "},"0",null,{"$f":"IF(L125=\"\",\"0\",(총괄표!$H$3-L125)/365)","v":"0"}]
[{"$nulls":10}," ",null," ",null,null,{"$f":"IF(N126=0,\" \",IF(N126>0,N126/총괄표!$E$4))","v":" "},"0",null,{"$f":"IF(L126=\"\",\"0\",(총괄표!$H$3-L126)/365)","v":"0"}]
[{"$nulls":10}," ",null," ",null,null,{"$f":"IF(N127=0,\" \",IF(N127>0,N127/총괄표!$E$4))","v":" "},"0",null,{"$f":"IF(L127=\"\",\"0\",(총괄표!$H$3-L127)/365)","v":"0"}]
["분야별\n책임\n기술자",{"$f":"참여업체현황!H4","v":"일반기계"},"합계","-","-","-","-",null,"-","-","-",null,null,"-","-","-",{"$f":"Q129+Q130+Q131+Q132+Q133+Q134+Q135+Q136+Q137+Q138+Q139+Q140+Q141+Q142+Q143+Q144+Q145+Q146+Q147+Q148+Q149+Q150+Q151+Q152+Q153+Q154+Q155+Q156+Q157+Q158","v":1},null,{"$f":"IF(L128=\"\",\"0\",(총괄표!$H$3-L128)/365)","v":"0"}]
[null,null,null,"00용역","00공사","00엔지니어링",{"$f":"$B$128","v":"일반기계"},400,"2009-10-11","2010-10-12",{"$f":"IF(J129-I129=0,\" \",IF(J129-I129>0,J129-I129+1))","v":367},"2010-10-12",{"$f":"IF(H129=0,\" \",IF(H129>0,K129/H129))","v":0.91749999999999998},756132564,1900000,{"$f":"IF(N129=0,\" \",IF(N129>0,N129/총괄표!$E$4))","v":1.3200615292221907},{"$f":"IF(H129<90,\"0\",IF(S129>10,\"0\",IF(M129<30%,\"0\",IF(P129=\" \",\"0\",IF(P129>=200%,\"2\",IF(P129>=150%,\"1.5\",IF(P129>=100%,\"1\",IF(P129>=50%,\"0.5\",IF(P129<50%,\"0\")))))))))","v":"1"},null,{"$f":"IF(L129=\"\",\"0\",(총괄표!$H$3-L129)/365)","v":1.9835616438356165}]
[null,null,null,"00용역","0공사","000엔지니어링","일반기계",600,"2008-10-10","2009-12-11",{"$f":"IF(J130-I130=0,\" \",IF(J130-I130>0,J130-I130+1))","v":428},"2009-12-11",0.71333333333333337,123352213,1800000,{"$f":"IF(N130=0,\" \",IF(N130>0,N130/총괄표!$E$4))","v":0.21534915790998968},"0",null,{"$f":"IF(L130=\"\",\"0\",(총괄표!$H$3-L130)/365)","v":2.8191780821917809}]
[{"$nulls":4},"0공사","000엔지니어링","일반기계",800,"2009-10-11","2010-10-10",365,"2010-10-10",0.45624999999999999,123352213,1700000,{"$f":"IF(N131=0,\" \",IF(N131>0,N131/총괄표!$E$4))","v":0.21534915790998968},"0",null,{"$f":"IF(L131=\"\",\"0\",(총괄표!$H$3-L131)/365)","v":1.989041095890411}]
[{"$nulls":4},"0공사","000엔지니어링","일반기계",600,"2008-09-09","2010-01-01",480,"2010-01-01",0.8,123352213,1600000,{"$f":"IF(N132=0,\" \",IF(N132>0,N132/총괄표!$E$4))","v":0.21534915790998968},"0",null,{"$f":"IF(L132=\"\",\"0\",(총괄표!$H$3-L132)/365)","v":2.7616438356164386}]
[{"$nulls":4},"0공사","000엔지니어링","일반기계",500,"2007-12-12","2009-12-11",731,"2010-05-05",1.462,123352213,1500000,{"$f":"IF(N133=0,\" \",IF(N133>0,N133/총괄표!$E$4))","v":0.21534915790998968},"0",null,{"$f":"IF(L133=\"\",\"0\",(총괄표!$H$3-L133)/365)","v":2.4219178082191779}]
[{"$nulls":4},"0공사","000엔지니어링","일반기계",400,"2009-10-11","2009-12-11",62,"2010-02-02",0.155,123352213,1400000,{"$f":"IF(N134=0,\" \",IF(N134>0,N134/총괄표!$E$4))","v":0.21534915790998968},"0",null,{"$f":"IF(L134=\"\",\"0\",(총괄표!$H$3-L134)/365)","v":2.6739726027397261}]
[{"$nulls":4},"0공사","000엔지니어링","일반기계",600,"2008-10-10","2009-12-11",428,"2009-12-11",0.71333333333333337,123352213,1300000,{"$f":"IF(N135=0,\" \",IF(N135>0,N135/총괄표!$E$4))","v":0.21534915790998968},"0",null,{"$f":"IF(L135=\"\",\"0\",(총괄표!$H$3-L135)/365)","v":2.8191780821917809}]
[{"$nulls":4},"0공사","000엔지니어링","일반기계",800,"2009-10-11","2010-10-10",365,"2010-10-10",0.45624999999999999,123352213,1200000,{"$f":"IF(N136=0,\" \",IF(N136>0,N136/총괄표!$E$4))","v":0.21534915790998968},"0",null,{"$f":"IF(L136=\"\",\"0\",(총괄표!$H$3-L136)/365)","v":1.989041095890411}]
[{"$nulls":4},"0공사","000엔지니어링","일반기계",600,"2008-09-09","2010-01-01",480,"2010-01-01",0.8,123352213,1100000,{"$f":"IF(N137=0,\" \",IF(N137>0,N137/총괄표!$E$4))","v":0.21534915790998968},"0",null,{"$f":"IF(L137=\"\",\"0\",(총괄표!$H$3-L137)/365)","v":2.7616438356164386}]
[{"$nulls":4},"0공사","000엔지니어링","일반기계",500,"2007-12-12","2009-12-11",731,"2010-05-05",1.462,123352213,1000000,{"$f":"IF(N138=0,\" \",IF(N138>0,N138/총괄표!$E$4))","v":0.21534915790998968},"0",null,{"$f":"IF(L138=\"\",\"0\",(총괄표!$H$3-L138)/365)","v":2.4219178082191779}]
[{"$nulls":4},"0공사","000엔지니어링","일반기계",400,"2009-10-11","2009-12-11",62,"2010-02-02",0.155,123352213,900000,{"$f":"IF(N139=0,\" \",IF(N139>0,N139/총괄표!$E$4))","v":0.21534915790998968},"0",null,{"$f":"IF(L139=\"\",\"0\",(총괄표!$H$3-L139)/365)","v":2.6739726027397261}]
[{"$nulls":10},{"$f":"IF(J140-I140=0,\" \",IF(J140-I140>0,J140-I140+1))","v":" "},null,{"$f":"IF(H140=0,\" \",IF(H140>0,K140/H140))","v":" "},null,null,{"$f":"IF(N140=0,\" \",IF(N140>0,N140/총괄표!$E$4))","v":" "},"0",null,{"$f":"IF(L140=\"\",\"0\",(총괄표!$H$3-L140)/365)","v":"0"}]
[{"$nulls":10}," ",null," ",null,null,{"$f":"IF(N141=0,\" \",IF(N141>0,N141/총괄표!$E$4))","v":" "},"0",null,{"$f":"IF(L141=\"\",\"0\",(총괄표!$H$3-L141)/365)","v":"0"}]
[{"$nulls":10}," ",null," ",null,null,{"$f":"IF(N142=0,\" \",IF(N142>0,N142/총괄표!$E$4))","v":" "},"0",null,{"$f":"IF(L142=\"\",\"0\",(총괄표!$H$3-L142)/365)","v":"0"}]
[{"$nulls":10}," ",null," ",null,null,{"$f":"IF(N143=0,\" \",IF(N143>0,N143/총괄표!$E$4))","v":" "},"0",null,{"$f":"IF(L143=\"\",\"0\",(총괄표!$H$3-L143)/365)","v":"0"}]
[{"$nulls":10}," ",null," ",null,null,{"$f":"IF(N144=0,\" \",IF(N144>0,N144/총괄표!$E$4))","v":" "},"0",null,{"$f":"IF(L144=\"\",\"0\",(총괄표!$H$3-L144)/365)","v":"0"}]
[{"$nulls":10}," ",null," ",null,null,{"$f":"IF(N145=0,\" \",IF(N145>0,N145/총괄표!$E$4))","v":" "},"0",null,{"$f":"IF(L145=\"\",\"0\",(총괄표!$H$3-L145)/365)","v":"0"}]
[{"$nulls":10}," ",null," ",null,null,{"$f":"IF(N146=0,\" \",IF(N146>0,N146/총괄표!$E$4))","v":" "},"0",null,{"$f":"IF(L146=\"\",\"0\",(총괄표!$H$3-L146)/365)","v":"0"}]
[{"$nulls":10}," ",null," ",null,null,{"$f":"IF(N147=0,\" \",IF(N147>0,N147/총괄표!$E$4))","v":" "},"0",null,{"$f":"IF(L147=\"\",\"0\",(총괄표!$H$3-L147)/365)","v":"0"}]
[{"$nulls":10}," ",null," ",null,null,{"$f":"IF(N148=0,\" \",IF(N148>0,N148/총괄표!$E$4))","v":" "},"0",null,{"$f":"IF(L148=\"\",\"0\",(총괄표!$H$3-L148)/365)","v":"0"}]
[{"$nulls":10}," ",null," ",null,null,{"$f":"IF(N149=0,\" \",IF(N149>0,N149/총괄표!$E$4))","v":" "},"0",null,{"$f":"IF(L149=\"\",\"0\",(총괄표!$H$3-L149)/365)","v":"0"}]
[{"$nulls":10}," ",null," ",null,null,{"$f":"IF(N150=0,\" \",IF(N150>0,N150/총괄표!$E$4))","v":" "},"0",null,{"$f":"IF(L150=\"\",\"0\",(총괄표!$H$3-L150)/365)","v":"0"}]
[{"$nulls":10}," ",null," ",null,null,{"$f":"IF(N151=0,\" \",IF(N151>0,N151/총괄표!$E$4))","v":" "},"0",null,{"$f":"IF(L151=\"\",\"0\",(총괄표!$H$3-L151)/365)","v":"0"}]
[{"$nulls":10}," ",null," ",null,null,{"$f":"IF(N152=0,\" \",IF(N152>0,N152/총괄표!$E$4))","v":" "},"0",null,{"$f":"IF(L152=\"\",\"0\",(총괄표!$H$3-L152)/365)","v":"0"}]
[{"$nulls":10}," ",null," ",null,null,{"$f":"IF(N153=0,\" \",IF(N153>0,N153/총괄표!$E$4))","v":" "},"0",null,{"$f":"IF(L153=\"\",\"0\",(총괄표!$H$3-L153)/365)","v":"0"}]
[{"$nulls":10}," ",null," ",null,null,{"$f":"IF(N154=0,\" \",IF(N154>0,N154/총괄표!$E$4))","v":" "},"0",null,{"$f":"IF(L154=\"\",\"0\",(총괄표!$H$3-L154)/365)","v":"0"}]
[{"$nulls":10}," ",null," ",null,null,{"$f":"IF(N155=0,\" \",IF(N155>0,N155/총괄표!$E$4))","v":" "},"0",null,{"$f":"IF(L155=\"\",\"0\",(총괄표!$H$3-L155)/365)","v":"0"}]
[{"$nulls":10}," ",null," ",null,null,{"$f":"IF(N156=0,\" \",IF(N156>0,N156/총괄표!$E$4))","v":" "},"0",null,{"$f":"IF(L156=\"\",\"0\",(총괄표!$H$3-L156)/365)","v":"0"}]
[{"$nulls":10}," ",null," ",null,null,{"$f":"IF(N157=0,\" \",IF(N157>0,N157/총괄표!$E$4))","v":" "},"0",null,{"$f":"IF(L157=\"\",\"0\",(총괄표!$H$3-L157)/365)","v":"0"}]
[{"$nulls":10}," ",null," ",null,null,{"$f":"IF(N158=0,\" \",IF(N158>0,N158/총괄표!$E$4))","v":" "},"0",null,{"$f":"IF(L158=\"\",\"0\",(총괄표!$H$3-L158)/365)","v":"0"}]
["분야별\n책임\n기술자",{"$f":"참여업체현황!I4","v":"전기설비"},"합계","-","-","-","-",null,"-","-","-",null,null,"-","-","-",{"$f":"Q160+Q161+Q162+Q163+Q164+Q165+Q166+Q167+Q168+Q169+Q170+Q171+Q172+Q173+Q174+Q175+Q176+Q177+Q178+Q179+Q180+Q181+Q182+Q183+Q184+Q185+Q186+Q187+Q188+Q189","v":1},null,{"$f":"IF(L159=\"\",\"0\",(총괄표!$H$3-L159)/365)","v":"0"}]
[null,null,null,"00용역","00공사","00엔지니어링",{"$f":"$B$159","v":"전기설비"},400,"2009-10-11","2010-10-12",{"$f":"IF(J160-I160=0,\" \",IF(J160-I160>0,J160-I160+1))","v":367},"2010-10-12",{"$f":"IF(H160=0,\" \",IF(H160>0,K160/H160))","v":0.91749999999999998},756132564,1900000,{"$f":"IF(N160=0,\" \",IF(N160>0,N160/총괄표!$E$4))","v":1.3200615292221907},{"$f":"IF(H160<90,\"0\",IF(S160>10,\"0\",IF(M160<30%,\"0\",IF(P160=\" \",\"0\",IF(P160>=200%,\"2\",IF(P160>=150%,\"1.5\",IF(P160>=100%,\"1\",IF(P160>=50%,\"0.5\",IF(P160<50%,\"0\")))))))))","v":"1"},null,{"$f":"IF(L160=\"\",\"0\",(총괄표!$H$3-L160)/365)","v":1.9835616438356165}]
[null,null,null,"00용역","0공사","000엔지니어링","전기설비",600,"2008-10-10","2009-12-11",{"$f":"IF(J161-I161=0,\" \",IF(J161-I161>0,J161-I161+1))","v":428},"2009-12-11",0.71333333333333337,123352213,1800000,{"$f":"IF(N161=0,\" \",IF(N161>0,N161/총괄표!$E$4))","v":0.21534915790998968},"0",null,{"$f":"IF(L161=\"\",\"0\",(총괄표!$H$3-L161)/365)","v":2.8191780821917809}]
[{"$nulls":4},"0공사","000엔지니어링","전기설비",800,"2009-10-11","2010-10-10",365,"2010-10-10",0.45624999999999999,123352213,1700000,{"$f":"IF(N162=0,\" \",IF(N162>0,N162/총괄표!$E$4))","v":0.21534915790998968},"0",null,{"$f":"IF(L162=\"\",\"0\",(총괄표!$H$3-L162)/365)","v":1.989041095890411}]
[{"$nulls":4},"0공사","000엔지니어링","전기설비",600,"2008-09-09","2010-01-01",480,"2010-01-01",0.8,123352213,1600000,{"$f":"IF(N163=0,\" \",IF(N163>0,N163/총괄표!$E$4))","v":0.21534915790998968},"0",null,{"$f":"IF(L163=\"\",\"0\",(총괄표!$H$3-L163)/365)","v":2.7616438356164386}]
[{"$nulls":4},"0공사","000엔지니어링","전기설비",500,"2007-12-12","2009-12-11",731,"2010-05-05",1.462,123352213,1500000,{"$f":"IF(N164=0,\" \",IF(N164>0,N164/총괄표!$E$4))","v":0.21534915790998968},"0",null,{"$f":"IF(L164=\"\",\"0\",(총괄표!$H$3-L164)/365)","v":2.4219178082191779}]
[{"$nulls":4},"0공사","000엔지니어링","전기설비",400,"2009-10-11","2009-12-11",62,"2010-02-02",0.155,123352213,1400000,{"$f":"IF(N165=0,\" \",IF(N165>0,N165/총괄표!$E$4))","v":0.21534915790998968},"0",null,{"$f":"IF(L165=\"\",\"0\",(총괄표!$H$3-L165)/365)","v":2.6739726027397261}]
[{"$nulls":4},"0공사","000엔지니어링","전기설비",600,"2008-10-10","2009-12-11",428,"2009-12-11",0.71333333333333337,123352213,1300000,{"$f":"IF(N166=0,\" \",IF(N166>0,N166/총괄표!$E$4))","v":0.21534915790998968},"0",null,{"$f":"IF(L166=\"\",\"0\",(총괄표!$H$3-L166)/365)","v":2.8191780821917809}]
[{"$nulls":4},"0공사","000엔지니어링","전기설비",800,"2009-10-11","2010-10-10",365,"2010-10-10",0.45624999999999999,123352213,1200000,{"$f":"IF(N167=0,\" \",IF(N167>0,N167/총괄표!$E$4))","v":0.21534915790998968},"0",null,{"$f":"IF(L167=\"\",\"0\",(총괄표!$H$3-L167)/365)","v":1.989041095890411}]
[{"$nulls":4},"0공사","000엔지니어링","전기설비",600,"2008-09-09","2010-01-01",480,"2010-01-01",0.8,123352213,1100000,{"$f":"IF(N168=0,\" \",IF(N168>0,N168/총괄표!$E$4))","v":0.21534915790998968},"0",null,{"$f":"IF(L168=\"\",\"0\",(총괄표!$H$3-L168)/365)","v":2.7616438356164386}]
[{"$nulls":4},"0공사","000엔지니어링","전기설비",500,"2007-12-12","2009-12-11",731,"2010-05-05",1.462,123352213,1000000,{"$f":"IF(N169=0,\" \",IF(N169>0,N169/총괄표!$E$4))","v":0.21534915790998968},"0",null,{"$f":"IF(L169=\"\",\"0\",(총괄표!$H$3-L169)/365)","v":2.4219178082191779}]
[{"$nulls":4},"0공사","000엔지니어링","전기설비",400,"2009-10-11","2009-12-11",62,"2010-02-02",0.155,123352213,900000,{"$f":"IF(N170=0,\" \",IF(N170>0,N170/총괄표!$E$4))","v":0.21534915790998968},"0",null,{"$f":"IF(L170=\"\",\"0\",(총괄표!$H$3-L170)/365)","v":2.6739726027397261}]
[{"$nulls":10},{"$f":"IF(J171-I171=0,\" \",IF(J171-I171>0,J171-I171+1))","v":" "},null,{"$f":"IF(H171=0,\" \",IF(H171>0,K171/H171))","v":" "},null,null,{"$f":"IF(N171=0,\" \",IF(N171>0,N171/총괄표!$E$4))","v":" "},"0",null,{"$f":"IF(L171=\"\",\"0\",(총괄표!$H$3-L171)/365)","v":"0"}]
[{"$nulls":10}," ",null," ",null,null,{"$f":"IF(N172=0,\" \",IF(N172>0,N172/총괄표!$E$4))","v":" "},"0",null,{"$f":"IF(L172=\"\",\"0\",(총괄표!$H$3-L172)/365)","v":"0"}]
[{"$nulls":10}," ",null," ",null,null,{"$f":"IF(N173=0,\" \",IF(N173>0,N173/총괄표!$E$4))","v":" "},"0",null,{"$f":"IF(L173=\"\",\"0\",(총괄표!$H$3-L173)/365)","v":"0"}]
[{"$nulls":10}," ",null," ",null,null,{"$f":"IF(N174=0,\" \",IF(N174>0,N174/총괄표!$E$4))","v":" "},"0",null,{"$f":"IF(L174=\"\",\"0\",(총괄표!$H$3-L174)/365)","v":"0"}]
[{"$nulls":10}," ",null," ",null,null,{"$f":"IF(N175=0,\" \",IF(N175>0,N175/총괄표!$E$4))","v":" "},"0",null,{"$f":"IF(L175=\"\",\"0\",(총괄표!$H$3-L175)/365)","v":"0"}]
[{"$nulls":10}," ",null," ",null,null,{"$f":"IF(N176=0,\" \",IF(N176>0,N176/총괄표!$E$4))","v":" "},"0",null,{"$f":"IF(L176=\"\",\"0\",(총괄표!$H$3-L176)/365)","v":"0"}]
[{"$nulls":10}," ",null," ",null,null,{"$f":"IF(N177=0,\" \",IF(N177>0,N177/총괄표!$E$4))","v":" "},"0",null,{"$f":"IF(L177=\"\",\"0\",(총괄표!$H$3-L177)/365)","v":"0"}]
[{"$nulls":10}," ",null," ",null,null,{"$f":"IF(N178=0,\" \",IF(N178>0,N178/총괄표!$E$4))","v":" "},"0",null,{"$f":"IF(L178=\"\",\"0\",(총괄표!$H$3-L178)/365)","v":"0"}]
[{"$nulls":10}," ",null," ",null,null,{"$f":"IF(N179=0,\" \",IF(N179>0,N179/총괄표!$E$4))","v":" "},"0",null,{"$f":"IF(L179=\"\",\"0\",(총괄표!$H$3-L179)/365)","v":"0"}]
[{"$nulls":10}," ",null," ",null,null,{"$f":"IF(N180=0,\" \",IF(N180>0,N180/총괄표!$E$4))","v":" "},"0",null,{"$f":"IF(L180=\"\",\"0\",(총괄표!$H$3-L180)/365)","v":"0"}]
[{"$nulls":10}," ",null," ",null,null,{"$f":"IF(N181=0,\" \",IF(N181>0,N181/총괄표!$E$4))","v":" "},"0",null,{"$f":"IF(L181=\"\",\"0\",(총괄표!$H$3-L181)/365)","v":"0"}]
[{"$nulls":10}," ",null," ",null,null,{"$f":"IF(N182=0,\" \",IF(N182>0,N182/총괄표!$E$4))","v":" "},"0",null,{"$f":"IF(L182=\"\",\"0\",(총괄표!$H$3-L182)/365)","v":"0"}]
[{"$nulls":10}," ",null," ",null,null,{"$f":"IF(N183=0,\" \",IF(N183>0,N183/총괄표!$E$4))","v":" "},"0",null,{"$f":"IF(L183=\"\",\"0\",(총괄표!$H$3-L183)/365)","v":"0"}]
[{"$nulls":10}," ",null," ",null,null,{"$f":"IF(N184=0,\" \",IF(N184>0,N184/총괄표!$E$4))","v":" "},"0",null,{"$f":"IF(L184=\"\",\"0\",(총괄표!$H$3-L184)/365)","v":"0"}]
[{"$nulls":10}," ",null," ",null,null,{"$f":"IF(N185=0,\" \",IF(N185>0,N185/총괄표!$E$4))","v":" "},"0",null,{"$f":"IF(L185=\"\",\"0\",(총괄표!$H$3-L185)/365)","v":"0"}]
[{"$nulls":10}," ",null," ",null,null,{"$f":"IF(N186=0,\" \",IF(N186>0,N186/총괄표!$E$4))","v":" "},"0",null,{"$f":"IF(L186=\"\",\"0\",(총괄표!$H$3-L186)/365)","v":"0"}]
[{"$nulls":10}," ",null," ",null,null,{"$f":"IF(N187=0,\" \",IF(N187>0,N187/총괄표!$E$4))","v":" "},{"$f":"IF(H187<90,\"0\",IF(S187>10,\"0\",IF(M187<30%,\"0\",IF(P187=\" \",\"0\",IF(P187>=200%,\"2\",IF(P187>=150%,\"1.5\",IF(P187>=100%,\"1\",IF(P187>=50%,\"0.5\",IF(P187<40%,\"0\")))))))))","v":"0"},null,{"$f":"IF(L187=\"\",\"0\",(총괄표!$H$3-L187)/365)","v":"0"}]
[{"$nulls":10}," ",null," ",null,null,{"$f":"IF(N188=0,\" \",IF(N188>0,N188/총괄표!$E$4))","v":" "},"0",null,{"$f":"IF(L188=\"\",\"0\",(총괄표!$H$3-L188)/365)","v":"0"}]
[{"$nulls":10}," ",null," ",null,null,{"$f":"IF(N189=0,\" \",IF(N189>0,N189/총괄표!$E$4))","v":" "},"0",null,{"$f":"IF(L189=\"\",\"0\",(총괄표!$H$3-L189)/365)","v":"0"}]
["분야별\n참여\n기술자",{"$f":"참여업체현황!E4","v":"상하수도"},"합계","-","-","-","-",null,"-","-","-",null,null,"-","-","-",{"$f":"Q191+Q192+Q193+Q194+Q195+Q196+Q197+Q198+Q199+Q200+Q201+Q202+Q203+Q204+Q205+Q206+Q207+Q208+Q209+Q210+Q211+Q212+Q213+Q214+Q215+Q216+Q217+Q218+Q219+Q220","v":1},null,{"$f":"IF(L190=\"\",\"0\",(총괄표!$H$3-L190)/365)","v":"0"}]
[null,null,null,"00용역","00공사","00엔지니어링",{"$f":"$B$190","v":"상하수도"},400,"2009-10-11","2010-10-12",{"$f":"IF(J191-I191=0,\" \",IF(J191-I191>0,J191-I191+1))","v":367},"2010-10-12",{"$f":"IF(H191=0,\" \",IF(H191>0,K191/H191))","v":0.91749999999999998},756132564,1900000,{"$f":"IF(N191=0,\" \",IF(N191>0,N191/총괄표!$E$4))","v":1.3200615292221907},{"$f":"IF(H191<90,\"0\",IF(S191>10,\"0\",IF(M191<30%,\"0\",IF(P191=\" \",\"0\",IF(P191>=200%,\"2\",IF(P191>=150%,\"1.5\",IF(P191>=100%,\"1\",IF(P191>=50%,\"0.5\",IF(P191<50%,\"0\")))))))))","v":"1"},null,{"$f":"IF(L191=\"\",\"0\",(총괄표!$H$3-L191)/365)","v":1.9835616438356165}]
[null,null,null,"00용역","0공사","000엔지니어링","상하수도",600,"2008-10-10","2009-12-11",{"$f":"IF(J192-I192=0,\" \",IF(J192-I192>0,J192-I192+1))","v":428},"2009-12-11",0.71333333333333337,123352213,1800000,{"$f":"IF(N192=0,\" \",IF(N192>0,N192/총괄표!$E$4))","v":0.21534915790998968},"0",null,{"$f":"IF(L192=\"\",\"0\",(총괄표!$H$3-L192)/365)","v":2.8191780821917809}]
[{"$nulls":4},"0공사","000엔지니어링","상하수도",800,"2009-10-11","2010-10-10",365,"2010-10-10",0.45624999999999999,123352213,1700000,{"$f":"IF(N193=0,\" \",IF(N193>0,N193/총괄표!$E$4))","v":0.21534915790998968},"0",null,{"$f":"IF(L193=\"\",\"0\",(총괄표!$H$3-L193)/365)","v":1.989041095890411}]
[{"$nulls":4},"0공사","000엔지니어링","상하수도",600,"2008-09-09","2010-01-01",480,"2010-01-01",0.8,123352213,1600000,{"$f":"IF(N194=0,\" \",IF(N194>0,N194/총괄표!$E$4))","v":0.21534915790998968},"0",null,{"$f":"IF(L194=\"\",\"0\",(총괄표!$H$3-L194)/365)","v":2.7616438356164386}]
[{"$nulls":4},"0공사","000엔지니어링","상하수도",500,"2007-12-12","2009-12-11",731,"2010-05-05",1.462,123352213,1500000,{"$f":"IF(N195=0,\" \",IF(N195>0,N195/총괄표!$E$4))","v":0.21534915790998968},"0",null,{"$f":"IF(L195=\"\",\"0\",(총괄표!$H$3-L195)/365)","v":2.4219178082191779}]
[{"$nulls":4},"0공사","000엔지니어링","상하수도",400,"2009-10-11","2009-12-11",62,"2010-02-02",0.155,123352213,1400000,{"$f":"IF(N196=0,\" \",IF(N196>0,N196/총괄표!$E$4))","v":0.21534915790998968},"0",null,{"$f":"IF(L196=\"\",\"0\",(총괄표!$H$3-L196)/365)","v":2.6739726027397261}]
[{"$nulls":4},"0공사","000엔지니어링","상하수도",600,"2008-10-10","2009-12-11",428,"2009-12-11",0.71333333333333337,123352213,1300000,{"$f":"IF(N197=0,\" \",IF(N197>0,N197/총괄표!$E$4))","v":0.21534915790998968},"0",null,{"$f":"IF(L197=\"\",\"0\",(총괄표!$H$3-L197)/365)","v":2.8191780821917809}]
[{"$nulls":4},"0공사","000엔지니어링","상하수도",800,"2009-10-11","2010-10-10",365,"2010-10-10",0.45624999999999999,123352213,1200000,{"$f":"IF(N198=0,\" \",IF(N198>0,N198/총괄표!$E$4))","v":0.21534915790998968},"0",null,{"$f":"IF(L198=\"\",\"0\",(총괄표!$H$3-L198)/365)","v":1.989041095890411}]
[{"$nulls":4},"0공사","000엔지니어링","상하수도",600,"2008-09-09","2010-01-01",480,"2010-01-01",0.8,123352213,1100000,{"$f":"IF(N199=0,\" \",IF(N199>0,N199/총괄표!$E$4))","v":0.21534915790998968},"0",null,{"$f":"IF(L199=\"\",\"0\",(총괄표!$H$3-L199)/365)","v":2.7616438356164386}]
[{"$nulls":4},"0공사","000엔지니어링","상하수도",500,"2007-12-12","2009-12-11",731,"2010-05-05",1.462,123352213,1000000,{"$f":"IF(N200=0,\" \",IF(N200>0,N200/총괄표!$E$4))","v":0.21534915790998968},"0",null,{"$f":"IF(L200=\"\",\"0\",(총괄표!$H$3-L200)/365)","v":2.4219178082191779}]
[{"$nulls":4},"0공사","000엔지니어링","상하수도",400,"2009-10-11","2009-12-11",62,"2010-02-02",0.155,123352213,900000,{"$f":"IF(N201=0,\" \",IF(N201>0,N201/총괄표!$E$4))","v":0.21534915790998968},"0",null,{"$f":"IF(L201=\"\",\"0\",(총괄표!$H$3-L201)/365)","v":2.6739726027397261}]
[{"$nulls":10},{"$f":"IF(J202-I202=0,\" \",IF(J202-I202>0,J202-I202+1))","v":" "},null,{"$f":"IF(H202=0,\" \",IF(H202>0,K202/H202))","v":" "},null,null,{"$f":"IF(N202=0,\" \",IF(N202>0,N202/총괄표!$E$4))","v":" "},"0",null,{"$f":"IF(L202=\"\",\"0\",(총괄표!$H$3-L202)/365)","v":"0"}]
[{"$nulls":10}," ",null," ",null,null,{"$f":"IF(N203=0,\" \",IF(N203>0,N203/총괄표!$E$4))","v":" "},"0",null,{"$f":"IF(L203=\"\",\"0\",(총괄표!$H$3-L203)/365)","v":"0"}]
[{"$nulls":10}," ",null," ",null,null,{"$f":"IF(N204=0,\" \",IF(N204>0,N204/총괄표!$E$4))","v":" "},"0",null,{"$f":"IF(L204=\"\",\"0\",(총괄표!$H$3-L204)/365)","v":"0"}]
[{"$nulls":10}," ",null," ",null,null,{"$f":"IF(N205=0,\" \",IF(N205>0,N205/총괄표!$E$4))","v":" "},"0",null,{"$f":"IF(L205=\"\",\"0\",(총괄표!$H$3-L205)/365)","v":"0"}]
[{"$nulls":10}," ",null," ",null,null,{"$f":"IF(N206=0,\" \",IF(N206>0,N206/총괄표!$E$4))","v":" "},"0",null,{"$f":"IF(L206=\"\",\"0\",(총괄표!$H$3-L206)/365)","v":"0"}]
[{"$nulls":10}," ",null," ",null,null,{"$f":"IF(N207=0,\" \",IF(N207>0,N207/총괄표!$E$4))","v":" "},"0",null,{"$f":"IF(L207=\"\",\"0\",(총괄표!$H$3-L207)/365)","v":"0"}]
[{"$nulls":10}," ",null," ",null,null,{"$f":"IF(N208=0,\" \",IF(N208>0,N208/총괄표!$E$4))","v":" "},"0",null,{"$f":"IF(L208=\"\",\"0\",(총괄표!$H$3-L208)/365)","v":"0"}]
[{"$nulls":10}," ",null," ",null,null,{"$f":"IF(N209=0,\" \",IF(N209>0,N209/총괄표!$E$4))","v":" "},"0",null,{"$f":"IF(L209=\"\",\"0\",(총괄표!$H$3-L209)/365)","v":"0"}]
[{"$nulls":10}," ",null," ",null,null,{"$f":"IF(N210=0,\" \",IF(N210>0,N210/총괄표!$E$4))","v":" "},"0",null,{"$f":"IF(L210=\"\",\"0\",(총괄표!$H$3-L210)/365)","v":"0"}]
[{"$nulls":10}," ",null," ",null,null,{"$f":"IF(N211=0,\" \",IF(N211>0,N211/총괄표!$E$4))","v":" "},"0",null,{"$f":"IF(L211=\"\",\"0\",(총괄표!$H$3-L211)/365)","v":"0"}]
[{"$nulls":10}," ",null," ",null,null,{"$f":"IF(N212=0,\" \",IF(N212>0,N212/총괄표!$E$4))","v":" "},"0",null,{"$f":"IF(L212=\"\",\"0\",(총괄표!$H$3-L212)/365)","v":"0"}]
[{"$nulls":10}," ",null," ",null,null,{"$f":"IF(N213=0,\" \",IF(N213>0,N213/총괄표!$E$4))","v":" "},"0",null,{"$f":"IF(L213=\"\",\"0\",(총괄표!$H$3-L213)/365)","v":"0"}]
[{"$nulls":10}," ",null," ",null,null,{"$f":"IF(N214=0,\" \",IF(N214>0,N214/총괄표!$E$4))","v":" "},"0",null,{"$f":"IF(L214=\"\",\"0\",(총괄표!$H$3-L214)/365)","v":"0"}]
[{"$nulls":10}," ",null," ",null,null,{"$f":"IF(N215=0,\" \",IF(N215>0,N215/총괄표!$E$4))","v":" "},"0",null,{"$f":"IF(L215=\"\",\"0\",(총괄표!$H$3-L215)/365)","v":"0"}]
[{"$nulls":10}," ",null," ",null,null,{"$f":"IF(N216=0,\" \",IF(N216>0,N216/총괄표!$E$4))","v":" "},"0",null,{"$f":"IF(L216=\"\",\"0\",(총괄표!$H$3-L216)/365)","v":"0"}]
[{"$nulls":10}," ",null," ",null,null,{"$f":"IF(N217=0,\" \",IF(N217>0,N217/총괄표!$E$4))","v":" "},"0",null,{"$f":"IF(L217=\"\",\"0\",(총괄표!$H$3-L217)/365)","v":"0"}]
[{"$nulls":10}," ",null," ",null,null,{"$f":"IF(N218=0,\" \",IF(N218>0,N218/총괄표!$E$4))","v":" "},"0",null,{"$f":"IF(L218=\"\",\"0\",(총괄표!$H$3-L218)/365)","v":"0"}]
[{"$nulls":10}," ",null," ",null,null,{"$f":"IF(N219=0,\" \",IF(N219>0,N219/총괄표!$E$4))","v":" "},"0",null,{"$f":"IF(L219=\"\",\"0\",(총괄표!$H$3-L219)/365)","v":"0"}]
[{"$nulls":10}," ",null," ",null,null,{"$f":"IF(N220=0,\" \",IF(N220>0,N220/총괄표!$E$4))","v":" "},"0",null,{"$f":"IF(L220=\"\",\"0\",(총괄표!$H$3-L220)/365)","v":"0"}]
["분야별\n참여\n기술자",{"$f":"참여업체현황!F4","v":"구조"},"합계","-","-","-","-",null,"-","-","-",null,null,"-","-","-",{"$f":"Q222+Q223+Q224+Q225+Q226+Q227+Q228+Q229+Q230+Q231+Q232+Q233+Q234+Q235+Q236+Q237+Q238+Q239+Q240+Q241+Q242+Q243+Q244+Q245+Q246+Q247+Q248+Q249+Q250+Q251","v":1},null,{"$f":"IF(L221=\"\",\"0\",(총괄표!$H$3-L221)/365)","v":"0"}]
[null,null,null,"00용역","00공사","00엔지니어링",{"$f":"$B$221","v":"구조"},400,"2009-10-11","2010-10-12",{"$f":"IF(J222-I222=0,\" \",IF(J222-I222>0,J222-I222+1))","v":367},"2010-10-12",{"$f":"IF(H222=0,\" \",IF(H222>0,K222/H222))","v":0.91749999999999998},756132564,1900000,{"$f":"IF(N222=0,\" \",IF(N222>0,N222/총괄표!$E$4))","v":1.3200615292221907},{"$f":"IF(H222<90,\"0\",IF(S222>10,\"0\",IF(M222<30%,\"0\",IF(P222=\" \",\"0\",IF(P222>=200%,\"2\",IF(P222>=150%,\"1.5\",IF(P222>=100%,\"1\",IF(P222>=50%,\"0.5\",IF(P222<50%,\"0\")))))))))","v":"1"},null,{"$f":"IF(L222=\"\",\"0\",(총괄표!$H$3-L222)/365)","v":1.9835616438356165}]
[null,null,null,"00용역","0공사","000엔지니어링","구조",600,"2008-10-10","2009-12-11",{"$f":"IF(J223-I223=0,\" \",IF(J223-I223>0,J223-I223+1))","v":428},"2009-12-11",0.71333333333333337,123352213,1800000,{"$f":"IF(N223=0,\" \",IF(N223>0,N223/총괄표!$E$4))","v":0.21534915790998968},"0",null,{"$f":"IF(L223=\"\",\"0\",(총괄표!$H$3-L223)/365)","v":2.8191780821917809}]
[{"$nulls":4},"0공사","000엔지니어링","구조",800,"2009-10-11","2010-10-10",365,"2010-10-10",0.45624999999999999,123352213,1700000,{"$f":"IF(N224=0,\" \",IF(N224>0,N224/총괄표!$E$4))","v":0.21534915790998968},"0",null,{"$f":"IF(L224=\"\",\"0\",(총괄표!$H$3-L224)/365)","v":1.989041095890411}]
[{"$nulls":4},"0공사","000엔지니어링","구조",600,"2008-09-09","2010-01-01",480,"2010-01-01",0.8,123352213,1600000,{"$f":"IF(N225=0,\" \",IF(N225>0,N225/총괄표!$E$4))","v":0.21534915790998968},"0",null,{"$f":"IF(L225=\"\",\"0\",(총괄표!$H$3-L225)/365)","v":2.7616438356164386}]
[{"$nulls":4},"0공사","000엔지니어링","구조",500,"2007-12-12","2009-12-11",731,"2010-05-05",1.462,123352213,1500000,{"$f":"IF(N226=0,\" \",IF(N226>0,N226/총괄표!$E$4))","v":0.21534915790998968},"0",null,{"$f":"IF(L226=\"\",\"0\",(총괄표!$H$3-L226)/365)","v":2.4219178082191779}]
[{"$nulls":4},"0공사","000엔지니어링","구조",400,"2009-10-11","2009-12-11",62,"2010-02-02",0.155,123352213,1400000,{"$f":"IF(N227=0,\" \",IF(N227>0,N227/총괄표!$E$4))","v":0.21534915790998968},"0",null,{"$f":"IF(L227=\"\",\"0\",(총괄표!$H$3-L227)/365)","v":2.6739726027397261}]
[{"$nulls":4},"0공사","000엔지니어링","구조",600,"2008-10-10","2009-12-11",428,"2009-12-11",0.71333333333333337,123352213,1300000,{"$f":"IF(N228=0,\" \",IF(N228>0,N228/총괄표!$E$4))","v":0.21534915790998968},"0",null,{"$f":"IF(L228=\"\",\"0\",(총괄표!$H$3-L228)/365)","v":2.8191780821917809}]
[{"$nulls":4},"0공사","000엔지니어링","구조",800,"2009-10-11","2010-10-10",365,"2010-10-10",0.45624999999999999,123352213,1200000,{"$f":"IF(N229=0,\" \",IF(N229>0,N229/총괄표!$E$4))","v":0.21534915790998968},"0",null,{"$f":"IF(L229=\"\",\"0\",(총괄표!$H$3-L229)/365)","v":1.989041095890411}]
[{"$nulls":4},"0공사","000엔지니어링","구조",600,"2008-09-09","2010-01-01",480,"2010-01-01",0.8,123352213,1100000,{"$f":"IF(N230=0,\" \",IF(N230>0,N230/총괄표!$E$4))","v":0.21534915790998968},"0",null,{"$f":"IF(L230=\"\",\"0\",(총괄표!$H$3-L230)/365)","v":2.7616438356164386}]
[{"$nulls":4},"0공사","000엔지니어링","구조",500,"2007-12-12","2009-12-11",731,"2010-05-05",1.462,123352213,1000000,{"$f":"IF(N231=0,\" \",IF(N231>0,N231/총괄표!$E$4))","v":0.21534915790998968},"0",null,{"$f":"IF(L231=\"\",\"0\",(총괄표!$H$3-L231)/365)","v":2.4219178082191779}]
[{"$nulls":4},"0공사","000엔지니어링","구조",400,"2009-10-11","2009-12-11",62,"2010-02-02",0.155,123352213,900000,{"$f":"IF(N232=0,\" \",IF(N232>0,N232/총괄표!$E$4))","v":0.21534915790998968},"0",null,{"$f":"IF(L232=\"\",\"0\",(총괄표!$H$3-L232)/365)","v":2.6739726027397261}]
[{"$nulls":10},{"$f":"IF(J233-I233=0,\" \",IF(J233-I233>0,J233-I233+1))","v":" "},null,{"$f":"IF(H233=0,\" \",IF(H233>0,K233/H233))","v":" "},null,null,{"$f":"IF(N233=0,\" \",IF(N233>0,N233/총괄표!$E$4))","v":" "},"0",null,{"$f":"IF(L233=\"\",\"0\",(총괄표!$H$3-L233)/365)","v":"0"}]
[{"$nulls":10}," ",null," ",null,null,{"$f":"IF(N234=0,\" \",IF(N234>0,N234/총괄표!$E$4))","v":" "},"0",null,{"$f":"IF(L234=\"\",\"0\",(총괄표!$H$3-L234)/365)","v":"0"}]
[{"$nulls":10}," ",null," ",null,null,{"$f":"IF(N235=0,\" \",IF(N235>0,N235/총괄표!$E$4))","v":" "},"0",null,{"$f":"IF(L235=\"\",\"0\",(총괄표!$H$3-L235)/365)","v":"0"}]
[{"$nulls":10}," ",null," ",null,null,{"$f":"IF(N236=0,\" \",IF(N236>0,N236/총괄표!$E$4))","v":" "},"0",null,{"$f":"IF(L236=\"\",\"0\",(총괄표!$H$3-L236)/365)","v":"0"}]
[{"$nulls":10}," ",null," ",null,null,{"$f":"IF(N237=0,\" \",IF(N237>0,N237/총괄표!$E$4))","v":" "},"0",null,{"$f":"IF(L237=\"\",\"0\",(총괄표!$H$3-L237)/365)","v":"0"}]
[{"$nulls":10}," ",null," ",null,null,{"$f":"IF(N238=0,\" \",IF(N238>0,N238/총괄표!$E$4))","v":" "},"0",null,{"$f":"IF(L238=\"\",\"0\",(총괄표!$H$3-L238)/365)","v":"0"}]
[{"$nulls":10}," ",null," ",null,null,{"$f":"IF(N239=0,\" \",IF(N239>0,N239/총괄표!$E$4))","v":" "},"0",null,{"$f":"IF(L239=\"\",\"0\",(총괄표!$H$3-L239)/365)","v":"0"}]
[{"$nulls":10}," ",null," ",null,null,{"$f":"IF(N240=0,\" \",IF(N240>0,N240/총괄표!$E$4))","v":" "},"0",null,{"$f":"IF(L240=\"\",\"0\",(총괄표!$H$3-L240)/365)","v":"0"}]
[{"$nulls":10}," ",null," ",null,null,{"$f":"IF(N241=0,\" \",IF(N241>0,N241/총괄표!$E$4))","v":" "},"0",null,{"$f":"IF(L241=\"\",\"0\",(총괄표!$H$3-L241)/365)","v":"0"}]
[{"$nulls":10}," ",null," ",null,null,{"$f":"IF(N242=0,\" \",IF(N242>0,N242/총괄표!$E$4))","v":" "},"0",null,{"$f":"IF(L242=\"\",\"0\",(총괄표!$H$3-L242)/365)","v":"0"}]
[{"$nulls":10}," ",null," ",null,null,{"$f":"IF(N243=0,\" \",IF(N243>0,N243/총괄표!$E$4))","v":" "},"0",null,{"$f":"IF(L243=\"\",\"0\",(총괄표!$H$3-L243)/365)","v":"0"}]
[{"$nulls":10}," ",null," ",null,null,{"$f":"IF(N244=0,\" \",IF(N244>0,N244/총괄표!$E$4))","v":" "},"0",null,{"$f":"IF(L244=\"\",\"0\",(총괄표!$H$3-L244)/365)","v":"0"}]
[{"$nulls":10}," ",null," ",null,null,{"$f":"IF(N245=0,\" \",IF(N245>0,N245/총괄표!$E$4))","v":" "},"0",null,{"$f":"IF(L245=\"\",\"0\",(총괄표!$H$3-L245)/365)","v":"0"}]
[{"$nulls":10}," ",null," ",null,null,{"$f":"IF(N246=0,\" \",IF(N246>0,N246/총괄표!$E$4))","v":" "},"0",null,{"$f":"IF(L246=\"\",\"0\",(총괄표!$H$3-L246)/365)","v":"0"}]
[{"$nulls":10}," ",null," ",null,null,{"$f":"IF(N247=0,\" \",IF(N247>0,N247/총괄표!$E$4))","v":" "},"0",null,{"$f":"IF(L247=\"\",\"0\",(총괄표!$H$3-L247)/365)","v":"0"}]
[{"$nulls":10}," ",null," ",null,null,{"$f":"IF(N248=0,\" \",IF(N248>0,N248/총괄표!$E$4))","v":" "},"0",null,{"$f":"IF(L248=\"\",\"0\",(총괄표!$H$3-L248)/365)","v":"0"}]
[{"$nulls":10}," ",null," ",null,null,{"$f":"IF(N249=0,\" \",IF(N249>0,N249/총괄표!$E$4))","v":" "},"0",null,{"$f":"IF(L249=\"\",\"0\",(총괄표!$H$3-L249)/365)","v":"0"}]
[{"$nulls":10}," ",null," ",null,null,{"$f":"IF(N250=0,\" \",IF(N250>0,N250/총괄표!$E$4))","v":" "},"0",null,{"$f":"IF(L250=\"\",\"0\",(총괄표!$H$3-L250)/365)","v":"0"}]
[{"$nulls":10}," ",null," ",null,null,{"$f":"IF(N251=0,\" \",IF(N251>0,N251/총괄표!$E$4))","v":" "},"0",null,{"$f":"IF(L251=\"\",\"0\",(총괄표!$H$3-L251)/365)","v":"0"}]
["분야별\n참여\n기술자",{"$f":"참여업체현황!G4","v":"토질 지질"},"합계","-","-","-","-",null,"-","-","-",null,null,"-","-","-",{"$f":"Q253+Q254+Q255+Q256+Q257+Q258+Q259+Q260+Q261+Q262+Q263+Q264+Q265+Q266+Q267+Q268+Q269+Q270+Q271+Q272+Q273+Q274+Q275+Q276+Q277+Q278+Q279+Q280+Q281+Q282","v":1},null,{"$f":"IF(L252=\"\",\"0\",(총괄표!$H$3-L252)/365)","v":"0"}]
[null,null,null,"00용역","00공사","00엔지니어링",{"$f":"$B$252","v":"토질 지질"},400,"2009-10-11","2010-10-12",{"$f":"IF(J253-I253=0,\" \",IF(J253-I253>0,J253-I253+1))","v":367},"2010-10-12",{"$f":"IF(H253=0,\" \",IF(H253>0,K253/H253))","v":0.91749999999999998},756132564,1900000,{"$f":"IF(N253=0,\" \",IF(N253>0,N253/총괄표!$E$4))","v":1.3200615292221907},{"$f":"IF(H253<90,\"0\",IF(S253>10,\"0\",IF(M253<30%,\"0\",IF(P253=\" \",\"0\",IF(P253>=200%,\"2\",IF(P253>=150%,\"1.5\",IF(P253>=100%,\"1\",IF(P253>=50%,\"0.5\",IF(P253<50%,\"0\")))))))))","v":"1"},null,{"$f":"IF(L253=\"\",\"0\",(총괄표!$H$3-L253)/365)","v":1.9835616438356165}]
[null,null,null,"00용역","0공사","000엔지니어링",{"$f":"$B$252","v":"토질 지질"},600,"2008-10-10","2009-12-11",{"$f":"IF(J254-I254=0,\" \",IF(J254-I254>0,J254-I254+1))","v":428},"2009-12-11",0.71333333333333337,123352213,1800000,{"$f":"IF(N254=0,\" \",IF(N254>0,N254/총괄표!$E$4))","v":0.21534915790998968},"0",null,{"$f":"IF(L254=\"\",\"0\",(총괄표!$H$3-L254)/365)","v":2.8191780821917809}]
[{"$nulls":4},"0공사","000엔지니어링","토질 지질",800,"2009-10-11","2010-10-10",365,"2010-10-10",0.45624999999999999,123352213,1700000,{"$f":"IF(N255=0,\" \",IF(N255>0,N255/총괄표!$E$4))","v":0.21534915790998968},"0",null,{"$f":"IF(L255=\"\",\"0\",(총괄표!$H$3-L255)/365)","v":1.989041095890411}]
[{"$nulls":4},"0공사","000엔지니어링","토질 지질",600,"2008-09-09","2010-01-01",480,"2010-01-01",0.8,123352213,1600000,{"$f":"IF(N256=0,\" \",IF(N256>0,N256/총괄표!$E$4))","v":0.21534915790998968},"0",null,{"$f":"IF(L256=\"\",\"0\",(총괄표!$H$3-L256)/365)","v":2.7616438356164386}]
[{"$nulls":4},"0공사","000엔지니어링","토질 지질",500,"2007-12-12","2009-12-11",731,"2010-05-05",1.462,123352213,1500000,{"$f":"IF(N257=0,\" \",IF(N257>0,N257/총괄표!$E$4))","v":0.21534915790998968},"0",null,{"$f":"IF(L257=\"\",\"0\",(총괄표!$H$3-L257)/365)","v":2.4219178082191779}]
[{"$nulls":4},"0공사","000엔지니어링","토질 지질",400,"2009-10-11","2009-12-11",62,"2010-02-02",0.155,123352213,1400000,{"$f":"IF(N258=0,\" \",IF(N258>0,N258/총괄표!$E$4))","v":0.21534915790998968},"0",null,{"$f":"IF(L258=\"\",\"0\",(총괄표!$H$3-L258)/365)","v":2.6739726027397261}]
[{"$nulls":4},"0공사","000엔지니어링","토질 지질",600,"2008-10-10","2009-12-11",428,"2009-12-11",0.71333333333333337,123352213,1300000,{"$f":"IF(N259=0,\" \",IF(N259>0,N259/총괄표!$E$4))","v":0.21534915790998968},"0",null,{"$f":"IF(L259=\"\",\"0\",(총괄표!$H$3-L259)/365)","v":2.8191780821917809}]
[{"$nulls":4},"0공사","000엔지니어링","토질 지질",800,"2009-10-11","2010-10-10",365,"2010-10-10",0.45624999999999999,123352213,1200000,{"$f":"IF(N260=0,\" \",IF(N260>0,N260/총괄표!$E$4))","v":0.21534915790998968},"0",null,{"$f":"IF(L260=\"\",\"0\",(총괄표!$H$3-L260)/365)","v":1.989041095890411}]
[{"$nulls":4},"0공사","000엔지니어링","토질 지질",600,"2008-09-09","2010-01-01",480,"2010-01-01",0.8,123352213,1100000,{"$f":"IF(N261=0,\" \",IF(N261>0,N261/총괄표!$E$4))","v":0.21534915790998968},"0",null,{"$f":"IF(L261=\"\",\"0\",(총괄표!$H$3-L261)/365)","v":2.7616438356164386}]
[{"$nulls":4},"0공사","000엔지니어링","토질 지질",500,"2007-12-12","2009-12-11",731,"2010-05-05",1.462,123352213,1000000,{"$f":"IF(N262=0,\" \",IF(N262>0,N262/총괄표!$E$4))","v":0.21534915790998968},"0",null,{"$f":"IF(L262=\"\",\"0\",(총괄표!$H$3-L262)/365)","v":2.4219178082191779}]
[{"$nulls":4},"0공사","000엔지니어링","토질 지질",400,"2009-10-11","2009-12-11",62,"2010-02-02",0.155,123352213,900000,{"$f":"IF(N263=0,\" \",IF(N263>0,N263/총괄표!$E$4))","v":0.21534915790998968},"0",null,{"$f":"IF(L263=\"\",\"0\",(총괄표!$H$3-L263)/365)","v":2.6739726027397261}]
[{"$nulls":10},{"$f":"IF(J264-I264=0,\" \",IF(J264-I264>0,J264-I264+1))","v":" "},null,{"$f":"IF(H264=0,\" \",IF(H264>0,K264/H264))","v":" "},null,null,{"$f":"IF(N264=0,\" \",IF(N264>0,N264/총괄표!$E$4))","v":" "},"0",null,{"$f":"IF(L264=\"\",\"0\",(총괄표!$H$3-L264)/365)","v":"0"}]
[{"$nulls":10}," ",null," ",null,null,{"$f":"IF(N265=0,\" \",IF(N265>0,N265/총괄표!$E$4))","v":" "},"0",null,{"$f":"IF(L265=\"\",\"0\",(총괄표!$H$3-L265)/365)","v":"0"}]
[{"$nulls":10}," ",null," ",null,null,{"$f":"IF(N266=0,\" \",IF(N266>0,N266/총괄표!$E$4))","v":" "},"0",null,{"$f":"IF(L266=\"\",\"0\",(총괄표!$H$3-L266)/365)","v":"0"}]
[{"$nulls":10}," ",null," ",null,null,{"$f":"IF(N267=0,\" \",IF(N267>0,N267/총괄표!$E$4))","v":" "},"0",null,{"$f":"IF(L267=\"\",\"0\",(총괄표!$H$3-L267)/365)","v":"0"}]
[{"$nulls":10}," ",null," ",null,null,{"$f":"IF(N268=0,\" \",IF(N268>0,N268/총괄표!$E$4))","v":" "},"0",null,{"$f":"IF(L268=\"\",\"0\",(총괄표!$H$3-L268)/365)","v":"0"}]
[{"$nulls":10}," ",null," ",null,null,{"$f":"IF(N269=0,\" \",IF(N269>0,N269/총괄표!$E$4))","v":" "},"0",null,{"$f":"IF(L269=\"\",\"0\",(총괄표!$H$3-L269)/365)","v":"0"}]
[{"$nulls":10}," ",null," ",null,null,{"$f":"IF(N270=0,\" \",IF(N270>0,N270/총괄표!$E$4))","v":" "},"0",null,{"$f":"IF(L270=\"\",\"0\",(총괄표!$H$3-L270)/365)","v":"0"}]
[{"$nulls":10}," ",null," ",null,null,{"$f":"IF(N271=0,\" \",IF(N271>0,N271/총괄표!$E$4))","v":" "},"0",null,{"$f":"IF(L271=\"\",\"0\",(총괄표!$H$3-L271)/365)","v":"0"}]
[{"$nulls":10}," ",null," ",null,null,{"$f":"IF(N272=0,\" \",IF(N272>0,N272/총괄표!$E$4))","v":" "},"0",null,{"$f":"IF(L272=\"\",\"0\",(총괄표!$H$3-L272)/365)","v":"0"}]
[{"$nulls":10}," ",null," ",null,null,{"$f":"IF(N273=0,\" \",IF(N273>0,N273/총괄표!$E$4))","v":" "},"0",null,{"$f":"IF(L273=\"\",\"0\",(총괄표!$H$3-L273)/365)","v":"0"}]
[{"$nulls":10}," ",null," ",null,null,{"$f":"IF(N274=0,\" \",IF(N274>0,N274/총괄표!$E$4))","v":" "},"0",null,{"$f":"IF(L274=\"\",\"0\",(총괄표!$H$3-L274)/365)","v":"0"}]
[{"$nulls":10}," ",null," ",null,null,{"$f":"IF(N275=0,\" \",IF(N275>0,N275/총괄표!$E$4))","v":" "},"0",null,{"$f":"IF(L275=\"\",\"0\",(총괄표!$H$3-L275)/365)","v":"0"}]
[{"$nulls":10}," ",null," ",null,null,{"$f":"IF(N276=0,\" \",IF(N276>0,N276/총괄표!$E$4))","v":" "},"0",null,{"$f":"IF(L276=\"\",\"0\",(총괄표!$H$3-L276)/365)","v":"0"}]
[{"$nulls":10}," ",null," ",null,null,{"$f":"IF(N277=0,\" \",IF(N277>0,N277/총괄표!$E$4))","v":" "},"0",null,{"$f":"IF(L277=\"\",\"0\",(총괄표!$H$3-L277)/365)","v":"0"}]
[{"$nulls":10}," ",null," ",null,null,{"$f":"IF(N278=0,\" \",IF(N278>0,N278/총괄표!$E$4))","v":" "},"0",null,{"$f":"IF(L278=\"\",\"0\",(총괄표!$H$3-L278)/365)","v":"0"}]
[{"$nulls":10}," ",null," ",null,null,{"$f":"IF(N279=0,\" \",IF(N279>0,N279/총괄표!$E$4))","v":" "},"0",null,{"$f":"IF(L279=\"\",\"0\",(총괄표!$H$3-L279)/365)","v":"0"}]
[{"$nulls":10}," ",null," ",null,null,{"$f":"IF(N280=0,\" \",IF(N280>0,N280/총괄표!$E$4))","v":" "},"0",null,{"$f":"IF(L280=\"\",\"0\",(총괄표!$H$3-L280)/365)","v":"0"}]
[{"$nulls":10}," ",null," ",null,null,{"$f":"IF(N281=0,\" \",IF(N281>0,N281/총괄표!$E$4))","v":" "},"0",null,{"$f":"IF(L281=\"\",\"0\",(총괄표!$H$3-L281)/365)","v":"0"}]
[{"$nulls":10}," ",null," ",null,null,{"$f":"IF(N282=0,\" \",IF(N282>0,N282/총괄표!$E$4))","v":" "},"0",null,{"$f":"IF(L282=\"\",\"0\",(총괄표!$H$3-L282)/365)","v":"0"}]
["분야별\n참여\n기술자",{"$f":"참여업체현황!H4","v":"일반기계"},"합계","-","-","-","-",null,"-","-","-",null,null,"-","-","-",{"$f":"Q284+Q285+Q286+Q287+Q288+Q289+Q290+Q291+Q292+Q293+Q294+Q295+Q296+Q297+Q298+Q299+Q300+Q301+Q302+Q303+Q304+Q305+Q306+Q307+Q308+Q309+Q310+Q311+Q312+Q313","v":1},null,{"$f":"IF(L283=\"\",\"0\",(총괄표!$H$3-L283)/365)","v":"0"}]
[null,null,null,"00용역","00공사","00엔지니어링",{"$f":"$B$283","v":"일반기계"},400,"2009-10-11","2010-10-12",{"$f":"IF(J284-I284=0,\" \",IF(J284-I284>0,J284-I284+1))","v":367},"2010-10-12",{"$f":"IF(H284=0,\" \",IF(H284>0,K284/H284))","v":0.91749999999999998},756132564,1900000,{"$f":"IF(N284=0,\" \",IF(N284>0,N284/총괄표!$E$4))","v":1.3200615292221907},{"$f":"IF(H284<90,\"0\",IF(S284>10,\"0\",IF(M284<30%,\"0\",IF(P284=\" \",\"0\",IF(P284>=200%,\"2\",IF(P284>=150%,\"1.5\",IF(P284>=100%,\"1\",IF(P284>=50%,\"0.5\",IF(P284<50%,\"0\")))))))))","v":"1"},null,{"$f":"IF(L284=\"\",\"0\",(총괄표!$H$3-L284)/365)","v":1.9835616438356165}]
[null,null,null,"00용역","0공사","000엔지니어링",{"$f":"$B$283","v":"일반기계"},600,"2008-10-10","2009-12-11",{"$f":"IF(J285-I285=0,\" \",IF(J285-I285>0,J285-I285+1))","v":428},"2009-12-11",0.71333333333333337,123352213,1800000,{"$f":"IF(N285=0,\" \",IF(N285>0,N285/총괄표!$E$4))","v":0.21534915790998968},"0",null,{"$f":"IF(L285=\"\",\"0\",(총괄표!$H$3-L285)/365)","v":2.8191780821917809}]
[{"$nulls":4},"0공사","000엔지니어링","일반기계",800,"2009-10-11","2010-10-10",365,"2010-10-10",0.45624999999999999,123352213,1700000,{"$f":"IF(N286=0,\" \",IF(N286>0,N286/총괄표!$E$4))","v":0.21534915790998968},"0",null,{"$f":"IF(L286=\"\",\"0\",(총괄표!$H$3-L286)/365)","v":1.989041095890411}]
[{"$nulls":4},"0공사","000엔지니어링","일반기계",600,"2008-09-09","2010-01-01",480,"2010-01-01",0.8,123352213,1600000,{"$f":"IF(N287=0,\" \",IF(N287>0,N287/총괄표!$E$4))","v":0.21534915790998968},"0",null,{"$f":"IF(L287=\"\",\"0\",(총괄표!$H$3-L287)/365)","v":2.7616438356164386}]
[{"$nulls":4},"0공사","000엔지니어링","일반기계",500,"2007-12-12","2009-12-11",731,"2010-05-05",1.462,123352213,1500000,{"$f":"IF(N288=0,\" \",IF(N288>0,N288/총괄표!$E$4))","v":0.21534915790998968},"0",null,{"$f":"IF(L288=\"\",\"0\",(총괄표!$H$3-L288)/365)","v":2.4219178082191779}]
[{"$nulls":4},"0공사","000엔지니어링","일반기계",400,"2009-10-11","2009-12-11",62,"2010-02-02",0.155,123352213,1400000,{"$f":"IF(N289=0,\" \",IF(N289>0,N289/총괄표!$E$4))","v":0.21534915790998968},"0",null,{"$f":"IF(L289=\"\",\"0\",(총괄표!$H$3-L289)/365)","v":2.6739726027397261}]
[{"$nulls":4},"0공사","000엔지니어링","일반기계",600,"2008-10-10","2009-12-11",428,"2009-12-11",0.71333333333333337,123352213,1300000,{"$f":"IF(N290=0,\" \",IF(N290>0,N290/총괄표!$E$4))","v":0.21534915790998968},"0",null,{"$f":"IF(L290=\"\",\"0\",(총괄표!$H$3-L290)/365)","v":2.8191780821917809}]
[{"$nulls":4},"0공사","000엔지니어링","일반기계",800,"2009-10-11","2010-10-10",365,"2010-10-10",0.45624999999999999,123352213,1200000,{"$f":"IF(N291=0,\" \",IF(N291>0,N291/총괄표!$E$4))","v":0.21534915790998968},"0",null,{"$f":"IF(L291=\"\",\"0\",(총괄표!$H$3-L291)/365)","v":1.989041095890411}]
[{"$nulls":4},"0공사","000엔지니어링","일반기계",600,"2008-09-09","2010-01-01",480,"2010-01-01",0.8,123352213,1100000,{"$f":"IF(N292=0,\" \",IF(N292>0,N292/총괄표!$E$4))","v":0.21534915790998968},"0",null,{"$f":"IF(L292=\"\",\"0\",(총괄표!$H$3-L292)/365)","v":2.7616438356164386}]
[{"$nulls":4},"0공사","000엔지니어링","일반기계",500,"2007-12-12","2009-12-11",731,"2010-05-05",1.462,123352213,1000000,{"$f":"IF(N293=0,\" \",IF(N293>0,N293/총괄표!$E$4))","v":0.21534915790998968},"0",null,{"$f":"IF(L293=\"\",\"0\",(총괄표!$H$3-L293)/365)","v":2.4219178082191779}]
[{"$nulls":4},"0공사","000엔지니어링","일반기계",400,"2009-10-11","2009-12-11",62,"2010-02-02",0.155,123352213,900000,{"$f":"IF(N294=0,\" \",IF(N294>0,N294/총괄표!$E$4))","v":0.21534915790998968},"0",null,{"$f":"IF(L294=\"\",\"0\",(총괄표!$H$3-L294)/365)","v":2.6739726027397261}]
[{"$nulls":10},{"$f":"IF(J295-I295=0,\" \",IF(J295-I295>0,J295-I295+1))","v":" "},null,{"$f":"IF(H295=0,\" \",IF(H295>0,K295/H295))","v":" "},null,null,{"$f":"IF(N295=0,\" \",IF(N295>0,N295/총괄표!$E$4))","v":" "},"0",null,{"$f":"IF(L295=\"\",\"0\",(총괄표!$H$3-L295)/365)","v":"0"}]
[{"$nulls":10}," ",null," ",null,null,{"$f":"IF(N296=0,\" \",IF(N296>0,N296/총괄표!$E$4))","v":" "},"0",null,{"$f":"IF(L296=\"\",\"0\",(총괄표!$H$3-L296)/365)","v":"0"}]
[{"$nulls":10}," ",null," ",null,null,{"$f":"IF(N297=0,\" \",IF(N297>0,N297/총괄표!$E$4))","v":" "},"0",null,{"$f":"IF(L297=\"\",\"0\",(총괄표!$H$3-L297)/365)","v":"0"}]
[{"$nulls":10}," ",null," ",null,null,{"$f":"IF(N298=0,\" \",IF(N298>0,N298/총괄표!$E$4))","v":" "},"0",null,{"$f":"IF(L298=\"\",\"0\",(총괄표!$H$3-L298)/365)","v":"0"}]
[{"$nulls":10}," ",null," ",null,null,{"$f":"IF(N299=0,\" \",IF(N299>0,N299/총괄표!$E$4))","v":" "},"0",null,{"$f":"IF(L299=\"\",\"0\",(총괄표!$H$3-L299)/365)","v":"0"}]
[{"$nulls":10}," ",null," ",null,null,{"$f":"IF(N300=0,\" \",IF(N300>0,N300/총괄표!$E$4))","v":" "},"0",null,{"$f":"IF(L300=\"\",\"0\",(총괄표!$H$3-L300)/365)","v":"0"}]
[{"$nulls":10}," ",null," ",null,null,{"$f":"IF(N301=0,\" \",IF(N301>0,N301/총괄표!$E$4))","v":" "},"0",null,{"$f":"IF(L301=\"\",\"0\",(총괄표!$H$3-L301)/365)","v":"0"}]
[{"$nulls":10}," ",null," ",null,null,{"$f":"IF(N302=0,\" \",IF(N302>0,N302/총괄표!$E$4))","v":" "},"0",null,{"$f":"IF(L302=\"\",\"0\",(총괄표!$H$3-L302)/365)","v":"0"}]
[{"$nulls":10}," ",null," ",null,null,{"$f":"IF(N303=0,\" \",IF(N303>0,N303/총괄표!$E$4))","v":" "},"0",null,{"$f":"IF(L303=\"\",\"0\",(총괄표!$H$3-L303)/365)","v":"0"}]
[{"$nulls":10}," ",null," ",null,null,{"$f":"IF(N304=0,\" \",IF(N304>0,N304/총괄표!$E$4))","v":" "},"0",null,{"$f":"IF(L304=\"\",\"0\",(총괄표!$H$3-L304)/365)","v":"0"}]
[{"$nulls":10}," ",null," ",null,null,{"$f":"IF(N305=0,\" \",IF(N305>0,N305/총괄표!$E$4))","v":" "},"0",null,{"$f":"IF(L305=\"\",\"0\",(총괄표!$H$3-L305)/365)","v":"0"}]
[{"$nulls":10}," ",null," ",null,null,{"$f":"IF(N306=0,\" \",IF(N306>0,N306/총괄표!$E$4))","v":" "},"0",null,{"$f":"IF(L306=\"\",\"0\",(총괄표!$H$3-L306)/365)","v":"0"}]
[{"$nulls":10}," ",null," ",null,null,{"$f":"IF(N307=0,\" \",IF(N307>0,N307/총괄표!$E$4))","v":" "},"0",null,{"$f":"IF(L307=\"\",\"0\",(총괄표!$H$3-L307)/365)","v":"0"}]
[{"$nulls":10}," ",null," ",null,null,{"$f":"IF(N308=0,\" \",IF(N308>0,N308/총괄표!$E$4))","v":" "},"0",null,{"$f":"IF(L308=\"\",\"0\",(총괄표!$H$3-L308)/365)","v":"0"}]
[{"$nulls":10}," ",null," ",null,null,{"$f":"IF(N309=0,\" \",IF(N309>0,N309/총괄표!$E$4))","v":" "},"0",null,{"$f":"IF(L309=\"\",\"0\",(총괄표!$H$3-L309)/365)","v":"0"}]
[{"$nulls":10}," ",null," ",null,null,{"$f":"IF(N310=0,\" \",IF(N310>0,N310/총괄표!$E$4))","v":" "},"0",null,{"$f":"IF(L310=\"\",\"0\",(총괄표!$H$3-L310)/365)","v":"0"}]
[{"$nulls":10}," ",null," ",null,null,{"$f":"IF(N311=0,\" \",IF(N311>0,N311/총괄표!$E$4))","v":" "},"0",null,{"$f":"IF(L311=\"\",\"0\",(총괄표!$H$3-L311)/365)","v":"0"}]
[{"$nulls":10}," ",null," ",null,null,{"$f":"IF(N312=0,\" \",IF(N312>0,N312/총괄표!$E$4))","v":" "},"0",null,{"$f":"IF(L312=\"\",\"0\",(총괄표!$H$3-L312)/365)","v":"0"}]
[{"$nulls":10}," ",null," ",null,null,{"$f":"IF(N313=0,\" \",IF(N313>0,N313/총괄표!$E$4))","v":" "},"0",null,{"$f":"IF(L313=\"\",\"0\",(총괄표!$H$3-L313)/365)","v":"0"}]
["분야별\n참여\n기술자",{"$f":"참여업체현황!I4","v":"전기설비"},"합계","-","-","-","-",null,"-","-","-",null,null,"-","-","-",{"$f":"Q315+Q316+Q317+Q318+Q319+Q320+Q321+Q322+Q323+Q324+Q325+Q326+Q327+Q328+Q329+Q330+Q331+Q332+Q333+Q334+Q335+Q336+Q337+Q338+Q339+Q340+Q341+Q342+Q343+Q344","v":1},null,{"$f":"IF(L314=\"\",\"0\",(총괄표!$H$3-L314)/365)","v":"0"}]
[null,null,null,"00용역","00공사","00엔지니어링",{"$f":"$B$314","v":"전기설비"},400,"2009-10-11","2010-10-12",{"$f":"IF(J315-I315=0,\" \",IF(J315-I315>0,J315-I315+1))","v":367},"2010-10-12",{"$f":"IF(H315=0,\" \",IF(H315>0,K315/H315))","v":0.91749999999999998},756132564,1900000,{"$f":"IF(N315=0,\" \",IF(N315>0,N315/총괄표!$E$4))","v":1.3200615292221907},{"$f":"IF(H315<90,\"0\",IF(S315>10,\"0\",IF(M315<30%,\"0\",IF(P315=\" \",\"0\",IF(P315>=200%,\"2\",IF(P315>=150%,\"1.5\",IF(P315>=100%,\"1\",IF(P315>=50%,\"0.5\",IF(P315<50%,\"0\")))))))))","v":"1"},null,{"$f":"IF(L315=\"\",\"0\",(총괄표!$H$3-L315)/365)","v":1.9835616438356165}]
[null,null,null,"00용역","0공사","000엔지니어링",{"$f":"$B$314","v":"전기설비"},600,"2008-10-10","2009-12-11",{"$f":"IF(J316-I316=0,\" \",IF(J316-I316>0,J316-I316+1))","v":428},"2009-12-11",0.71333333333333337,123352213,1800000,{"$f":"IF(N316=0,\" \",IF(N316>0,N316/총괄표!$E$4))","v":0.21534915790998968},"0",null,{"$f":"IF(L316=\"\",\"0\",(총괄표!$H$3-L316)/365)","v":2.8191780821917809}]
[{"$nulls":4},"0공사","000엔지니어링","전기설비",800,"2009-10-11","2010-10-10",365,"2010-10-10",0.45624999999999999,123352213,1700000,{"$f":"IF(N317=0,\" \",IF(N317>0,N317/총괄표!$E$4))","v":0.21534915790998968},"0",null,{"$f":"IF(L317=\"\",\"0\",(총괄표!$H$3-L317)/365)","v":1.989041095890411}]
[{"$nulls":4},"0공사","000엔지니어링","전기설비",600,"2008-09-09","2010-01-01",480,"2010-01-01",0.8,123352213,1600000,{"$f":"IF(N318=0,\" \",IF(N318>0,N318/총괄표!$E$4))","v":0.21534915790998968},"0",null,{"$f":"IF(L318=\"\",\"0\",(총괄표!$H$3-L318)/365)","v":2.7616438356164386}]
[{"$nulls":4},"0공사","000엔지니어링","전기설비",500,"2007-12-12","2009-12-11",731,"2010-05-05",1.462,123352213,1500000,{"$f":"IF(N319=0,\" \",IF(N319>0,N319/총괄표!$E$4))","v":0.21534915790998968},"0",null,{"$f":"IF(L319=\"\",\"0\",(총괄표!$H$3-L319)/365)","v":2.4219178082191779}]
[{"$nulls":4},"0공사","000엔지니어링","전기설비",400,"2009-10-11","2009-12-11",62,"2010-02-02",0.155,123352213,1400000,{"$f":"IF(N320=0,\" \",IF(N320>0,N320/총괄표!$E$4))","v":0.21534915790998968},"0",null,{"$f":"IF(L320=\"\",\"0\",(총괄표!$H$3-L320)/365)","v":2.6739726027397261}]
[{"$nulls":4},"0공사","000엔지니어링","전기설비",600,"2008-10-10","2009-12-11",428,"2009-12-11",0.71333333333333337,123352213,1300000,{"$f":"IF(N321=0,\" \",IF(N321>0,N321/총괄표!$E$4))","v":0.21534915790998968},"0",null,{"$f":"IF(L321=\"\",\"0\",(총괄표!$H$3-L321)/365)","v":2.8191780821917809}]
[{"$nulls":4},"0공사","000엔지니어링","전기설비",800,"2009-10-11","2010-10-10",365,"2010-10-10",0.45624999999999999,123352213,1200000,{"$f":"IF(N322=0,\" \",IF(N322>0,N322/총괄표!$E$4))","v":0.21534915790998968},"0",null,{"$f":"IF(L322=\"\",\"0\",(총괄표!$H$3-L322)/365)","v":1.989041095890411}]
[{"$nulls":4},"0공사","000엔지니어링","전기설비",600,"2008-09-09","2010-01-01",480,"2010-01-01",0.8,123352213,1100000,{"$f":"IF(N323=0,\" \",IF(N323>0,N323/총괄표!$E$4))","v":0.21534915790998968},"0",null,{"$f":"IF(L323=\"\",\"0\",(총괄표!$H$3-L323)/365)","v":2.7616438356164386}]
[{"$nulls":4},"0공사","000엔지니어링","전기설비",500,"2007-12-12","2009-12-11",731,"2010-05-05",1.462,123352213,1000000,{"$f":"IF(N324=0,\" \",IF(N324>0,N324/총괄표!$E$4))","v":0.21534915790998968},"0",null,{"$f":"IF(L324=\"\",\"0\",(총괄표!$H$3-L324)/365)","v":2.4219178082191779}]
[{"$nulls":4},"0공사","000엔지니어링","전기설비",400,"2009-10-11","2009-12-11",62,"2010-02-02",0.155,123352213,900000,{"$f":"IF(N325=0,\" \",IF(N325>0,N325/총괄표!$E$4))","v":0.21534915790998968},"0",null,{"$f":"IF(L325=\"\",\"0\",(총괄표!$H$3-L325)/365)","v":2.6739726027397261}]
[{"$nulls":10},{"$f":"IF(J326-I326=0,\" \",IF(J326-I326>0,J326-I326+1))","v":" "},null,{"$f":"IF(H326=0,\" \",IF(H326>0,K326/H326))","v":" "},null,null,{"$f":"IF(N326=0,\" \",IF(N326>0,N326/총괄표!$E$4))","v":" "},"0",null,{"$f":"IF(L326=\"\",\"0\",(총괄표!$H$3-L326)/365)","v":"0"}]
[{"$nulls":10}," ",null," ",null,null,{"$f":"IF(N327=0,\" \",IF(N327>0,N327/총괄표!$E$4))","v":" "},"0",null,{"$f":"IF(L327=\"\",\"0\",(총괄표!$H$3-L327)/365)","v":"0"}]
[{"$nulls":10}," ",null," ",null,null,{"$f":"IF(N328=0,\" \",IF(N328>0,N328/총괄표!$E$4))","v":" "},"0",null,{"$f":"IF(L328=\"\",\"0\",(총괄표!$H$3-L328)/365)","v":"0"}]
[{"$nulls":10}," ",null," ",null,null,{"$f":"IF(N329=0,\" \",IF(N329>0,N329/총괄표!$E$4))","v":" "},"0",null,{"$f":"IF(L329=\"\",\"0\",(총괄표!$H$3-L329)/365)","v":"0"}]
[{"$nulls":10}," ",null," ",null,null,{"$f":"IF(N330=0,\" \",IF(N330>0,N330/총괄표!$E$4))","v":" "},"0",null,{"$f":"IF(L330=\"\",\"0\",(총괄표!$H$3-L330)/365)","v":"0"}]
[{"$nulls":10}," ",null," ",null,null,{"$f":"IF(N331=0,\" \",IF(N331>0,N331/총괄표!$E$4))","v":" "},"0",null,{"$f":"IF(L331=\"\",\"0\",(총괄표!$H$3-L331)/365)","v":"0"}]
[{"$nulls":10}," ",null," ",null,null,{"$f":"IF(N332=0,\" \",IF(N332>0,N332/총괄표!$E$4))","v":" "},"0",null,{"$f":"IF(L332=\"\",\"0\",(총괄표!$H$3-L332)/365)","v":"0"}]
[{"$nulls":10}," ",null," ",null,null,{"$f":"IF(N333=0,\" \",IF(N333>0,N333/총괄표!$E$4))","v":" "},"0",null,{"$f":"IF(L333=\"\",\"0\",(총괄표!$H$3-L333)/365)","v":"0"}]
[{"$nulls":10}," ",null," ",null,null,{"$f":"IF(N334=0,\" \",IF(N334>0,N334/총괄표!$E$4))","v":" "},"0",null,{"$f":"IF(L334=\"\",\"0\",(총괄표!$H$3-L334)/365)","v":"0"}]
[{"$nulls":10}," ",null," ",null,null,{"$f":"IF(N335=0,\" \",IF(N335>0,N335/총괄표!$E$4))","v":" "},"0",null,{"$f":"IF(L335=\"\",\"0\",(총괄표!$H$3-L335)/365)","v":"0"}]
[{"$nulls":10}," ",null," ",null,null,{"$f":"IF(N336=0,\" \",IF(N336>0,N336/총괄표!$E$4))","v":" "},"0",null,{"$f":"IF(L336=\"\",\"0\",(총괄표!$H$3-L336)/365)","v":"0"}]
[{"$nulls":10}," ",null," ",null,null,{"$f":"IF(N337=0,\" \",IF(N337>0,N337/총괄표!$E$4))","v":" "},"0",null,{"$f":"IF(L337=\"\",\"0\",(총괄표!$H$3-L337)/365)","v":"0"}]
[{"$nulls":10}," ",null," ",null,null,{"$f":"IF(N338=0,\" \",IF(N338>0,N338/총괄표!$E$4))","v":" "},"0",null,{"$f":"IF(L338=\"\",\"0\",(총괄표!$H$3-L338)/365)","v":"0"}]
[{"$nulls":10}," ",null," ",null,null,{"$f":"IF(N339=0,\" \",IF(N339>0,N339/총괄표!$E$4))","v":" "},"0",null,{"$f":"IF(L339=\"\",\"0\",(총괄표!$H$3-L339)/365)","v":"0"}]
[{"$nulls":10}," ",null," ",null,null,{"$f":"IF(N340=0,\" \",IF(N340>0,N340/총괄표!$E$4))","v":" "},"0",null,{"$f":"IF(L340=\"\",\"0\",(총괄표!$H$3-L340)/365)","v":"0"}]
[{"$nulls":10}," ",null," ",null,null,{"$f":"IF(N341=0,\" \",IF(N341>0,N341/총괄표!$E$4))","v":" "},"0",null,{"$f":"IF(L341=\"\",\"0\",(총괄표!$H$3-L341)/365)","v":"0"}]
[{"$nulls":10}," ",null," ",null,null,{"$f":"IF(N342=0,\" \",IF(N342>0,N342/총괄표!$E$4))","v":" "},"0",null,{"$f":"IF(L342=\"\",\"0\",(총괄표!$H$3-L342)/365)","v":"0"}]
[{"$nulls":10}," ",null," ",null,null,{"$f":"IF(N343=0,\" \",IF(N343>0,N343/총괄표!$E$4))","v":" "},"0",null,{"$f":"IF(L343=\"\",\"0\",(총괄표!$H$3-L343)/365)","v":"0"}]
[{"$nulls":10}," ",null," ",null,null,{"$f":"IF(N344=0,\" \",IF(N344>0,N344/총괄표!$E$4))","v":" "},"0",null,{"$f":"IF(L344=\"\",\"0\",(총괄표!$H$3-L344)/365)","v":"0"}]

{"sheet":"2.(1)유사용역(실적_배수지, 가압장, 정수장)","index":4,"n_rows":192,"n_cols":17,"rows_kept":192,"cut":false,"hidden":false,"merged":[[7,0,7,1],[1,0,1,10],[5,2,6,2],[5,3,6,3],[5,0,6,1],[5,4,5,6],[3,6,3,7],[3,0,3,1],[14,6,14,7],[50,6,50,7],[53,0,53,1],[86,6,86,7],[89,0,89,1],[122,6,122,7],[125,0,125,1],[158,6,158,7],[161,0,161,1],[17,0,17,1]]}
[]
["2. 유사용역수행실적(실적_배수지)"]
[]
["유사용역 총괄표"]
[]
["유사용역수행실적",null,"지분율","실적건수","실적점수"]
[{"$nulls":4},"배점","자기평가","확인"]
["총   계",null,"-",{"$f":"ROUND(D9*C9+D10*C10+D11*C11+C12*D12+C13*D13,2)","v":5.13},7,{"$f":"IF(D8>=5,7,IF(D8>=4,6.3,IF(D8>=3,5.6,IF(D8>=2,4.9,IF(D8<2,4.2)))))","v":7}]
[{"$f":"A15","v":"대 표 사"},{"$f":"참여업체현황!B5","v":"A사"},{"$f":"참여업체현황!C5","v":0.5},{"$f":"K18","v":6.8},"-","-","-"]
["공동도급사",{"$f":"참여업체현황!B7","v":"B사"},{"$f":"참여업체현황!C7","v":0.3},{"$f":"K54","v":3.45},"-","-","-"]
["공동도급사",{"$f":"참여업체현황!B9","v":"C사"},{"$f":"참여업체현황!C9","v":0.2},{"$f":"K90","v":3.45},"-","-","-",{"$nulls":7},"배수지 설계"]
["공동도급사",{"$f":"참여업체현황!B11","v":"D사"},{"$f":"참여업체현황!C11","v":0},{"$f":"K126","v":0},"-","-","-",{"$nulls":7},"가압장 설계"]
["공동도급사",{"$f":"참여업체현황!B13","v":"E사"},{"$f":"참여업체현황!C13","v":0},{"$f":"K162","v":0},"-","-","-",{"$nulls":7},"정수장 설계"]
[{"$nulls":14},"기타"]
["대 표 사",{"$f":"참여업체현황!B5","v":"A사"},null,"환산지분율",null,null,{"$f":"참여업체현황!$C$5","v":0.5}]
[]
["구분","용역명","발주청","착수일","준공일","기간","실적규모\n(m3, m3/일)","도급\n지분율","실적계수","계수","실적별건수"]
["총   계",null,"-","-","-","-","-","-","-","-",{"$f":"SUM(K19:K48)","v":6.8},{"$nulls":4},"최근5년간"]
["배수지 설계",null,"00공사","2006-03-20","2007-05-13",{"$f":"IF(E19-D19=0,\"\",E19-D19)","v":419},30000,1,{"$f":"IF(A19=\"배수지 설계\",G19/총괄표!$H$4,G19/총괄표!$H$5)","v":1.25},{"$f":"IF(I19=\"\",\"\",(IF(I19>=200%,\"2\",IF(I19>=150%,\"1.5\",IF(I19>=100%,\"1\",IF(I19>=50%,\"0.5\",IF(I19<50%,\"0\")))))))","v":"1"},{"$f":"IF(J19=\"\",\"\",ROUND(J19*H19*Q19,2))","v":0},{"$nulls":4},{"$f":"(총괄표!$H$3-'2.(1)유사용역(실적_배수지, 가압장, 정수장)'!E19+1)/365","v":5.4054794520547942},{"$f":"IF(P19>5,0,1)","v":0}]
["배수지 설계",null,"00공사","1999-10-10","2000-10-09",{"$f":"IF(E20-D20=0,\"\",E20-D20)","v":365},40000,1,{"$f":"IF(A20=\"배수지 설계\",G20/총괄표!$H$4,G20/총괄표!$H$5)","v":1.6666666666666667},"1.5",{"$f":"IF(J20=\"\",\"\",ROUND(J20*H20*Q20,2))","v":0},{"$nulls":4},{"$f":"(총괄표!$H$3-'2.(1)유사용역(실적_배수지, 가압장, 정수장)'!E20+1)/365","v":12},{"$f":"IF(P20>5,0,1)","v":0}]
["배수지 설계",null,"00시","2007-10-10","2008-10-09",365,70000,0.9,{"$f":"IF(A21=\"배수지 설계\",G21/총괄표!$H$4,G21/총괄표!$H$5)","v":2.9166666666666665},"2",1.8,{"$nulls":4},{"$f":"(총괄표!$H$3-'2.(1)유사용역(실적_배수지, 가압장, 정수장)'!E21+1)/365","v":3.9945205479452053},1]
["가압장 설계",null,"00시","2007-10-10","2009-10-09",730,50000,1,{"$f":"IF(A22=\"배수지 설계\",G22/총괄표!$H$4,G22/총괄표!$H$5)","v":1.0639882535696805},"1",1,{"$nulls":4},{"$f":"(총괄표!$H$3-'2.(1)유사용역(실적_배수지, 가압장, 정수장)'!E22+1)/365","v":2.9945205479452053},1]
["가압장 설계",null,"00시","2007-10-10","2009-10-09",730,100000,1,{"$f":"IF(G23=\"\",\"\",G23/총괄표!$H$4)","v":4.166666666666667},"2",2,{"$nulls":4},{"$f":"(총괄표!$H$3-'2.(1)유사용역(실적_배수지, 가압장, 정수장)'!E23+1)/365","v":2.9945205479452053},1]
["배수지 설계",null,"00시","2007-10-10","2008-10-09",365,100000,1,{"$f":"IF(G24=\"\",\"\",G24/총괄표!$H$4)","v":4.166666666666667},"2",2,{"$nulls":4},{"$f":"(총괄표!$H$3-'2.(1)유사용역(실적_배수지, 가압장, 정수장)'!E24+1)/365","v":3.9945205479452053},1]
[{"$nulls":5},"",null,null,{"$f":"IF(G25=\"\",\"\",G25/총괄표!$H$4)","v":""},"","",{"$nulls":4},{"$f":"(총괄표!$H$3-'2.(1)유사용역(실적_배수지, 가압장, 정수장)'!E25+1)/365","v":112.84383561643835},0]
[{"$nulls":5},"",null,null,{"$f":"IF(G26=\"\",\"\",G26/총괄표!$H$4)","v":""},"","",{"$nulls":4},{"$f":"(총괄표!$H$3-'2.(1)유사용역(실적_배수지, 가압장, 정수장)'!E26+1)/365","v":112.84383561643835},0]
[{"$nulls":5},"",null,null,{"$f":"IF(G27=\"\",\"\",G27/총괄표!$H$4)","v":""},"","",{"$nulls":4},{"$f":"(총괄표!$H$3-'2.(1)유사용역(실적_배수지, 가압장, 정수장)'!E27+1)/365","v":112.84383561643835},0]
[{"$nulls":5},"",null,null,{"$f":"IF(G28=\"\",\"\",G28/총괄표!$H$4)","v":""},"","",{"$nulls":4},{"$f":"(총괄표!$H$3-'2.(1)유사용역(실적_배수지, 가압장, 정수장)'!E28+1)/365","v":112.84383561643835},0]
[{"$nulls":5},"",null,null,{"$f":"IF(G29=\"\",\"\",G29/총괄표!$H$4)","v":""},"","",{"$nulls":4},{"$f":"(총괄표!$H$3-'2.(1)유사용역(실적_배수지, 가압장, 정수장)'!E29+1)/365","v":112.84383561643835},0]
[{"$nulls":5},"",null,null,{"$f":"IF(G30=\"\",\"\",G30/총괄표!$H$4)","v":""},"","",{"$nulls":4},{"$f":"(총괄표!$H$3-'2.(1)유사용역(실적_배수지, 가압장, 정수장)'!E30+1)/365","v":112.84383561643835},0]
[{"$nulls":5},"",null,null,{"$f":"IF(G31=\"\",\"\",G31/총괄표!$H$4)","v":""},"","",{"$nulls":4},{"$f":"(총괄표!$H$3-'2.(1)유사용역(실적_배수지, 가압장, 정수장)'!E31+1)/365","v":112.84383561643835},0]
[{"$nulls":5},"",null,null,{"$f":"IF(G32=\"\",\"\",G32/총괄표!$H$4)","v":""},"","",{"$nulls":4},{"$f":"(총괄표!$H$3-'2.(1)유사용역(실적_배수지, 가압장, 정수장)'!E32+1)/365","v":112.84383561643835},0]
[{"$nulls":5},"",null,null,{"$f":"IF(G33=\"\",\"\",G33/총괄표!$H$4)","v":""},"","",{"$nulls":4},{"$f":"(총괄표!$H$3-'2.(1)유사용역(실적_배수지, 가압장, 정수장)'!E33+1)/365","v":112.84383561643835},0]
[{"$nulls":5},"",null,null,{"$f":"IF(G34=\"\",\"\",G34/총괄표!$H$4)","v":""},"","",{"$nulls":4},{"$f":"(총괄표!$H$3-'2.(1)유사용역(실적_배수지, 가압장, 정수장)'!E34+1)/365","v":112.84383561643835},0]
[{"$nulls":5},"",null,null,{"$f":"IF(G35=\"\",\"\",G35/총괄표!$H$4)","v":""},"","",{"$nulls":4},{"$f":"(총괄표!$H$3-'2.(1)유사용역(실적_배수지, 가압장, 정수장)'!E35+1)/365","v":112.84383561643835},0]
[{"$nulls":5},{"$f":"IF(E36-D36=0,\"\",E36-D36)","v":""},null,null,{"$f":"IF(G36=\"\",\"\",G36/총괄표!$H$4)","v":""},"","",{"$nulls":4},{"$f":"(총괄표!$H$3-'2.(1)유사용역(실적_배수지, 가압장, 정수장)'!E36+1)/365","v":112.84383561643835},{"$f":"IF(P36>5,0,1)","v":0}]
[{"$nulls":5},"",null,null,{"$f":"IF(G37=\"\",\"\",G37/총괄표!$H$4)","v":""},"","",{"$nulls":4},{"$f":"(총괄표!$H$3-'2.(1)유사용역(실적_배수지, 가압장, 정수장)'!E37+1)/365","v":112.84383561643835},0]
[{"$nulls":5},"",null,null,{"$f":"IF(G38=\"\",\"\",G38/총괄표!$H$4)","v":""},"","",{"$nulls":4},{"$f":"(총괄표!$H$3-'2.(1)유사용역(실적_배수지, 가압장, 정수장)'!E38+1)/365","v":112.84383561643835},0]
[{"$nulls":5},"",null,null,{"$f":"IF(G39=\"\",\"\",G39/총괄표!$H$4)","v":""},"","",{"$nulls":4},{"$f":"(총괄표!$H$3-'2.(1)유사용역(실적_배수지, 가압장, 정수장)'!E39+1)/365","v":112.84383561643835},0]
[{"$nulls":5},"",null,null,{"$f":"IF(G40=\"\",\"\",G40/총괄표!$H$4)","v":""},"","",{"$nulls":4},{"$f":"(총괄표!$H$3-'2.(1)유사용역(실적_배수지, 가압장, 정수장)'!E40+1)/365","v":112.84383561643835},0]
[{"$nulls":5},"",null,null,{"$f":"IF(G41=\"\",\"\",G41/총괄표!$H$4)","v":""},"","",{"$nulls":4},{"$f":"(총괄표!$H$3-'2.(1)유사용역(실적_배수지, 가압장, 정수장)'!E41+1)/365","v":112.84383561643835},0]
[{"$nulls":5},"",null,null,{"$f":"IF(G42=\"\",\"\",G42/총괄표!$H$4)","v":""},"","",{"$nulls":4},{"$f":"(총괄표!$H$3-'2.(1)유사용역(실적_배수지, 가압장, 정수장)'!E42+1)/365","v":112.84383561643835},0]
[{"$nulls":5},"",null,null,{"$f":"IF(G43=\"\",\"\",G43/총괄표!$H$4)","v":""},"","",{"$nulls":4},{"$f":"(총괄표!$H$3-'2.(1)유사용역(실적_배수지, 가압장, 정수장)'!E43+1)/365","v":112.84383561643835},0]
[{"$nulls":5},"",null,null,{"$f":"IF(G44=\"\",\"\",G44/총괄표!$H$4)","v":""},"","",{"$nulls":4},{"$f":"(총괄표!$H$3-'2.(1)유사용역(실적_배수지, 가압장, 정수장)'!E44+1)/365","v":112.84383561643835},0]
[{"$nulls":5},"",null,null,{"$f":"IF(G45=\"\",\"\",G45/총괄표!$H$4)","v":""},"","",{"$nulls":4},{"$f":"(총괄표!$H$3-'2.(1)유사용역(실적_배수지, 가압장, 정수장)'!E45+1)/365","v":112.84383561643835},0]
[{"$nulls":5},"",null,null,{"$f":"IF(G46=\"\",\"\",G46/총괄표!$H$4)","v":""},"","",{"$nulls":4},{"$f":"(총괄표!$H$3-'2.(1)유사용역(실적_배수지, 가압장, 정수장)'!E46+1)/365","v":112.84383561643835},0]
[{"$nulls":5},"",null,null,{"$f":"IF(G47=\"\",\"\",G47/총괄표!$H$4)","v":""},"","",{"$nulls":4},{"$f":"(총괄표!$H$3-'2.(1)유사용역(실적_배수지, 가압장, 정수장)'!E47+1)/365","v":112.84383561643835},0]
[{"$nulls":5},"",null,null,{"$f":"IF(G48=\"\",\"\",G48/총괄표!$H$4)","v":""},"","",{"$nulls":4},{"$f":"(총괄표!$H$3-'2.(1)유사용역(실적_배수지, 가압장, 정수장)'!E48+1)/365","v":112.84383561643835},0]
[{"$nulls":15},{"$f":"(총괄표!$H$3-'2.(1)유사용역(실적_배수지, 가압장, 정수장)'!E49+1)/365","v":112.84383561643835},0]
[{"$nulls":15},{"$f":"(총괄표!$H$3-'2.(1)유사용역(실적_배수지, 가압장, 정수장)'!E50+1)/365","v":112.84383561643835},0]
["공동도급사",{"$f":"참여업체현황!B7","v":"B사"},null,"환산지분율",null,null,{"$f":"참여업체현황!$C$7","v":0.3},{"$nulls":8},{"$f":"(총괄표!$H$3-'2.(1)유사용역(실적_배수지, 가압장, 정수장)'!E51+1)/365","v":112.84383561643835},0]
[{"$nulls":15},{"$f":"(총괄표!$H$3-'2.(1)유사용역(실적_배수지, 가압장, 정수장)'!E52+1)/365","v":112.84383561643835},0]
["구분","용역명","발주청","착수일","준공일","기간","실적규모\n(m3, m3/일)","도급\n지분율","실적계수","계수","실적별건수"]
["총   계",null,"-","-","-","-","-","-","-","-",{"$f":"SUM(K55:K84)","v":3.45},{"$nulls":4},"최근5년간"]
["배수지 설계",null,"00공사","2006-03-20","2007-05-13",{"$f":"IF(E55-D55=0,\"\",E55-D55)","v":419},30000,0.5,{"$f":"IF(A55=\"배수지 설계\",G55/총괄표!$H$4,G55/총괄표!$H$5)","v":1.25},{"$f":"IF(I55=\"\",\"\",(IF(I55>=200%,\"2\",IF(I55>=150%,\"1.5\",IF(I55>=100%,\"1\",IF(I55>=50%,\"0.5\",IF(I55<50%,\"0\")))))))","v":"1"},{"$f":"IF(J55=\"\",\"\",ROUND(J55*H55*Q55,2))","v":0},{"$nulls":4},{"$f":"(총괄표!$H$3-'2.(1)유사용역(실적_배수지, 가압장, 정수장)'!E55+1)/365","v":5.4054794520547942},{"$f":"IF(P55>5,0,1)","v":0}]
["배수지 설계",null,"00공사","1999-10-10","2000-10-09",{"$f":"IF(E56-D56=0,\"\",E56-D56)","v":365},40000,0.6,{"$f":"IF(A56=\"배수지 설계\",G56/총괄표!$H$4,G56/총괄표!$H$5)","v":1.6666666666666667},"1.5",0,{"$nulls":4},{"$f":"(총괄표!$H$3-'2.(1)유사용역(실적_배수지, 가압장, 정수장)'!E56+1)/365","v":12},{"$f":"IF(P56>5,0,1)","v":0}]
["가압장 설계",null,"00시","2007-10-10","2008-10-09",365,40000,0.9,{"$f":"IF(A57=\"배수지 설계\",G57/총괄표!$H$4,G57/총괄표!$H$5)","v":0.85119060285574444},"0.5",0.45,{"$nulls":4},{"$f":"(총괄표!$H$3-'2.(1)유사용역(실적_배수지, 가압장, 정수장)'!E57+1)/365","v":3.9945205479452053},1]
["정수장 설계",null,"00시","2007-10-10","2008-10-09",365,50000,1,{"$f":"IF(A58=\"배수지 설계\",G58/총괄표!$H$4,G58/총괄표!$H$5)","v":1.0639882535696805},"1",1,{"$nulls":4},{"$f":"(총괄표!$H$3-'2.(1)유사용역(실적_배수지, 가압장, 정수장)'!E58+1)/365","v":3.9945205479452053},1]
["배수지 설계",null,"00시","2007-10-10","2008-10-09",365,100000,1,{"$f":"IF(G59=\"\",\"\",G59/총괄표!$H$4)","v":4.166666666666667},"2",2,{"$nulls":4},{"$f":"(총괄표!$H$3-'2.(1)유사용역(실적_배수지, 가압장, 정수장)'!E59+1)/365","v":3.9945205479452053},1]
[{"$nulls":5},"",null,null,{"$f":"IF(G60=\"\",\"\",G60/총괄표!$H$4)","v":""},"","",{"$nulls":4},{"$f":"(총괄표!$H$3-'2.(1)유사용역(실적_배수지, 가압장, 정수장)'!E60+1)/365","v":112.84383561643835},0]
[{"$nulls":5},"",null,null,{"$f":"IF(G61=\"\",\"\",G61/총괄표!$H$4)","v":""},"","",{"$nulls":4},{"$f":"(총괄표!$H$3-'2.(1)유사용역(실적_배수지, 가압장, 정수장)'!E61+1)/365","v":112.84383561643835},0]
[{"$nulls":5},"",null,null,{"$f":"IF(G62=\"\",\"\",G62/총괄표!$H$4)","v":""},"","",{"$nulls":4},{"$f":"(총괄표!$H$3-'2.(1)유사용역(실적_배수지, 가압장, 정수장)'!E62+1)/365","v":112.84383561643835},0]
[{"$nulls":5},"",null,null,{"$f":"IF(G63=\"\",\"\",G63/총괄표!$H$4)","v":""},"","",{"$nulls":4},{"$f":"(총괄표!$H$3-'2.(1)유사용역(실적_배수지, 가압장, 정수장)'!E63+1)/365","v":112.84383561643835},0]
[{"$nulls":5},"",null,null,{"$f":"IF(G64=\"\",\"\",G64/총괄표!$H$4)","v":""},"","",{"$nulls":4},{"$f":"(총괄표!$H$3-'2.(1)유사용역(실적_배수지, 가압장, 정수장)'!E64+1)/365","v":112.84383561643835},0]
[{"$nulls":5},"",null,null,{"$f":"IF(G65=\"\",\"\",G65/총괄표!$H$4)","v":""},"","",{"$nulls":4},{"$f":"(총괄표!$H$3-'2.(1)유사용역(실적_배수지, 가압장, 정수장)'!E65+1)/365","v":112.84383561643835},0]
[{"$nulls":5},"",null,null,{"$f":"IF(G66=\"\",\"\",G66/총괄표!$H$4)","v":""},"","",{"$nulls":4},{"$f":"(총괄표!$H$3-'2.(1)유사용역(실적_배수지, 가압장, 정수장)'!E66+1)/365","v":112.84383561643835},0]
[{"$nulls":5},"",null,null,{"$f":"IF(G67=\"\",\"\",G67/총괄표!$H$4)","v":""},"","",{"$nulls":4},{"$f":"(총괄표!$H$3-'2.(1)유사용역(실적_배수지, 가압장, 정수장)'!E67+1)/365","v":112.84383561643835},0]
[{"$nulls":5},"",null,null,{"$f":"IF(G68=\"\",\"\",G68/총괄표!$H$4)","v":""},"","",{"$nulls":4},{"$f":"(총괄표!$H$3-'2.(1)유사용역(실적_배수지, 가압장, 정수장)'!E68+1)/365","v":112.84383561643835},0]
[{"$nulls":5},"",null,null,{"$f":"IF(G69=\"\",\"\",G69/총괄표!$H$4)","v":""},"","",{"$nulls":4},{"$f":"(총괄표!$H$3-'2.(1)유사용역(실적_배수지, 가압장, 정수장)'!E69+1)/365","v":112.84383561643835},0]
[{"$nulls":5},"",null,null,{"$f":"IF(G70=\"\",\"\",G70/총괄표!$H$4)","v":""},"","",{"$nulls":4},{"$f":"(총괄표!$H$3-'2.(1)유사용역(실적_배수지, 가압장, 정수장)'!E70+1)/365","v":112.84383561643835},0]
[{"$nulls":5},"",null,null,{"$f":"IF(G71=\"\",\"\",G71/총괄표!$H$4)","v":""},"","",{"$nulls":4},{"$f":"(총괄표!$H$3-'2.(1)유사용역(실적_배수지, 가압장, 정수장)'!E71+1)/365","v":112.84383561643835},0]
[{"$nulls":5},"",null,null,{"$f":"IF(G72=\"\",\"\",G72/총괄표!$H$4)","v":""},"","",{"$nulls":4},{"$f":"(총괄표!$H$3-'2.(1)유사용역(실적_배수지, 가압장, 정수장)'!E72+1)/365","v":112.84383561643835},0]
[{"$nulls":5},"",null,null,{"$f":"IF(G73=\"\",\"\",G73/총괄표!$H$4)","v":""},"","",{"$nulls":4},{"$f":"(총괄표!$H$3-'2.(1)유사용역(실적_배수지, 가압장, 정수장)'!E73+1)/365","v":112.84383561643835},0]
[{"$nulls":5},"",null,null,{"$f":"IF(G74=\"\",\"\",G74/총괄표!$H$4)","v":""},"","",{"$nulls":4},{"$f":"(총괄표!$H$3-'2.(1)유사용역(실적_배수지, 가압장, 정수장)'!E74+1)/365","v":112.84383561643835},0]
[{"$nulls":5},{"$f":"IF(E75-D75=0,\"\",E75-D75)","v":""},null,null,{"$f":"IF(G75=\"\",\"\",G75/총괄표!$H$4)","v":""},"","",{"$nulls":4},{"$f":"(총괄표!$H$3-'2.(1)유사용역(실적_배수지, 가압장, 정수장)'!E75+1)/365","v":112.84383561643835},{"$f":"IF(P75>5,0,1)","v":0}]
[{"$nulls":5},"",null,null,{"$f":"IF(G76=\"\",\"\",G76/총괄표!$H$4)","v":""},"","",{"$nulls":4},{"$f":"(총괄표!$H$3-'2.(1)유사용역(실적_배수지, 가압장, 정수장)'!E76+1)/365","v":112.84383561643835},0]
[{"$nulls":5},"",null,null,{"$f":"IF(G77=\"\",\"\",G77/총괄표!$H$4)","v":""},"",{"$f":"IF(J77=\"\",\"\",ROUND(J77*H77*O77*Q77,2))","v":""},{"$nulls":4},{"$f":"(총괄표!$H$3-'2.(1)유사용역(실적_배수지, 가압장, 정수장)'!E77+1)/365","v":112.84383561643835},0]
[{"$nulls":5},"",null,null,{"$f":"IF(G78=\"\",\"\",G78/총괄표!$H$4)","v":""},"","",{"$nulls":4},{"$f":"(총괄표!$H$3-'2.(1)유사용역(실적_배수지, 가압장, 정수장)'!E78+1)/365","v":112.84383561643835},0]
[{"$nulls":5},"",null,null,{"$f":"IF(G79=\"\",\"\",G79/총괄표!$H$4)","v":""},"","",{"$nulls":4},{"$f":"(총괄표!$H$3-'2.(1)유사용역(실적_배수지, 가압장, 정수장)'!E79+1)/365","v":112.84383561643835},0]
[{"$nulls":5},"",null,null,{"$f":"IF(G80=\"\",\"\",G80/총괄표!$H$4)","v":""},"","",{"$nulls":4},{"$f":"(총괄표!$H$3-'2.(1)유사용역(실적_배수지, 가압장, 정수장)'!E80+1)/365","v":112.84383561643835},0]
[{"$nulls":5},"",null,null,{"$f":"IF(G81=\"\",\"\",G81/총괄표!$H$4)","v":""},"","",{"$nulls":4},{"$f":"(총괄표!$H$3-'2.(1)유사용역(실적_배수지, 가압장, 정수장)'!E81+1)/365","v":112.84383561643835},0]
[{"$nulls":5},"",null,null,{"$f":"IF(G82=\"\",\"\",G82/총괄표!$H$4)","v":""},"","",{"$nulls":4},{"$f":"(총괄표!$H$3-'2.(1)유사용역(실적_배수지, 가압장, 정수장)'!E82+1)/365","v":112.84383561643835},0]
[{"$nulls":5},"",null,null,{"$f":"IF(G83=\"\",\"\",G83/총괄표!$H$4)","v":""},"","",{"$nulls":4},{"$f":"(총괄표!$H$3-'2.(1)유사용역(실적_배수지, 가압장, 정수장)'!E83+1)/365","v":112.84383561643835},0]
[{"$nulls":5},"",null,null,{"$f":"IF(G84=\"\",\"\",G84/총괄표!$H$4)","v":""},"","",{"$nulls":4},{"$f":"(총괄표!$H$3-'2.(1)유사용역(실적_배수지, 가압장, 정수장)'!E84+1)/365","v":112.84383561643835},0]
[{"$nulls":15},{"$f":"(총괄표!$H$3-'2.(1)유사용역(실적_배수지, 가압장, 정수장)'!E85+1)/365","v":112.84383561643835},0]
[{"$nulls":15},{"$f":"(총괄표!$H$3-'2.(1)유사용역(실적_배수지, 가압장, 정수장)'!E86+1)/365","v":112.84383561643835},0]
["공동도급사",{"$f":"참여업체현황!B9","v":"C사"},null,"환산지분율",null,null,{"$f":"참여업체현황!C9","v":0.2},{"$nulls":8},{"$f":"(총괄표!$H$3-'2.(1)유사용역(실적_배수지, 가압장, 정수장)'!E87+1)/365","v":112.84383561643835},0]
[{"$nulls":15},{"$f":"(총괄표!$H$3-'2.(1)유사용역(실적_배수지, 가압장, 정수장)'!E88+1)/365","v":112.84383561643835},0]
["구분","용역명","발주청","착수일","준공일","기간","실적규모\n(m3, m3/일)","도급\n지분율","실적계수","계수","실적별건수"]
["총   계",null,"-","-","-","-","-","-","-","-",{"$f":"SUM(K91:K120)","v":3.45},{"$nulls":4},"최근5년간"]
["배수지 설계",null,"00공사","2006-03-20","2007-05-13",{"$f":"IF(E91-D91=0,\"\",E91-D91)","v":419},30000,0.5,{"$f":"IF(A91=\"배수지 설계\",G91/총괄표!$H$4,G91/총괄표!$H$5)","v":1.25},{"$f":"IF(I91=\"\",\"\",(IF(I91>=200%,\"2\",IF(I91>=150%,\"1.5\",IF(I91>=100%,\"1\",IF(I91>=50%,\"0.5\",IF(I91<50%,\"0\")))))))","v":"1"},{"$f":"IF(J91=\"\",\"\",ROUND(J91*H91*Q91,2))","v":0},{"$nulls":4},{"$f":"(총괄표!$H$3-'2.(1)유사용역(실적_배수지, 가압장, 정수장)'!E91+1)/365","v":5.4054794520547942},{"$f":"IF(P91>5,0,1)","v":0}]
["배수지 설계",null,"00공사","1999-10-10","2000-10-09",{"$f":"IF(E92-D92=0,\"\",E92-D92)","v":365},40000,0.6,{"$f":"IF(A92=\"배수지 설계\",G92/총괄표!$H$4,G92/총괄표!$H$5)","v":1.6666666666666667},"1.5",0,{"$nulls":4},{"$f":"(총괄표!$H$3-'2.(1)유사용역(실적_배수지, 가압장, 정수장)'!E92+1)/365","v":12},{"$f":"IF(P92>5,0,1)","v":0}]
["가압장 설계",null,"00시","2007-10-10","2008-10-09",365,40000,0.9,{"$f":"IF(A93=\"배수지 설계\",G93/총괄표!$H$4,G93/총괄표!$H$5)","v":0.85119060285574444},"0.5",0.45,{"$nulls":4},{"$f":"(총괄표!$H$3-'2.(1)유사용역(실적_배수지, 가압장, 정수장)'!E93+1)/365","v":3.9945205479452053},1]
["정수장 설계",null,"00시","2007-10-10","2008-10-09",365,50000,1,{"$f":"IF(A94=\"배수지 설계\",G94/총괄표!$H$4,G94/총괄표!$H$5)","v":1.0639882535696805},"1",1,{"$nulls":4},{"$f":"(총괄표!$H$3-'2.(1)유사용역(실적_배수지, 가압장, 정수장)'!E94+1)/365","v":3.9945205479452053},1]
["배수지 설계",null,"00시","2007-10-10","2008-10-09",365,100000,1,{"$f":"IF(G95=\"\",\"\",G95/총괄표!$H$4)","v":4.166666666666667},"2",2,{"$nulls":4},{"$f":"(총괄표!$H$3-'2.(1)유사용역(실적_배수지, 가압장, 정수장)'!E95+1)/365","v":3.9945205479452053},1]
[{"$nulls":5},"",null,null,{"$f":"IF(G96=\"\",\"\",G96/총괄표!$H$4)","v":""},"","",{"$nulls":4},{"$f":"(총괄표!$H$3-'2.(1)유사용역(실적_배수지, 가압장, 정수장)'!E96+1)/365","v":112.84383561643835},0]
[{"$nulls":5},"",null,null,{"$f":"IF(G97=\"\",\"\",G97/총괄표!$H$4)","v":""},"","",{"$nulls":4},{"$f":"(총괄표!$H$3-'2.(1)유사용역(실적_배수지, 가압장, 정수장)'!E97+1)/365","v":112.84383561643835},0]
[{"$nulls":5},"",null,null,{"$f":"IF(G98=\"\",\"\",G98/총괄표!$H$4)","v":""},"","",{"$nulls":4},{"$f":"(총괄표!$H$3-'2.(1)유사용역(실적_배수지, 가압장, 정수장)'!E98+1)/365","v":112.84383561643835},0]
[{"$nulls":5},"",null,null,{"$f":"IF(G99=\"\",\"\",G99/총괄표!$H$4)","v":""},"","",{"$nulls":4},{"$f":"(총괄표!$H$3-'2.(1)유사용역(실적_배수지, 가압장, 정수장)'!E99+1)/365","v":112.84383561643835},0]
[{"$nulls":5},"",null,null,{"$f":"IF(G100=\"\",\"\",G100/총괄표!$H$4)","v":""},"","",{"$nulls":4},{"$f":"(총괄표!$H$3-'2.(1)유사용역(실적_배수지, 가압장, 정수장)'!E100+1)/365","v":112.84383561643835},0]
[{"$nulls":5},"",null,null,{"$f":"IF(G101=\"\",\"\",G101/총괄표!$H$4)","v":""},"","",{"$nulls":4},{"$f":"(총괄표!$H$3-'2.(1)유사용역(실적_배수지, 가압장, 정수장)'!E101+1)/365","v":112.84383561643835},0]
[{"$nulls":5},"",null,null,{"$f":"IF(G102=\"\",\"\",G102/총괄표!$H$4)","v":""},"","",{"$nulls":4},{"$f":"(총괄표!$H$3-'2.(1)유사용역(실적_배수지, 가압장, 정수장)'!E102+1)/365","v":112.84383561643835},0]
[{"$nulls":5},"",null,null,{"$f":"IF(G103=\"\",\"\",G103/총괄표!$H$4)","v":""},"","",{"$nulls":4},{"$f":"(총괄표!$H$3-'2.(1)유사용역(실적_배수지, 가압장, 정수장)'!E103+1)/365","v":112.84383561643835},0]
[{"$nulls":5},"",null,null,{"$f":"IF(G104=\"\",\"\",G104/총괄표!$H$4)","v":""},"","",{"$nulls":4},{"$f":"(총괄표!$H$3-'2.(1)유사용역(실적_배수지, 가압장, 정수장)'!E104+1)/365","v":112.84383561643835},0]
[{"$nulls":5},"",null,null,{"$f":"IF(G105=\"\",\"\",G105/총괄표!$H$4)","v":""},"","",{"$nulls":4},{"$f":"(총괄표!$H$3-'2.(1)유사용역(실적_배수지, 가압장, 정수장)'!E105+1)/365","v":112.84383561643835},0]
[{"$nulls":5},"",null,null,{"$f":"IF(G106=\"\",\"\",G106/총괄표!$H$4)","v":""},"","",{"$nulls":4},{"$f":"(총괄표!$H$3-'2.(1)유사용역(실적_배수지, 가압장, 정수장)'!E106+1)/365","v":112.84383561643835},0]
[{"$nulls":5},"",null,null,{"$f":"IF(G107=\"\",\"\",G107/총괄표!$H$4)","v":""},"","",{"$nulls":4},{"$f":"(총괄표!$H$3-'2.(1)유사용역(실적_배수지, 가압장, 정수장)'!E107+1)/365","v":112.84383561643835},0]
[{"$nulls":5},"",null,null,{"$f":"IF(G108=\"\",\"\",G108/총괄표!$H$4)","v":""},"","",{"$nulls":4},{"$f":"(총괄표!$H$3-'2.(1)유사용역(실적_배수지, 가압장, 정수장)'!E108+1)/365","v":112.84383561643835},0]
[{"$nulls":5},"",null,null,{"$f":"IF(G109=\"\",\"\",G109/총괄표!$H$4)","v":""},"","",{"$nulls":4},{"$f":"(총괄표!$H$3-'2.(1)유사용역(실적_배수지, 가압장, 정수장)'!E109+1)/365","v":112.84383561643835},0]
[{"$nulls":5},"",null,null,{"$f":"IF(G110=\"\",\"\",G110/총괄표!$H$4)","v":""},"","",{"$nulls":4},{"$f":"(총괄표!$H$3-'2.(1)유사용역(실적_배수지, 가압장, 정수장)'!E110+1)/365","v":112.84383561643835},0]
[{"$nulls":5},"",null,null,{"$f":"IF(G111=\"\",\"\",G111/총괄표!$H$4)","v":""},"","",{"$nulls":4},{"$f":"(총괄표!$H$3-'2.(1)유사용역(실적_배수지, 가압장, 정수장)'!E111+1)/365","v":112.84383561643835},0]
[{"$nulls":5},"",null,null,{"$f":"IF(G112=\"\",\"\",G112/총괄표!$H$4)","v":""},"","",{"$nulls":4},{"$f":"(총괄표!$H$3-'2.(1)유사용역(실적_배수지, 가압장, 정수장)'!E112+1)/365","v":112.84383561643835},0]
[{"$nulls":5},"",null,null,{"$f":"IF(G113=\"\",\"\",G113/총괄표!$H$4)","v":""},"",{"$f":"IF(J113=\"\",\"\",ROUND(J113*H113*O113*Q113,2))","v":""},{"$nulls":4},{"$f":"(총괄표!$H$3-'2.(1)유사용역(실적_배수지, 가압장, 정수장)'!E113+1)/365","v":112.84383561643835},0]
[{"$nulls":5},"",null,null,{"$f":"IF(G114=\"\",\"\",G114/총괄표!$H$4)","v":""},"","",{"$nulls":4},{"$f":"(총괄표!$H$3-'2.(1)유사용역(실적_배수지, 가압장, 정수장)'!E114+1)/365","v":112.84383561643835},0]
[{"$nulls":5},"",null,null,{"$f":"IF(G115=\"\",\"\",G115/총괄표!$H$4)","v":""},"","",{"$nulls":4},{"$f":"(총괄표!$H$3-'2.(1)유사용역(실적_배수지, 가압장, 정수장)'!E115+1)/365","v":112.84383561643835},0]
[{"$nulls":5},"",null,null,{"$f":"IF(G116=\"\",\"\",G116/총괄표!$H$4)","v":""},"","",{"$nulls":4},{"$f":"(총괄표!$H$3-'2.(1)유사용역(실적_배수지, 가압장, 정수장)'!E116+1)/365","v":112.84383561643835},0]
[{"$nulls":5},"",null,null,{"$f":"IF(G117=\"\",\"\",G117/총괄표!$H$4)","v":""},"","",{"$nulls":4},{"$f":"(총괄표!$H$3-'2.(1)유사용역(실적_배수지, 가압장, 정수장)'!E117+1)/365","v":112.84383561643835},0]
[{"$nulls":5},"",null,null,{"$f":"IF(G118=\"\",\"\",G118/총괄표!$H$4)","v":""},"","",{"$nulls":4},{"$f":"(총괄표!$H$3-'2.(1)유사용역(실적_배수지, 가압장, 정수장)'!E118+1)/365","v":112.84383561643835},0]
[{"$nulls":5},"",null,null,{"$f":"IF(G119=\"\",\"\",G119/총괄표!$H$4)","v":""},"","",{"$nulls":4},{"$f":"(총괄표!$H$3-'2.(1)유사용역(실적_배수지, 가압장, 정수장)'!E119+1)/365","v":112.84383561643835},0]
[{"$nulls":5},"",null,null,{"$f":"IF(G120=\"\",\"\",G120/총괄표!$H$4)","v":""},"","",{"$nulls":4},{"$f":"(총괄표!$H$3-'2.(1)유사용역(실적_배수지, 가압장, 정수장)'!E120+1)/365","v":112.84383561643835},0]
[{"$nulls":15},{"$f":"(총괄표!$H$3-'2.(1)유사용역(실적_배수지, 가압장, 정수장)'!E121+1)/365","v":112.84383561643835},0]
[{"$nulls":15},{"$f":"(총괄표!$H$3-'2.(1)유사용역(실적_배수지, 가압장, 정수장)'!E122+1)/365","v":112.84383561643835},0]
["공동도급사",{"$f":"참여업체현황!B11","v":"D사"},null,"환산지분율",null,null,{"$f":"참여업체현황!C11","v":0},{"$nulls":8},{"$f":"(총괄표!$H$3-'2.(1)유사용역(실적_배수지, 가압장, 정수장)'!E123+1)/365","v":112.84383561643835},0]
[{"$nulls":15},{"$f":"(총괄표!$H$3-'2.(1)유사용역(실적_배수지, 가압장, 정수장)'!E124+1)/365","v":112.84383561643835},0]
["구분","용역명","발주청","착수일","준공일","기간","실적규모\n(m3, m3/일)","도급\n지분율","실적계수","계수","실적별건수"]
["총   계",null,"-","-","-","-","-","-","-","-",{"$f":"SUM(K127:K156)","v":0},{"$nulls":4},"최근5년간"]
["배수지 설계",{"$nulls":4},{"$f":"IF(E127-D127=0,\"\",E127-D127)","v":""},10000,0.5,{"$f":"IF(A127=\"배수지 설계\",G127/총괄표!$H$4,G127/총괄표!$H$5)","v":0.41666666666666669},{"$f":"IF(I127=\"\",\"\",(IF(I127>=200%,\"2\",IF(I127>=150%,\"1.5\",IF(I127>=100%,\"1\",IF(I127>=50%,\"0.5\",IF(I127<50%,\"0\")))))))","v":"0"},{"$f":"IF(J127=\"\",\"\",ROUND(J127*H127*O127*Q127,2))","v":0},{"$nulls":4},{"$f":"(총괄표!$H$3-'2.(1)유사용역(실적_배수지, 가압장, 정수장)'!E127+1)/365","v":112.84383561643835},{"$f":"IF(P127>5,0,1)","v":0}]
["가압장 설계",{"$nulls":4},{"$f":"IF(E128-D128=0,\"\",E128-D128)","v":""},40000,0.7,{"$f":"IF(A128=\"배수지 설계\",G128/총괄표!$H$4,G128/총괄표!$H$5)","v":0.85119060285574444},"0.5",0,{"$nulls":4},{"$f":"(총괄표!$H$3-'2.(1)유사용역(실적_배수지, 가압장, 정수장)'!E128+1)/365","v":112.84383561643835},{"$f":"IF(P128>5,0,1)","v":0}]
[{"$nulls":5},"",null,null,{"$f":"IF(A129=\"배수지 설계\",G129/총괄표!$H$4,G129/총괄표!$H$5)","v":0},"0",0,{"$nulls":4},{"$f":"(총괄표!$H$3-'2.(1)유사용역(실적_배수지, 가압장, 정수장)'!E129+1)/365","v":112.84383561643835},0]
[{"$nulls":5},"",null,null,{"$f":"IF(A130=\"배수지 설계\",G130/총괄표!$H$4,G130/총괄표!$H$5)","v":0},"0",0,{"$nulls":4},{"$f":"(총괄표!$H$3-'2.(1)유사용역(실적_배수지, 가압장, 정수장)'!E130+1)/365","v":112.84383561643835},0]
[{"$nulls":5},"",null,null,{"$f":"IF(G131=\"\",\"\",G131/총괄표!$H$4)","v":""},"","",{"$nulls":4},{"$f":"(총괄표!$H$3-'2.(1)유사용역(실적_배수지, 가압장, 정수장)'!E131+1)/365","v":112.84383561643835},0]
[{"$nulls":5},"",null,null,{"$f":"IF(G132=\"\",\"\",G132/총괄표!$H$4)","v":""},"","",{"$nulls":4},{"$f":"(총괄표!$H$3-'2.(1)유사용역(실적_배수지, 가압장, 정수장)'!E132+1)/365","v":112.84383561643835},0]
[{"$nulls":5},"",null,null,{"$f":"IF(G133=\"\",\"\",G133/총괄표!$H$4)","v":""},"","",{"$nulls":4},{"$f":"(총괄표!$H$3-'2.(1)유사용역(실적_배수지, 가압장, 정수장)'!E133+1)/365","v":112.84383561643835},0]
[{"$nulls":5},"",null,null,{"$f":"IF(G134=\"\",\"\",G134/총괄표!$H$4)","v":""},"","",{"$nulls":4},{"$f":"(총괄표!$H$3-'2.(1)유사용역(실적_배수지, 가압장, 정수장)'!E134+1)/365","v":112.84383561643835},0]
[{"$nulls":5},"",null,null,{"$f":"IF(G135=\"\",\"\",G135/총괄표!$H$4)","v":""},"","",{"$nulls":4},{"$f":"(총괄표!$H$3-'2.(1)유사용역(실적_배수지, 가압장, 정수장)'!E135+1)/365","v":112.84383561643835},0]
[{"$nulls":5},"",null,null,{"$f":"IF(G136=\"\",\"\",G136/총괄표!$H$4)","v":""},"","",{"$nulls":4},{"$f":"(총괄표!$H$3-'2.(1)유사용역(실적_배수지, 가압장, 정수장)'!E136+1)/365","v":112.84383561643835},0]
[{"$nulls":5},"",null,null,{"$f":"IF(G137=\"\",\"\",G137/총괄표!$H$4)","v":""},"","",{"$nulls":4},{"$f":"(총괄표!$H$3-'2.(1)유사용역(실적_배수지, 가압장, 정수장)'!E137+1)/365","v":112.84383561643835},0]
[{"$nulls":5},"",null,null,{"$f":"IF(G138=\"\",\"\",G138/총괄표!$H$4)","v":""},"","",{"$nulls":4},{"$f":"(총괄표!$H$3-'2.(1)유사용역(실적_배수지, 가압장, 정수장)'!E138+1)/365","v":112.84383561643835},0]
[{"$nulls":5},"",null,null,{"$f":"IF(G139=\"\",\"\",G139/총괄표!$H$4)","v":""},"","",{"$nulls":4},{"$f":"(총괄표!$H$3-'2.(1)유사용역(실적_배수지, 가압장, 정수장)'!E139+1)/365","v":112.84383561643835},0]
[{"$nulls":5},"",null,null,{"$f":"IF(G140=\"\",\"\",G140/총괄표!$H$4)","v":""},"","",{"$nulls":4},{"$f":"(총괄표!$H$3-'2.(1)유사용역(실적_배수지, 가압장, 정수장)'!E140+1)/365","v":112.84383561643835},0]
[{"$nulls":5},"",null,null,{"$f":"IF(G141=\"\",\"\",G141/총괄표!$H$4)","v":""},"","",{"$nulls":4},{"$f":"(총괄표!$H$3-'2.(1)유사용역(실적_배수지, 가압장, 정수장)'!E141+1)/365","v":112.84383561643835},0]
[{"$nulls":5},"",null,null,{"$f":"IF(G142=\"\",\"\",G142/총괄표!$H$4)","v":""},"","",{"$nulls":4},{"$f":"(총괄표!$H$3-'2.(1)유사용역(실적_배수지, 가압장, 정수장)'!E142+1)/365","v":112.84383561643835},0]
[{"$nulls":5},"",null,null,{"$f":"IF(G143=\"\",\"\",G143/총괄표!$H$4)","v":""},"","",{"$nulls":4},{"$f":"(총괄표!$H$3-'2.(1)유사용역(실적_배수지, 가압장, 정수장)'!E143+1)/365","v":112.84383561643835},0]
[{"$nulls":5},"",null,null,{"$f":"IF(G144=\"\",\"\",G144/총괄표!$H$4)","v":""},"","",{"$nulls":4},{"$f":"(총괄표!$H$3-'2.(1)유사용역(실적_배수지, 가압장, 정수장)'!E144+1)/365","v":112.84383561643835},0]
[{"$nulls":5},"",null,null,{"$f":"IF(G145=\"\",\"\",G145/총괄표!$H$4)","v":""},"","",{"$nulls":4},{"$f":"(총괄표!$H$3-'2.(1)유사용역(실적_배수지, 가압장, 정수장)'!E145+1)/365","v":112.84383561643835},0]
[{"$nulls":5},"",null,null,{"$f":"IF(G146=\"\",\"\",G146/총괄표!$H$4)","v":""},"","",{"$nulls":4},{"$f":"(총괄표!$H$3-'2.(1)유사용역(실적_배수지, 가압장, 정수장)'!E146+1)/365","v":112.84383561643835},0]
[{"$nulls":5},"",null,null,{"$f":"IF(G147=\"\",\"\",G147/총괄표!$H$4)","v":""},"","",{"$nulls":4},{"$f":"(총괄표!$H$3-'2.(1)유사용역(실적_배수지, 가압장, 정수장)'!E147+1)/365","v":112.84383561643835},0]
[{"$nulls":5},"",null,null,{"$f":"IF(G148=\"\",\"\",G148/총괄표!$H$4)","v":""},"","",{"$nulls":4},{"$f":"(총괄표!$H$3-'2.(1)유사용역(실적_배수지, 가압장, 정수장)'!E148+1)/365","v":112.84383561643835},0]
[{"$nulls":5},"",null,null,{"$f":"IF(G149=\"\",\"\",G149/총괄표!$H$4)","v":""},"","",{"$nulls":4},{"$f":"(총괄표!$H$3-'2.(1)유사용역(실적_배수지, 가압장, 정수장)'!E149+1)/365","v":112.84383561643835},0]
[{"$nulls":5},"",null,null,{"$f":"IF(G150=\"\",\"\",G150/총괄표!$H$4)","v":""},"","",{"$nulls":4},{"$f":"(총괄표!$H$3-'2.(1)유사용역(실적_배수지, 가압장, 정수장)'!E150+1)/365","v":112.84383561643835},0]
[{"$nulls":5},"",null,null,{"$f":"IF(G151=\"\",\"\",G151/총괄표!$H$4)","v":""},"","",{"$nulls":4},{"$f":"(총괄표!$H$3-'2.(1)유사용역(실적_배수지, 가압장, 정수장)'!E151+1)/365","v":112.84383561643835},0]
[{"$nulls":5},"",null,null,{"$f":"IF(G152=\"\",\"\",G152/총괄표!$H$4)","v":""},"","",{"$nulls":4},{"$f":"(총괄표!$H$3-'2.(1)유사용역(실적_배수지, 가압장, 정수장)'!E152+1)/365","v":112.84383561643835},0]
[{"$nulls":5},"",null,null,{"$f":"IF(G153=\"\",\"\",G153/총괄표!$H$4)","v":""},"","",{"$nulls":4},{"$f":"(총괄표!$H$3-'2.(1)유사용역(실적_배수지, 가압장, 정수장)'!E153+1)/365","v":112.84383561643835},0]
[{"$nulls":5},"",null,null,{"$f":"IF(G154=\"\",\"\",G154/총괄표!$H$4)","v":""},"","",{"$nulls":4},{"$f":"(총괄표!$H$3-'2.(1)유사용역(실적_배수지, 가압장, 정수장)'!E154+1)/365","v":112.84383561643835},0]
[{"$nulls":5},"",null,null,{"$f":"IF(G155=\"\",\"\",G155/총괄표!$H$4)","v":""},"","",{"$nulls":4},{"$f":"(총괄표!$H$3-'2.(1)유사용역(실적_배수지, 가압장, 정수장)'!E155+1)/365","v":112.84383561643835},0]
[{"$nulls":5},"",null,null,{"$f":"IF(G156=\"\",\"\",G156/총괄표!$H$4)","v":""},"","",{"$nulls":4},{"$f":"(총괄표!$H$3-'2.(1)유사용역(실적_배수지, 가압장, 정수장)'!E156+1)/365","v":112.84383561643835},0]
[{"$nulls":15},{"$f":"(총괄표!$H$3-'2.(1)유사용역(실적_배수지, 가압장, 정수장)'!E157+1)/365","v":112.84383561643835},{"$f":"IF(P157>5,0,1)","v":0}]
[{"$nulls":15},{"$f":"(총괄표!$H$3-'2.(1)유사용역(실적_배수지, 가압장, 정수장)'!E158+1)/365","v":112.84383561643835},0]
["공동도급사",{"$f":"참여업체현황!B13","v":"E사"},null,"환산지분율",null,null,{"$f":"참여업체현황!C13","v":0},{"$nulls":8},{"$f":"(총괄표!$H$3-'2.(1)유사용역(실적_배수지, 가압장, 정수장)'!E159+1)/365","v":112.84383561643835},0]
[{"$nulls":15},{"$f":"(총괄표!$H$3-'2.(1)유사용역(실적_배수지, 가압장, 정수장)'!E160+1)/365","v":112.84383561643835},0]
["구분","용역명","발주청","착수일","준공일","기간","실적규모\n(m3, m3/일)","도급\n지분율","실적계수","계수","실적별건수"]
["총   계",null,"-","-","-","-","-","-","-","-",{"$f":"SUM(K163:K177)","v":0},{"$nulls":4},"최근5년간"]
[{"$nulls":5},{"$f":"IF(E163-D163=0,\"\",E163-D163)","v":""},null,null,{"$f":"IF(A163=\"배수지 설계\",G163/총괄표!$H$4,G163/총괄표!$H$5)","v":0},{"$f":"IF(I163=\"\",\"\",(IF(I163>=200%,\"2\",IF(I163>=150%,\"1.5\",IF(I163>=100%,\"1\",IF(I163>=50%,\"0.5\",IF(I163<50%,\"0\")))))))","v":"0"},{"$f":"IF(J163=\"\",\"\",ROUND(J163*H163*O163*Q163,2))","v":0},{"$nulls":4},{"$f":"(총괄표!$H$3-'2.(1)유사용역(실적_배수지, 가압장, 정수장)'!E163+1)/365","v":112.84383561643835},{"$f":"IF(P163>5,0,1)","v":0}]
[{"$nulls":5},{"$f":"IF(E164-D164=0,\"\",E164-D164)","v":""},null,null,{"$f":"IF(A164=\"배수지 설계\",G164/총괄표!$H$4,G164/총괄표!$H$5)","v":0},{"$f":"IF(I164=\"\",\"\",(IF(I164>=200%,\"2\",IF(I164>=150%,\"1.5\",IF(I164>=100%,\"1\",IF(I164>=50%,\"0.5\",IF(I164<50%,\"0\")))))))","v":"0"},0,{"$nulls":4},{"$f":"(총괄표!$H$3-'2.(1)유사용역(실적_배수지, 가압장, 정수장)'!E164+1)/365","v":112.84383561643835},{"$f":"IF(P164>5,0,1)","v":0}]
[{"$nulls":5},"",null,null,{"$f":"IF(A165=\"배수지 설계\",G165/총괄표!$H$4,G165/총괄표!$H$5)","v":0},"0",0,{"$nulls":4},{"$f":"(총괄표!$H$3-'2.(1)유사용역(실적_배수지, 가압장, 정수장)'!E165+1)/365","v":112.84383561643835},0]
[{"$nulls":5},"",null,null,{"$f":"IF(A166=\"배수지 설계\",G166/총괄표!$H$4,G166/총괄표!$H$5)","v":0},"0",0,{"$nulls":4},{"$f":"(총괄표!$H$3-'2.(1)유사용역(실적_배수지, 가압장, 정수장)'!E166+1)/365","v":112.84383561643835},0]
[{"$nulls":5},"",null,null,{"$f":"IF(G167=\"\",\"\",G167/총괄표!$H$4)","v":""},"","",{"$nulls":4},{"$f":"(총괄표!$H$3-'2.(1)유사용역(실적_배수지, 가압장, 정수장)'!E167+1)/365","v":112.84383561643835},0]
[{"$nulls":5},"",null,null,{"$f":"IF(G168=\"\",\"\",G168/총괄표!$H$4)","v":""},"","",{"$nulls":4},{"$f":"(총괄표!$H$3-'2.(1)유사용역(실적_배수지, 가압장, 정수장)'!E168+1)/365","v":112.84383561643835},0]
[{"$nulls":5},"",null,null,{"$f":"IF(G169=\"\",\"\",G169/총괄표!$H$4)","v":""},"","",{"$nulls":4},{"$f":"(총괄표!$H$3-'2.(1)유사용역(실적_배수지, 가압장, 정수장)'!E169+1)/365","v":112.84383561643835},0]
[{"$nulls":5},"",null,null,{"$f":"IF(G170=\"\",\"\",G170/총괄표!$H$4)","v":""},"","",{"$nulls":4},{"$f":"(총괄표!$H$3-'2.(1)유사용역(실적_배수지, 가압장, 정수장)'!E170+1)/365","v":112.84383561643835},0]
[{"$nulls":5},"",null,null,{"$f":"IF(G171=\"\",\"\",G171/총괄표!$H$4)","v":""},"","",{"$nulls":4},{"$f":"(총괄표!$H$3-'2.(1)유사용역(실적_배수지, 가압장, 정수장)'!E171+1)/365","v":112.84383561643835},0]
[{"$nulls":5},"",null,null,{"$f":"IF(G172=\"\",\"\",G172/총괄표!$H$4)","v":""},"","",{"$nulls":4},{"$f":"(총괄표!$H$3-'2.(1)유사용역(실적_배수지, 가압장, 정수장)'!E172+1)/365","v":112.84383561643835},0]
[{"$nulls":5},"",null,null,{"$f":"IF(G173=\"\",\"\",G173/총괄표!$H$4)","v":""},"","",{"$nulls":4},{"$f":"(총괄표!$H$3-'2.(1)유사용역(실적_배수지, 가압장, 정수장)'!E173+1)/365","v":112.84383561643835},0]
[{"$nulls":5},"",null,null,{"$f":"IF(G174=\"\",\"\",G174/총괄표!$H$4)","v":""},"","",{"$nulls":4},{"$f":"(총괄표!$H$3-'2.(1)유사용역(실적_배수지, 가압장, 정수장)'!E174+1)/365","v":112.84383561643835},0]
[{"$nulls":5},"",null,null,{"$f":"IF(G175=\"\",\"\",G175/총괄표!$H$4)","v":""},"","",{"$nulls":4},{"$f":"(총괄표!$H$3-'2.(1)유사용역(실적_배수지, 가압장, 정수장)'!E175+1)/365","v":112.84383561643835},0]
[{"$nulls":5},"",null,null,{"$f":"IF(G176=\"\",\"\",G176/총괄표!$H$4)","v":""},"","",{"$nulls":4},{"$f":"(총괄표!$H$3-'2.(1)유사용역(실적_배수지, 가압장, 정수장)'!E176+1)/365","v":112.84383561643835},0]
[{"$nulls":5},"",null,null,{"$f":"IF(G177=\"\",\"\",G177/총괄표!$H$4)","v":""},"","",{"$nulls":4},{"$f":"(총괄표!$H$3-'2.(1)유사용역(실적_배수지, 가압장, 정수장)'!E177+1)/365","v":112.84383561643835},0]
[{"$nulls":5},"",null,null,{"$f":"IF(G178=\"\",\"\",G178/총괄표!$H$4)","v":""},"","",{"$nulls":4},{"$f":"(총괄표!$H$3-'2.(1)유사용역(실적_배수지, 가압장, 정수장)'!E178+1)/365","v":112.84383561643835},0]
[{"$nulls":5},"",null,null,{"$f":"IF(G179=\"\",\"\",G179/총괄표!$H$4)","v":""},"","",{"$nulls":4},{"$f":"(총괄표!$H$3-'2.(1)유사용역(실적_배수지, 가압장, 정수장)'!E179+1)/365","v":112.84383561643835},0]
[{"$nulls":5},"",null,null,{"$f":"IF(G180=\"\",\"\",G180/총괄표!$H$4)","v":""},"","",{"$nulls":4},{"$f":"(총괄표!$H$3-'2.(1)유사용역(실적_배수지, 가압장, 정수장)'!E180+1)/365","v":112.84383561643835},0]
[{"$nulls":5},"",null,null,{"$f":"IF(G181=\"\",\"\",G181/총괄표!$H$4)","v":""},"","",{"$nulls":4},{"$f":"(총괄표!$H$3-'2.(1)유사용역(실적_배수지, 가압장, 정수장)'!E181+1)/365","v":112.84383561643835},0]
[{"$nulls":5},"",null,null,{"$f":"IF(G182=\"\",\"\",G182/총괄표!$H$4)","v":""},"","",{"$nulls":4},{"$f":"(총괄표!$H$3-'2.(1)유사용역(실적_배수지, 가압장, 정수장)'!E182+1)/365","v":112.84383561643835},0]
[{"$nulls":5},"",null,null,{"$f":"IF(G183=\"\",\"\",G183/총괄표!$H$4)","v":""},"","",{"$nulls":4},{"$f":"(총괄표!$H$3-'2.(1)유사용역(실적_배수지, 가압장, 정수장)'!E183+1)/365","v":112.84383561643835},0]
[{"$nulls":5},"",null,null,{"$f":"IF(G184=\"\",\"\",G184/총괄표!$H$4)","v":""},"","",{"$nulls":4},{"$f":"(총괄표!$H$3-'2.(1)유사용역(실적_배수지, 가압장, 정수장)'!E184+1)/365","v":112.84383561643835},0]
[{"$nulls":5},"",null,null,{"$f":"IF(G185=\"\",\"\",G185/총괄표!$H$4)","v":""},"","",{"$nulls":4},{"$f":"(총괄표!$H$3-'2.(1)유사용역(실적_배수지, 가압장, 정수장)'!E185+1)/365","v":112.84383561643835},0]
[{"$nulls":5},"",null,null,{"$f":"IF(G186=\"\",\"\",G186/총괄표!$H$4)","v":""},"","",{"$nulls":4},{"$f":"(총괄표!$H$3-'2.(1)유사용역(실적_배수지, 가압장, 정수장)'!E186+1)/365","v":112.84383561643835},0]
[{"$nulls":5},"",null,null,{"$f":"IF(G187=\"\",\"\",G187/총괄표!$H$4)","v":""},"","",{"$nulls":4},{"$f":"(총괄표!$H$3-'2.(1)유사용역(실적_배수지, 가압장, 정수장)'!E187+1)/365","v":112.84383561643835},0]
[{"$nulls":5},"",null,null,{"$f":"IF(G188=\"\",\"\",G188/총괄표!$H$4)","v":""},"","",{"$nulls":4},{"$f":"(총괄표!$H$3-'2.(1)유사용역(실적_배수지, 가압장, 정수장)'!E188+1)/365","v":112.84383561643835},0]
[{"$nulls":5},"",null,null,{"$f":"IF(G189=\"\",\"\",G189/총괄표!$H$4)","v":""},"","",{"$nulls":4},{"$f":"(총괄표!$H$3-'2.(1)유사용역(실적_배수지, 가압장, 정수장)'!E189+1)/365","v":112.84383561643835},0]
[{"$nulls":5},"",null,null,{"$f":"IF(G190=\"\",\"\",G190/총괄표!$H$4)","v":""},"","",{"$nulls":4},{"$f":"(총괄표!$H$3-'2.(1)유사용역(실적_배수지, 가압장, 정수장)'!E190+1)/365","v":112.84383561643835},0]
[{"$nulls":5},"",null,null,{"$f":"IF(G191=\"\",\"\",G191/총괄표!$H$4)","v":""},"","",{"$nulls":4},{"$f":"(총괄표!$H$3-'2.(1)유사용역(실적_배수지, 가압장, 정수장)'!E191+1)/365","v":112.84383561643835},0]
[{"$nulls":5},"",null,null,{"$f":"IF(G192=\"\",\"\",G192/총괄표!$H$4)","v":""},"","",{"$nulls":4},{"$f":"(총괄표!$H$3-'2.(1)유사용역(실적_배수지, 가압장, 정수장)'!E192+1)/365","v":112.84383561643835},0]

{"sheet":"2.(2)유사용역(금액)","index":5,"n_rows":192,"n_cols":16,"rows_kept":192,"cut":false,"hidden":false,"merged":[[86,6,86,7],[1,0,1,9],[3,0,3,1],[3,6,3,7],[5,0,6,1],[5,2,6,2],[5,3,6,3],[5,4,5,6],[7,0,7,1],[14,6,14,7],[17,0,17,1],[50,6,50,7],[53,0,53,1],[89,0,89,1],[122,6,122,7],[125,0,125,1],[158,6,158,7],[161,0,161,1]]}
[]
["2. 유사용역수행실적(금액)"]
[]
["유사용역 총괄표"]
[]
["유사용역수행실적",null,"지분율","실적별건수","실적점수"]
[{"$nulls":4},"배점","자기평가","확인"]
["총   계",null,"-",{"$f":"ROUND(D9*C9+D10*C10+D11*C11+C12*D12+C13*D13,2)","v":2.5099999999999998},7,{"$f":"IF(D8>=250%,7,IF(D8>=200%,6.3,IF(D8>=150%,5.6,IF(D8>=100%,4.9,IF(D8<100%,4.2)))))","v":7}]
[{"$f":"A15","v":"대 표 사"},{"$f":"참여업체현황!B5","v":"A사"},{"$f":"참여업체현황!C5","v":0.5},{"$f":"J18","v":1.92},"-","-","-"]
["공동도급사",{"$f":"참여업체현황!B7","v":"B사"},{"$f":"참여업체현황!C7","v":0.3},{"$f":"J54","v":3.3200000000000003},"-","-","-"]
["공동도급사",{"$f":"참여업체현황!B9","v":"C사"},{"$f":"참여업체현황!C9","v":0.2},{"$f":"J90","v":2.79},"-","-","-",{"$nulls":6},"배수지 설계"]
["공동도급사",{"$f":"참여업체현황!B11","v":"D사"},{"$f":"참여업체현황!C11","v":0},{"$f":"J126","v":0},"-","-","-",{"$nulls":6},"가압장 설계"]
["공동도급사",{"$f":"참여업체현황!B13","v":"E사"},{"$f":"참여업체현황!C13","v":0},{"$f":"J162","v":0},"-","-","-",{"$nulls":6},"정수장 설계"]
[{"$nulls":13},"기타"]
["대 표 사",{"$f":"참여업체현황!B5","v":"A사"},null,"환산지분율",null,null,{"$f":"참여업체현황!$C$5","v":0.5}]
[]
["구분","용역명","발주청","착수일","준공일","기간","과업금액\n(원)","도급\n지분율","실적계수","실적별건수"]
["총   계",null,"-","-","-","-","-","-","-",{"$f":"SUM(J19:J48)","v":1.92},{"$nulls":4},"최근5년간"]
["배수지 설계",null,"00공사","2006-03-20","2008-05-20",{"$f":"IF(E19-D19=0,\"\",E19-D19)","v":792},200000000,1,{"$f":"IF(G19=\"\",\"\",G19/총괄표!$E$4)","v":0.3491614016036983},{"$f":"IF(I19=\"\",\"\",ROUND(I19*H19*P19,2))","v":0.35},{"$nulls":4},{"$f":"(총괄표!$H$3-'2.(2)유사용역(금액)'!E19+1)/365","v":4.3835616438356162},{"$f":"IF(O19>5,0,1)","v":1}]
["가압장 설계",null,"00공사","1999-10-10","2000-10-09",{"$f":"IF(E20-D20=0,\"\",E20-D20)","v":365},400000000,0.6,{"$f":"IF(G20=\"\",\"\",G20/총괄표!$E$4)","v":0.69832280320739659},{"$f":"IF(I20=\"\",\"\",ROUND(I20*H20*P20,2))","v":0},{"$nulls":4},{"$f":"(총괄표!$H$3-'2.(2)유사용역(금액)'!E20+1)/365","v":12},{"$f":"IF(O20>5,0,1)","v":0}]
["정수장 설계",null,"00시","2007-10-10","2008-10-09",365,1000000000,0.9,{"$f":"IF(G21=\"\",\"\",G21/총괄표!$E$4)","v":1.7458070080184915},1.57,{"$nulls":4},{"$f":"(총괄표!$H$3-'2.(2)유사용역(금액)'!E21+1)/365","v":3.9945205479452053},1]
[{"$nulls":5},"",null,null,{"$f":"IF(G22=\"\",\"\",G22/총괄표!$E$4)","v":""},"",{"$nulls":4},{"$f":"(총괄표!$H$3-'2.(2)유사용역(금액)'!E22+1)/365","v":112.84383561643835},0]
[{"$nulls":5},"",null,null,{"$f":"IF(G23=\"\",\"\",G23/총괄표!$E$4)","v":""},"",{"$nulls":4},{"$f":"(총괄표!$H$3-'2.(2)유사용역(금액)'!E23+1)/365","v":112.84383561643835},0]
[{"$nulls":5},"",null,null,{"$f":"IF(G24=\"\",\"\",G24/총괄표!$E$4)","v":""},"",{"$nulls":4},{"$f":"(총괄표!$H$3-'2.(2)유사용역(금액)'!E24+1)/365","v":112.84383561643835},0]
[{"$nulls":5},"",null,null,{"$f":"IF(G25=\"\",\"\",G25/총괄표!$E$4)","v":""},"",{"$nulls":4},{"$f":"(총괄표!$H$3-'2.(2)유사용역(금액)'!E25+1)/365","v":112.84383561643835},0]
[{"$nulls":5},"",null,null,{"$f":"IF(G26=\"\",\"\",G26/총괄표!$E$4)","v":""},"",{"$nulls":4},{"$f":"(총괄표!$H$3-'2.(2)유사용역(금액)'!E26+1)/365","v":112.84383561643835},0]
[{"$nulls":5},"",null,null,{"$f":"IF(G27=\"\",\"\",G27/총괄표!$E$4)","v":""},"",{"$nulls":4},{"$f":"(총괄표!$H$3-'2.(2)유사용역(금액)'!E27+1)/365","v":112.84383561643835},0]
[{"$nulls":5},"",null,null,{"$f":"IF(G28=\"\",\"\",G28/총괄표!$E$4)","v":""},"",{"$nulls":4},{"$f":"(총괄표!$H$3-'2.(2)유사용역(금액)'!E28+1)/365","v":112.84383561643835},0]
[{"$nulls":5},"",null,null,{"$f":"IF(G29=\"\",\"\",G29/총괄표!$E$4)","v":""},"",{"$nulls":4},{"$f":"(총괄표!$H$3-'2.(2)유사용역(금액)'!E29+1)/365","v":112.84383561643835},0]
[{"$nulls":5},"",null,null,{"$f":"IF(G30=\"\",\"\",G30/총괄표!$E$4)","v":""},"",{"$nulls":4},{"$f":"(총괄표!$H$3-'2.(2)유사용역(금액)'!E30+1)/365","v":112.84383561643835},0]
[{"$nulls":5},"",null,null,{"$f":"IF(G31=\"\",\"\",G31/총괄표!$E$4)","v":""},"",{"$nulls":4},{"$f":"(총괄표!$H$3-'2.(2)유사용역(금액)'!E31+1)/365","v":112.84383561643835},0]
[{"$nulls":5},"",null,null,{"$f":"IF(G32=\"\",\"\",G32/총괄표!$E$4)","v":""},"",{"$nulls":4},{"$f":"(총괄표!$H$3-'2.(2)유사용역(금액)'!E32+1)/365","v":112.84383561643835},0]
[{"$nulls":5},"",null,null,{"$f":"IF(G33=\"\",\"\",G33/총괄표!$E$4)","v":""},"",{"$nulls":4},{"$f":"(총괄표!$H$3-'2.(2)유사용역(금액)'!E33+1)/365","v":112.84383561643835},0]
[{"$nulls":5},"",null,null,{"$f":"IF(G34=\"\",\"\",G34/총괄표!$E$4)","v":""},"",{"$nulls":4},{"$f":"(총괄표!$H$3-'2.(2)유사용역(금액)'!E34+1)/365","v":112.84383561643835},0]
[{"$nulls":5},"",null,null,{"$f":"IF(G35=\"\",\"\",G35/총괄표!$E$4)","v":""},"",{"$nulls":4},{"$f":"(총괄표!$H$3-'2.(2)유사용역(금액)'!E35+1)/365","v":112.84383561643835},0]
[{"$nulls":5},"",null,null,{"$f":"IF(G36=\"\",\"\",G36/총괄표!$E$4)","v":""},"",{"$nulls":4},{"$f":"(총괄표!$H$3-'2.(2)유사용역(금액)'!E36+1)/365","v":112.84383561643835},0]
[{"$nulls":5},"",null,null,{"$f":"IF(G37=\"\",\"\",G37/총괄표!$E$4)","v":""},"",{"$nulls":4},{"$f":"(총괄표!$H$3-'2.(2)유사용역(금액)'!E37+1)/365","v":112.84383561643835},0]
[{"$nulls":5},"",null,null,{"$f":"IF(G38=\"\",\"\",G38/총괄표!$E$4)","v":""},"",{"$nulls":4},{"$f":"(총괄표!$H$3-'2.(2)유사용역(금액)'!E38+1)/365","v":112.84383561643835},0]
[{"$nulls":5},"",null,null,{"$f":"IF(G39=\"\",\"\",G39/총괄표!$E$4)","v":""},"",{"$nulls":4},{"$f":"(총괄표!$H$3-'2.(2)유사용역(금액)'!E39+1)/365","v":112.84383561643835},0]
[{"$nulls":5},"",null,null,{"$f":"IF(G40=\"\",\"\",G40/총괄표!$E$4)","v":""},"",{"$nulls":4},{"$f":"(총괄표!$H$3-'2.(2)유사용역(금액)'!E40+1)/365","v":112.84383561643835},0]
[{"$nulls":5},"",null,null,{"$f":"IF(G41=\"\",\"\",G41/총괄표!$E$4)","v":""},"",{"$nulls":4},{"$f":"(총괄표!$H$3-'2.(2)유사용역(금액)'!E41+1)/365","v":112.84383561643835},0]
[{"$nulls":5},"",null,null,{"$f":"IF(G42=\"\",\"\",G42/총괄표!$E$4)","v":""},"",{"$nulls":4},{"$f":"(총괄표!$H$3-'2.(2)유사용역(금액)'!E42+1)/365","v":112.84383561643835},0]
[{"$nulls":5},"",null,null,{"$f":"IF(G43=\"\",\"\",G43/총괄표!$E$4)","v":""},"",{"$nulls":4},{"$f":"(총괄표!$H$3-'2.(2)유사용역(금액)'!E43+1)/365","v":112.84383561643835},0]
[{"$nulls":5},"",null,null,{"$f":"IF(G44=\"\",\"\",G44/총괄표!$E$4)","v":""},"",{"$nulls":4},{"$f":"(총괄표!$H$3-'2.(2)유사용역(금액)'!E44+1)/365","v":112.84383561643835},0]
[{"$nulls":5},"",null,null,{"$f":"IF(G45=\"\",\"\",G45/총괄표!$E$4)","v":""},"",{"$nulls":4},{"$f":"(총괄표!$H$3-'2.(2)유사용역(금액)'!E45+1)/365","v":112.84383561643835},0]
[{"$nulls":5},"",null,null,{"$f":"IF(G46=\"\",\"\",G46/총괄표!$E$4)","v":""},"",{"$nulls":4},{"$f":"(총괄표!$H$3-'2.(2)유사용역(금액)'!E46+1)/365","v":112.84383561643835},0]
[{"$nulls":5},"",null,null,{"$f":"IF(G47=\"\",\"\",G47/총괄표!$E$4)","v":""},"",{"$nulls":4},{"$f":"(총괄표!$H$3-'2.(2)유사용역(금액)'!E47+1)/365","v":112.84383561643835},0]
[{"$nulls":5},"",null,null,{"$f":"IF(G48=\"\",\"\",G48/총괄표!$E$4)","v":""},"",{"$nulls":4},{"$f":"(총괄표!$H$3-'2.(2)유사용역(금액)'!E48+1)/365","v":112.84383561643835},0]
[{"$nulls":14},{"$f":"(총괄표!$H$3-'2.(2)유사용역(금액)'!E49+1)/365","v":112.84383561643835},0]
[{"$nulls":14},{"$f":"(총괄표!$H$3-'2.(2)유사용역(금액)'!E50+1)/365","v":112.84383561643835},0]
["공동도급사",{"$f":"참여업체현황!B7","v":"B사"},null,"환산지분율",null,null,{"$f":"참여업체현황!$C$7","v":0.3},{"$nulls":7},{"$f":"(총괄표!$H$3-'2.(2)유사용역(금액)'!E51+1)/365","v":112.84383561643835},0]
[{"$nulls":14},{"$f":"(총괄표!$H$3-'2.(2)유사용역(금액)'!E52+1)/365","v":112.84383561643835},0]
["구분","용역명","발주청","착수일","준공일","기간","과업금액\n(원)","도급\n지분율","실적계수","실적별건수"]
["총   계",null,"-","-","-","-","-","-","-",{"$f":"SUM(J55:J84)","v":3.3200000000000003},{"$nulls":4},"최근5년간"]
["배수지 설계",null,"00공사","2006-03-20","2008-05-20",{"$f":"IF(E55-D55=0,\"\",E55-D55)","v":792},1000000000,1,{"$f":"IF(G55=\"\",\"\",G55/총괄표!$E$4)","v":1.7458070080184915},{"$f":"IF(I55=\"\",\"\",ROUND(I55*H55*P55,2))","v":1.75},{"$nulls":4},{"$f":"(총괄표!$H$3-'2.(2)유사용역(금액)'!E55+1)/365","v":4.3835616438356162},{"$f":"IF(O55>5,0,1)","v":1}]
["가압장 설계",null,"00공사","1999-10-10","2000-10-09",{"$f":"IF(E56-D56=0,\"\",E56-D56)","v":365},400000000,0.6,{"$f":"IF(G56=\"\",\"\",G56/총괄표!$E$4)","v":0.69832280320739659},{"$f":"IF(I56=\"\",\"\",ROUND(I56*H56*P56,2))","v":0},{"$nulls":4},{"$f":"(총괄표!$H$3-'2.(2)유사용역(금액)'!E56+1)/365","v":12},{"$f":"IF(O56>5,0,1)","v":0}]
["정수장 설계",null,"00시","2007-10-10","2008-10-09",365,1000000000,0.9,{"$f":"IF(G57=\"\",\"\",G57/총괄표!$E$4)","v":1.7458070080184915},1.57,{"$nulls":4},{"$f":"(총괄표!$H$3-'2.(2)유사용역(금액)'!E57+1)/365","v":3.9945205479452053},1]
[{"$nulls":5},"",null,null,{"$f":"IF(G58=\"\",\"\",G58/총괄표!$E$4)","v":""},"",{"$nulls":4},{"$f":"(총괄표!$H$3-'2.(2)유사용역(금액)'!E58+1)/365","v":112.84383561643835},0]
[{"$nulls":5},"",null,null,{"$f":"IF(G59=\"\",\"\",G59/총괄표!$E$4)","v":""},"",{"$nulls":4},{"$f":"(총괄표!$H$3-'2.(2)유사용역(금액)'!E59+1)/365","v":112.84383561643835},0]
[{"$nulls":5},"",null,null,{"$f":"IF(G60=\"\",\"\",G60/총괄표!$E$4)","v":""},"",{"$nulls":4},{"$f":"(총괄표!$H$3-'2.(2)유사용역(금액)'!E60+1)/365","v":112.84383561643835},0]
[{"$nulls":5},"",null,null,{"$f":"IF(G61=\"\",\"\",G61/총괄표!$E$4)","v":""},"",{"$nulls":4},{"$f":"(총괄표!$H$3-'2.(2)유사용역(금액)'!E61+1)/365","v":112.84383561643835},0]
[{"$nulls":5},"",null,null,{"$f":"IF(G62=\"\",\"\",G62/총괄표!$E$4)","v":""},"",{"$nulls":4},{"$f":"(총괄표!$H$3-'2.(2)유사용역(금액)'!E62+1)/365","v":112.84383561643835},0]
[{"$nulls":5},"",null,null,{"$f":"IF(G63=\"\",\"\",G63/총괄표!$E$4)","v":""},"",{"$nulls":4},{"$f":"(총괄표!$H$3-'2.(2)유사용역(금액)'!E63+1)/365","v":112.84383561643835},0]
[{"$nulls":5},"",null,null,{"$f":"IF(G64=\"\",\"\",G64/총괄표!$E$4)","v":""},"",{"$nulls":4},{"$f":"(총괄표!$H$3-'2.(2)유사용역(금액)'!E64+1)/365","v":112.84383561643835},0]
[{"$nulls":5},"",null,null,{"$f":"IF(G65=\"\",\"\",G65/총괄표!$E$4)","v":""},"",{"$nulls":4},{"$f":"(총괄표!$H$3-'2.(2)유사용역(금액)'!E65+1)/365","v":112.84383561643835},0]
[{"$nulls":5},"",null,null,{"$f":"IF(G66=\"\",\"\",G66/총괄표!$E$4)","v":""},"",{"$nulls":4},{"$f":"(총괄표!$H$3-'2.(2)유사용역(금액)'!E66+1)/365","v":112.84383561643835},0]
[{"$nulls":5},"",null,null,{"$f":"IF(G67=\"\",\"\",G67/총괄표!$E$4)","v":""},"",{"$nulls":4},{"$f":"(총괄표!$H$3-'2.(2)유사용역(금액)'!E67+1)/365","v":112.84383561643835},0]
[{"$nulls":5},"",null,null,{"$f":"IF(G68=\"\",\"\",G68/총괄표!$E$4)","v":""},"",{"$nulls":4},{"$f":"(총괄표!$H$3-'2.(2)유사용역(금액)'!E68+1)/365","v":112.84383561643835},0]
[{"$nulls":5},"",null,null,{"$f":"IF(G69=\"\",\"\",G69/총괄표!$E$4)","v":""},"",{"$nulls":4},{"$f":"(총괄표!$H$3-'2.(2)유사용역(금액)'!E69+1)/365","v":112.84383561643835},0]
[{"$nulls":5},"",null,null,{"$f":"IF(G70=\"\",\"\",G70/총괄표!$E$4)","v":""},"",{"$nulls":4},{"$f":"(총괄표!$H$3-'2.(2)유사용역(금액)'!E70+1)/365","v":112.84383561643835},0]
[{"$nulls":5},"",null,null,{"$f":"IF(G71=\"\",\"\",G71/총괄표!$E$4)","v":""},"",{"$nulls":4},{"$f":"(총괄표!$H$3-'2.(2)유사용역(금액)'!E71+1)/365","v":112.84383561643835},0]
[{"$nulls":5},"",null,null,{"$f":"IF(G72=\"\",\"\",G72/총괄표!$E$4)","v":""},"",{"$nulls":4},{"$f":"(총괄표!$H$3-'2.(2)유사용역(금액)'!E72+1)/365","v":112.84383561643835},0]
[{"$nulls":5},"",null,null,{"$f":"IF(G73=\"\",\"\",G73/총괄표!$E$4)","v":""},"",{"$nulls":4},{"$f":"(총괄표!$H$3-'2.(2)유사용역(금액)'!E73+1)/365","v":112.84383561643835},0]
[{"$nulls":5},"",null,null,{"$f":"IF(G74=\"\",\"\",G74/총괄표!$E$4)","v":""},"",{"$nulls":4},{"$f":"(총괄표!$H$3-'2.(2)유사용역(금액)'!E74+1)/365","v":112.84383561643835},0]
[{"$nulls":5},"",null,null,{"$f":"IF(G75=\"\",\"\",G75/총괄표!$E$4)","v":""},"",{"$nulls":4},{"$f":"(총괄표!$H$3-'2.(2)유사용역(금액)'!E75+1)/365","v":112.84383561643835},0]
[{"$nulls":5},"",null,null,{"$f":"IF(G76=\"\",\"\",G76/총괄표!$E$4)","v":""},"",{"$nulls":4},{"$f":"(총괄표!$H$3-'2.(2)유사용역(금액)'!E76+1)/365","v":112.84383561643835},0]
[{"$nulls":5},"",null,null,{"$f":"IF(G77=\"\",\"\",G77/총괄표!$E$4)","v":""},"",{"$nulls":4},{"$f":"(총괄표!$H$3-'2.(2)유사용역(금액)'!E77+1)/365","v":112.84383561643835},0]
[{"$nulls":5},"",null,null,{"$f":"IF(G78=\"\",\"\",G78/총괄표!$E$4)","v":""},"",{"$nulls":4},{"$f":"(총괄표!$H$3-'2.(2)유사용역(금액)'!E78+1)/365","v":112.84383561643835},0]
[{"$nulls":5},"",null,null,{"$f":"IF(G79=\"\",\"\",G79/총괄표!$E$4)","v":""},"",{"$nulls":4},{"$f":"(총괄표!$H$3-'2.(2)유사용역(금액)'!E79+1)/365","v":112.84383561643835},0]
[{"$nulls":5},"",null,null,{"$f":"IF(G80=\"\",\"\",G80/총괄표!$E$4)","v":""},"",{"$nulls":4},{"$f":"(총괄표!$H$3-'2.(2)유사용역(금액)'!E80+1)/365","v":112.84383561643835},0]
[{"$nulls":5},"",null,null,{"$f":"IF(G81=\"\",\"\",G81/총괄표!$E$4)","v":""},"",{"$nulls":4},{"$f":"(총괄표!$H$3-'2.(2)유사용역(금액)'!E81+1)/365","v":112.84383561643835},0]
[{"$nulls":5},"",null,null,{"$f":"IF(G82=\"\",\"\",G82/총괄표!$E$4)","v":""},"",{"$nulls":4},{"$f":"(총괄표!$H$3-'2.(2)유사용역(금액)'!E82+1)/365","v":112.84383561643835},0]
[{"$nulls":5},"",null,null,{"$f":"IF(G83=\"\",\"\",G83/총괄표!$E$4)","v":""},"",{"$nulls":4},{"$f":"(총괄표!$H$3-'2.(2)유사용역(금액)'!E83+1)/365","v":112.84383561643835},0]
[{"$nulls":5},"",null,null,{"$f":"IF(G84=\"\",\"\",G84/총괄표!$E$4)","v":""},"",{"$nulls":4},{"$f":"(총괄표!$H$3-'2.(2)유사용역(금액)'!E84+1)/365","v":112.84383561643835},0]
[{"$nulls":14},{"$f":"(총괄표!$H$3-'2.(2)유사용역(금액)'!E85+1)/365","v":112.84383561643835},0]
[{"$nulls":14},{"$f":"(총괄표!$H$3-'2.(2)유사용역(금액)'!E86+1)/365","v":112.84383561643835},0]
["공동도급사",{"$f":"참여업체현황!B9","v":"C사"},null,"환산지분율",null,null,{"$f":"참여업체현황!C9","v":0.2},{"$nulls":7},{"$f":"(총괄표!$H$3-'2.(2)유사용역(금액)'!E87+1)/365","v":112.84383561643835},0]
[{"$nulls":14},{"$f":"(총괄표!$H$3-'2.(2)유사용역(금액)'!E88+1)/365","v":112.84383561643835},0]
["구분","용역명","발주청","착수일","준공일","기간","과업금액\n(원)","도급\n지분율","실적계수","실적별건수"]
["총   계",null,"-","-","-","-",null,"-","-",{"$f":"SUM(J91:J120)","v":2.79},{"$nulls":4},"최근5년간"]
["배수지 설계",null,"00공사","2006-03-20","2008-05-20",{"$f":"IF(E91-D91=0,\"\",E91-D91)","v":792},700000000,1,{"$f":"IF(G91=\"\",\"\",G91/총괄표!$E$4)","v":1.222064905612944},{"$f":"IF(I91=\"\",\"\",ROUND(I91*H91*P91,2))","v":1.22},{"$nulls":4},{"$f":"(총괄표!$H$3-'2.(2)유사용역(금액)'!E91+1)/365","v":4.3835616438356162},{"$f":"IF(O91>5,0,1)","v":1}]
["가압장 설계",null,"00공사","1999-10-10","2000-10-09",{"$f":"IF(E92-D92=0,\"\",E92-D92)","v":365},400000000,0.6,{"$f":"IF(G92=\"\",\"\",G92/총괄표!$E$4)","v":0.69832280320739659},{"$f":"IF(I92=\"\",\"\",ROUND(I92*H92*P92,2))","v":0},{"$nulls":4},{"$f":"(총괄표!$H$3-'2.(2)유사용역(금액)'!E92+1)/365","v":12},{"$f":"IF(O92>5,0,1)","v":0}]
["정수장 설계",null,"00시","2007-10-10","2008-10-09",365,1000000000,0.9,{"$f":"IF(G93=\"\",\"\",G93/총괄표!$E$4)","v":1.7458070080184915},1.57,{"$nulls":4},{"$f":"(총괄표!$H$3-'2.(2)유사용역(금액)'!E93+1)/365","v":3.9945205479452053},1]
[{"$nulls":5},"",null,null,{"$f":"IF(G94=\"\",\"\",G94/총괄표!$E$4)","v":""},"",{"$nulls":4},{"$f":"(총괄표!$H$3-'2.(2)유사용역(금액)'!E94+1)/365","v":112.84383561643835},0]
[{"$nulls":5},"",null,null,{"$f":"IF(G95=\"\",\"\",G95/총괄표!$E$4)","v":""},"",{"$nulls":4},{"$f":"(총괄표!$H$3-'2.(2)유사용역(금액)'!E95+1)/365","v":112.84383561643835},0]
[{"$nulls":5},"",null,null,{"$f":"IF(G96=\"\",\"\",G96/총괄표!$E$4)","v":""},"",{"$nulls":4},{"$f":"(총괄표!$H$3-'2.(2)유사용역(금액)'!E96+1)/365","v":112.84383561643835},0]
[{"$nulls":5},"",null,null,{"$f":"IF(G97=\"\",\"\",G97/총괄표!$E$4)","v":""},"",{"$nulls":4},{"$f":"(총괄표!$H$3-'2.(2)유사용역(금액)'!E97+1)/365","v":112.84383561643835},0]
[{"$nulls":5},"",null,null,{"$f":"IF(G98=\"\",\"\",G98/총괄표!$E$4)","v":""},"",{"$nulls":4},{"$f":"(총괄표!$H$3-'2.(2)유사용역(금액)'!E98+1)/365","v":112.84383561643835},0]
[{"$nulls":5},"",null,null,{"$f":"IF(G99=\"\",\"\",G99/총괄표!$E$4)","v":""},"",{"$nulls":4},{"$f":"(총괄표!$H$3-'2.(2)유사용역(금액)'!E99+1)/365","v":112.84383561643835},0]
[{"$nulls":5},"",null,null,{"$f":"IF(G100=\"\",\"\",G100/총괄표!$E$4)","v":""},"",{"$nulls":4},{"$f":"(총괄표!$H$3-'2.(2)유사용역(금액)'!E100+1)/365","v":112.84383561643835},0]
[{"$nulls":5},"",null,null,{"$f":"IF(G101=\"\",\"\",G101/총괄표!$E$4)","v":""},"",{"$nulls":4},{"$f":"(총괄표!$H$3-'2.(2)유사용역(금액)'!E101+1)/365","v":112.84383561643835},0]
[{"$nulls":5},"",null,null,{"$f":"IF(G102=\"\",\"\",G102/총괄표!$E$4)","v":""},"",{"$nulls":4},{"$f":"(총괄표!$H$3-'2.(2)유사용역(금액)'!E102+1)/365","v":112.84383561643835},0]
[{"$nulls":5},"",null,null,{"$f":"IF(G103=\"\",\"\",G103/총괄표!$E$4)","v":""},"",{"$nulls":4},{"$f":"(총괄표!$H$3-'2.(2)유사용역(금액)'!E103+1)/365","v":112.84383561643835},0]
[{"$nulls":5},"",null,null,{"$f":"IF(G104=\"\",\"\",G104/총괄표!$E$4)","v":""},"",{"$nulls":4},{"$f":"(총괄표!$H$3-'2.(2)유사용역(금액)'!E104+1)/365","v":112.84383561643835},0]
[{"$nulls":5},"",null,null,{"$f":"IF(G105=\"\",\"\",G105/총괄표!$E$4)","v":""},"",{"$nulls":4},{"$f":"(총괄표!$H$3-'2.(2)유사용역(금액)'!E105+1)/365","v":112.84383561643835},0]
[{"$nulls":5},"",null,null,{"$f":"IF(G106=\"\",\"\",G106/총괄표!$E$4)","v":""},"",{"$nulls":4},{"$f":"(총괄표!$H$3-'2.(2)유사용역(금액)'!E106+1)/365","v":112.84383561643835},0]
[{"$nulls":5},"",null,null,{"$f":"IF(G107=\"\",\"\",G107/총괄표!$E$4)","v":""},"",{"$nulls":4},{"$f":"(총괄표!$H$3-'2.(2)유사용역(금액)'!E107+1)/365","v":112.84383561643835},0]
[{"$nulls":5},"",null,null,{"$f":"IF(G108=\"\",\"\",G108/총괄표!$E$4)","v":""},"",{"$nulls":4},{"$f":"(총괄표!$H$3-'2.(2)유사용역(금액)'!E108+1)/365","v":112.84383561643835},0]
[{"$nulls":5},"",null,null,{"$f":"IF(G109=\"\",\"\",G109/총괄표!$E$4)","v":""},"",{"$nulls":4},{"$f":"(총괄표!$H$3-'2.(2)유사용역(금액)'!E109+1)/365","v":112.84383561643835},0]
[{"$nulls":5},"",null,null,{"$f":"IF(G110=\"\",\"\",G110/총괄표!$E$4)","v":""},"",{"$nulls":4},{"$f":"(총괄표!$H$3-'2.(2)유사용역(금액)'!E110+1)/365","v":112.84383561643835},0]
[{"$nulls":5},"",null,null,{"$f":"IF(G111=\"\",\"\",G111/총괄표!$E$4)","v":""},"",{"$nulls":4},{"$f":"(총괄표!$H$3-'2.(2)유사용역(금액)'!E111+1)/365","v":112.84383561643835},0]
[{"$nulls":5},"",null,null,{"$f":"IF(G112=\"\",\"\",G112/총괄표!$E$4)","v":""},"",{"$nulls":4},{"$f":"(총괄표!$H$3-'2.(2)유사용역(금액)'!E112+1)/365","v":112.84383561643835},0]
[{"$nulls":5},"",null,null,{"$f":"IF(G113=\"\",\"\",G113/총괄표!$E$4)","v":""},"",{"$nulls":4},{"$f":"(총괄표!$H$3-'2.(2)유사용역(금액)'!E113+1)/365","v":112.84383561643835},0]
[{"$nulls":5},"",null,null,{"$f":"IF(G114=\"\",\"\",G114/총괄표!$E$4)","v":""},"",{"$nulls":4},{"$f":"(총괄표!$H$3-'2.(2)유사용역(금액)'!E114+1)/365","v":112.84383561643835},0]
[{"$nulls":5},"",null,null,{"$f":"IF(G115=\"\",\"\",G115/총괄표!$E$4)","v":""},"",{"$nulls":4},{"$f":"(총괄표!$H$3-'2.(2)유사용역(금액)'!E115+1)/365","v":112.84383561643835},0]
[{"$nulls":5},"",null,null,{"$f":"IF(G116=\"\",\"\",G116/총괄표!$E$4)","v":""},"",{"$nulls":4},{"$f":"(총괄표!$H$3-'2.(2)유사용역(금액)'!E116+1)/365","v":112.84383561643835},0]
[{"$nulls":5},"",null,null,{"$f":"IF(G117=\"\",\"\",G117/총괄표!$E$4)","v":""},"",{"$nulls":4},{"$f":"(총괄표!$H$3-'2.(2)유사용역(금액)'!E117+1)/365","v":112.84383561643835},0]
[{"$nulls":5},"",null,null,{"$f":"IF(G118=\"\",\"\",G118/총괄표!$E$4)","v":""},"",{"$nulls":4},{"$f":"(총괄표!$H$3-'2.(2)유사용역(금액)'!E118+1)/365","v":112.84383561643835},0]
[{"$nulls":5},"",null,null,{"$f":"IF(G119=\"\",\"\",G119/총괄표!$E$4)","v":""},"",{"$nulls":4},{"$f":"(총괄표!$H$3-'2.(2)유사용역(금액)'!E119+1)/365","v":112.84383561643835},0]
[{"$nulls":5},"",null,null,{"$f":"IF(G120=\"\",\"\",G120/총괄표!$E$4)","v":""},"",{"$nulls":4},{"$f":"(총괄표!$H$3-'2.(2)유사용역(금액)'!E120+1)/365","v":112.84383561643835},0]
[{"$nulls":14},{"$f":"(총괄표!$H$3-'2.(2)유사용역(금액)'!E121+1)/365","v":112.84383561643835},0]
[{"$nulls":14},{"$f":"(총괄표!$H$3-'2.(2)유사용역(금액)'!E122+1)/365","v":112.84383561643835},0]
["공동도급사",{"$f":"참여업체현황!B11","v":"D사"},null,"환산지분율",null,null,{"$f":"참여업체현황!C11","v":0},{"$nulls":7},{"$f":"(총괄표!$H$3-'2.(2)유사용역(금액)'!E123+1)/365","v":112.84383561643835},0]
[{"$nulls":14},{"$f":"(총괄표!$H$3-'2.(2)유사용역(금액)'!E124+1)/365","v":112.84383561643835},0]
["구분","용역명","발주청","착수일","준공일","기간","과업금액\n(원)","도급\n지분율","실적계수","실적별건수"]
["총   계",null,"-","-","-","-","-","-","-",{"$f":"SUM(J127:J156)","v":0},{"$nulls":4},"최근5년간"]
[{"$nulls":5},{"$f":"IF(E127-D127=0,\"\",E127-D127)","v":""},null,null,{"$f":"IF(G127=\"\",\"\",G127/총괄표!$E$4)","v":""},{"$f":"IF(I127=\"\",\"\",ROUND(I127*H127*P127,2))","v":""},{"$nulls":4},{"$f":"(총괄표!$H$3-'2.(2)유사용역(금액)'!E127+1)/365","v":112.84383561643835},{"$f":"IF(O127>5,0,1)","v":0}]
[{"$nulls":5},{"$f":"IF(E128-D128=0,\"\",E128-D128)","v":""},null,null,{"$f":"IF(G128=\"\",\"\",G128/총괄표!$E$4)","v":""},{"$f":"IF(I128=\"\",\"\",ROUND(I128*H128*P128,2))","v":""},{"$nulls":4},{"$f":"(총괄표!$H$3-'2.(2)유사용역(금액)'!E128+1)/365","v":112.84383561643835},{"$f":"IF(O128>5,0,1)","v":0}]
[{"$nulls":5},"",null,null,{"$f":"IF(G129=\"\",\"\",G129/총괄표!$E$4)","v":""},"",{"$nulls":4},{"$f":"(총괄표!$H$3-'2.(2)유사용역(금액)'!E129+1)/365","v":112.84383561643835},0]
[{"$nulls":5},"",null,null,{"$f":"IF(G130=\"\",\"\",G130/총괄표!$E$4)","v":""},"",{"$nulls":4},{"$f":"(총괄표!$H$3-'2.(2)유사용역(금액)'!E130+1)/365","v":112.84383561643835},0]
[{"$nulls":5},"",null,null,{"$f":"IF(G131=\"\",\"\",G131/총괄표!$E$4)","v":""},"",{"$nulls":4},{"$f":"(총괄표!$H$3-'2.(2)유사용역(금액)'!E131+1)/365","v":112.84383561643835},0]
[{"$nulls":5},"",null,null,{"$f":"IF(G132=\"\",\"\",G132/총괄표!$E$4)","v":""},"",{"$nulls":4},{"$f":"(총괄표!$H$3-'2.(2)유사용역(금액)'!E132+1)/365","v":112.84383561643835},0]
[{"$nulls":5},"",null,null,{"$f":"IF(G133=\"\",\"\",G133/총괄표!$E$4)","v":""},"",{"$nulls":4},{"$f":"(총괄표!$H$3-'2.(2)유사용역(금액)'!E133+1)/365","v":112.84383561643835},0]
[{"$nulls":5},"",null,null,{"$f":"IF(G134=\"\",\"\",G134/총괄표!$E$4)","v":""},"",{"$nulls":4},{"$f":"(총괄표!$H$3-'2.(2)유사용역(금액)'!E134+1)/365","v":112.84383561643835},0]
[{"$nulls":5},"",null,null,{"$f":"IF(G135=\"\",\"\",G135/총괄표!$E$4)","v":""},"",{"$nulls":4},{"$f":"(총괄표!$H$3-'2.(2)유사용역(금액)'!E135+1)/365","v":112.84383561643835},0]
[{"$nulls":5},"",null,null,{"$f":"IF(G136=\"\",\"\",G136/총괄표!$E$4)","v":""},"",{"$nulls":4},{"$f":"(총괄표!$H$3-'2.(2)유사용역(금액)'!E136+1)/365","v":112.84383561643835},0]
[{"$nulls":5},"",null,null,{"$f":"IF(G137=\"\",\"\",G137/총괄표!$E$4)","v":""},"",{"$nulls":4},{"$f":"(총괄표!$H$3-'2.(2)유사용역(금액)'!E137+1)/365","v":112.84383561643835},0]
[{"$nulls":5},"",null,null,{"$f":"IF(G138=\"\",\"\",G138/총괄표!$E$4)","v":""},"",{"$nulls":4},{"$f":"(총괄표!$H$3-'2.(2)유사용역(금액)'!E138+1)/365","v":112.84383561643835},0]
[{"$nulls":5},"",null,null,{"$f":"IF(G139=\"\",\"\",G139/총괄표!$E$4)","v":""},"",{"$nulls":4},{"$f":"(총괄표!$H$3-'2.(2)유사용역(금액)'!E139+1)/365","v":112.84383561643835},0]
[{"$nulls":5},"",null,null,{"$f":"IF(G140=\"\",\"\",G140/총괄표!$E$4)","v":""},"",{"$nulls":4},{"$f":"(총괄표!$H$3-'2.(2)유사용역(금액)'!E140+1)/365","v":112.84383561643835},0]
[{"$nulls":5},"",null,null,{"$f":"IF(G141=\"\",\"\",G141/총괄표!$E$4)","v":""},"",{"$nulls":4},{"$f":"(총괄표!$H$3-'2.(2)유사용역(금액)'!E141+1)/365","v":112.84383561643835},0]
[{"$nulls":5},"",null,null,{"$f":"IF(G142=\"\",\"\",G142/총괄표!$E$4)","v":""},"",{"$nulls":4},{"$f":"(총괄표!$H$3-'2.(2)유사용역(금액)'!E142+1)/365","v":112.84383561643835},0]
[{"$nulls":5},"",null,null,{"$f":"IF(G143=\"\",\"\",G143/총괄표!$E$4)","v":""},"",{"$nulls":4},{"$f":"(총괄표!$H$3-'2.(2)유사용역(금액)'!E143+1)/365","v":112.84383561643835},0]
[{"$nulls":5},"",null,null,{"$f":"IF(G144=\"\",\"\",G144/총괄표!$E$4)","v":""},"",{"$nulls":4},{"$f":"(총괄표!$H$3-'2.(2)유사용역(금액)'!E144+1)/365","v":112.84383561643835},0]
[{"$nulls":5},"",null,null,{"$f":"IF(G145=\"\",\"\",G145/총괄표!$E$4)","v":""},"",{"$nulls":4},{"$f":"(총괄표!$H$3-'2.(2)유사용역(금액)'!E145+1)/365","v":112.84383561643835},0]
[{"$nulls":5},"",null,null,{"$f":"IF(G146=\"\",\"\",G146/총괄표!$E$4)","v":""},"",{"$nulls":4},{"$f":"(총괄표!$H$3-'2.(2)유사용역(금액)'!E146+1)/365","v":112.84383561643835},0]
[{"$nulls":5},"",null,null,{"$f":"IF(G147=\"\",\"\",G147/총괄표!$E$4)","v":""},"",{"$nulls":4},{"$f":"(총괄표!$H$3-'2.(2)유사용역(금액)'!E147+1)/365","v":112.84383561643835},0]
[{"$nulls":5},"",null,null,{"$f":"IF(G148=\"\",\"\",G148/총괄표!$E$4)","v":""},"",{"$nulls":4},{"$f":"(총괄표!$H$3-'2.(2)유사용역(금액)'!E148+1)/365","v":112.84383561643835},0]
[{"$nulls":5},"",null,null,{"$f":"IF(G149=\"\",\"\",G149/총괄표!$E$4)","v":""},"",{"$nulls":4},{"$f":"(총괄표!$H$3-'2.(2)유사용역(금액)'!E149+1)/365","v":112.84383561643835},0]
[{"$nulls":5},"",null,null,{"$f":"IF(G150=\"\",\"\",G150/총괄표!$E$4)","v":""},"",{"$nulls":4},{"$f":"(총괄표!$H$3-'2.(2)유사용역(금액)'!E150+1)/365","v":112.84383561643835},0]
[{"$nulls":5},"",null,null,{"$f":"IF(G151=\"\",\"\",G151/총괄표!$E$4)","v":""},"",{"$nulls":4},{"$f":"(총괄표!$H$3-'2.(2)유사용역(금액)'!E151+1)/365","v":112.84383561643835},0]
[{"$nulls":5},"",null,null,{"$f":"IF(G152=\"\",\"\",G152/총괄표!$E$4)","v":""},"",{"$nulls":4},{"$f":"(총괄표!$H$3-'2.(2)유사용역(금액)'!E152+1)/365","v":112.84383561643835},0]
[{"$nulls":5},"",null,null,{"$f":"IF(G153=\"\",\"\",G153/총괄표!$E$4)","v":""},"",{"$nulls":4},{"$f":"(총괄표!$H$3-'2.(2)유사용역(금액)'!E153+1)/365","v":112.84383561643835},0]
[{"$nulls":5},"",null,null,{"$f":"IF(G154=\"\",\"\",G154/총괄표!$E$4)","v":""},"",{"$nulls":4},{"$f":"(총괄표!$H$3-'2.(2)유사용역(금액)'!E154+1)/365","v":112.84383561643835},0]
[{"$nulls":5},"",null,null,{"$f":"IF(G155=\"\",\"\",G155/총괄표!$E$4)","v":""},"",{"$nulls":4},{"$f":"(총괄표!$H$3-'2.(2)유사용역(금액)'!E155+1)/365","v":112.84383561643835},0]
[{"$nulls":5},"",null,null,{"$f":"IF(G156=\"\",\"\",G156/총괄표!$E$4)","v":""},"",{"$nulls":4},{"$f":"(총괄표!$H$3-'2.(2)유사용역(금액)'!E156+1)/365","v":112.84383561643835},0]
[{"$nulls":14},{"$f":"(총괄표!$H$3-'2.(2)유사용역(금액)'!E157+1)/365","v":112.84383561643835},0]
[{"$nulls":14},{"$f":"(총괄표!$H$3-'2.(2)유사용역(금액)'!E158+1)/365","v":112.84383561643835},0]
["공동도급사",{"$f":"참여업체현황!B13","v":"E사"},null,"환산지분율",null,null,{"$f":"참여업체현황!C13","v":0},{"$nulls":7},{"$f":"(총괄표!$H$3-'2.(2)유사용역(금액)'!E159+1)/365","v":112.84383561643835},0]
[{"$nulls":14},{"$f":"(총괄표!$H$3-'2.(2)유사용역(금액)'!E160+1)/365","v":112.84383561643835},0]
["구분","용역명","발주청","착수일","준공일","기간","과업금액\n(원)","도급\n지분율","실적계수","실적별건수"]
["총   계",null,"-","-","-","-","-","-","-",{"$f":"SUM(J163:J177)","v":0},{"$nulls":4},"최근5년간"]
[{"$nulls":5},{"$f":"IF(E163-D163=0,\"\",E163-D163)","v":""},null,null,{"$f":"IF(G163=\"\",\"\",G163/총괄표!$E$4)","v":""},{"$f":"IF(I163=\"\",\"\",ROUND(I163*H163*P163,2))","v":""},{"$nulls":4},{"$f":"(총괄표!$H$3-'2.(2)유사용역(금액)'!E163+1)/365","v":112.84383561643835},{"$f":"IF(O163>5,0,1)","v":0}]
[{"$nulls":5},{"$f":"IF(E164-D164=0,\"\",E164-D164)","v":""},null,null,{"$f":"IF(G164=\"\",\"\",G164/총괄표!$E$4)","v":""},{"$f":"IF(I164=\"\",\"\",ROUND(I164*H164*P164,2))","v":""},{"$nulls":4},{"$f":"(총괄표!$H$3-'2.(2)유사용역(금액)'!E164+1)/365","v":112.84383561643835},{"$f":"IF(O164>5,0,1)","v":0}]
[{"$nulls":5},"",null,null,{"$f":"IF(G165=\"\",\"\",G165/총괄표!$E$4)","v":""},"",{"$nulls":4},{"$f":"(총괄표!$H$3-'2.(2)유사용역(금액)'!E165+1)/365","v":112.84383561643835},0]
[{"$nulls":5},"",null,null,{"$f":"IF(G166=\"\",\"\",G166/총괄표!$E$4)","v":""},"",{"$nulls":4},{"$f":"(총괄표!$H$3-'2.(2)유사용역(금액)'!E166+1)/365","v":112.84383561643835},0]
[{"$nulls":5},"",null,null,{"$f":"IF(G167=\"\",\"\",G167/총괄표!$E$4)","v":""},"",{"$nulls":4},{"$f":"(총괄표!$H$3-'2.(2)유사용역(금액)'!E167+1)/365","v":112.84383561643835},0]
[{"$nulls":5},"",null,null,{"$f":"IF(G168=\"\",\"\",G168/총괄표!$E$4)","v":""},"",{"$nulls":4},{"$f":"(총괄표!$H$3-'2.(2)유사용역(금액)'!E168+1)/365","v":112.84383561643835},0]
[{"$nulls":5},"",null,null,{"$f":"IF(G169=\"\",\"\",G169/총괄표!$E$4)","v":""},"",{"$nulls":4},{"$f":"(총괄표!$H$3-'2.(2)유사용역(금액)'!E169+1)/365","v":112.84383561643835},0]
[{"$nulls":5},"",null,null,{"$f":"IF(G170=\"\",\"\",G170/총괄표!$E$4)","v":""},"",{"$nulls":4},{"$f":"(총괄표!$H$3-'2.(2)유사용역(금액)'!E170+1)/365","v":112.84383561643835},0]
[{"$nulls":5},"",null,null,{"$f":"IF(G171=\"\",\"\",G171/총괄표!$E$4)","v":""},"",{"$nulls":4},{"$f":"(총괄표!$H$3-'2.(2)유사용역(금액)'!E171+1)/365","v":112.84383561643835},0]
[{"$nulls":5},"",null,null,{"$f":"IF(G172=\"\",\"\",G172/총괄표!$E$4)","v":""},"",{"$nulls":4},{"$f":"(총괄표!$H$3-'2.(2)유사용역(금액)'!E172+1)/365","v":112.84383561643835},0]
[{"$nulls":5},"",null,null,{"$f":"IF(G173=\"\",\"\",G173/총괄표!$E$4)","v":""},"",{"$nulls":4},{"$f":"(총괄표!$H$3-'2.(2)유사용역(금액)'!E173+1)/365","v":112.84383561643835},0]
[{"$nulls":5},"",null,null,{"$f":"IF(G174=\"\",\"\",G174/총괄표!$E$4)","v":""},"",{"$nulls":4},{"$f":"(총괄표!$H$3-'2.(2)유사용역(금액)'!E174+1)/365","v":112.84383561643835},0]
[{"$nulls":5},"",null,null,{"$f":"IF(G175=\"\",\"\",G175/총괄표!$E$4)","v":""},"",{"$nulls":4},{"$f":"(총괄표!$H$3-'2.(2)유사용역(금액)'!E175+1)/365","v":112.84383561643835},0]
[{"$nulls":5},"",null,null,{"$f":"IF(G176=\"\",\"\",G176/총괄표!$E$4)","v":""},"",{"$nulls":4},{"$f":"(총괄표!$H$3-'2.(2)유사용역(금액)'!E176+1)/365","v":112.84383561643835},0]
[{"$nulls":5},"",null,null,{"$f":"IF(G177=\"\",\"\",G177/총괄표!$E$4)","v":""},"",{"$nulls":4},{"$f":"(총괄표!$H$3-'2.(2)유사용역(금액)'!E177+1)/365","v":112.84383561643835},0]
[{"$nulls":5},"",null,null,{"$f":"IF(G178=\"\",\"\",G178/총괄표!$E$4)","v":""},"",{"$nulls":4},{"$f":"(총괄표!$H$3-'2.(2)유사용역(금액)'!E178+1)/365","v":112.84383561643835},0]
[{"$nulls":5},"",null,null,{"$f":"IF(G179=\"\",\"\",G179/총괄표!$E$4)","v":""},"",{"$nulls":4},{"$f":"(총괄표!$H$3-'2.(2)유사용역(금액)'!E179+1)/365","v":112.84383561643835},0]
[{"$nulls":5},"",null,null,{"$f":"IF(G180=\"\",\"\",G180/총괄표!$E$4)","v":""},"",{"$nulls":4},{"$f":"(총괄표!$H$3-'2.(2)유사용역(금액)'!E180+1)/365","v":112.84383561643835},0]
[{"$nulls":5},"",null,null,{"$f":"IF(G181=\"\",\"\",G181/총괄표!$E$4)","v":""},"",{"$nulls":4},{"$f":"(총괄표!$H$3-'2.(2)유사용역(금액)'!E181+1)/365","v":112.84383561643835},0]
[{"$nulls":5},"",null,null,{"$f":"IF(G182=\"\",\"\",G182/총괄표!$E$4)","v":""},"",{"$nulls":4},{"$f":"(총괄표!$H$3-'2.(2)유사용역(금액)'!E182+1)/365","v":112.84383561643835},0]
[{"$nulls":5},"",null,null,{"$f":"IF(G183=\"\",\"\",G183/총괄표!$E$4)","v":""},"",{"$nulls":4},{"$f":"(총괄표!$H$3-'2.(2)유사용역(금액)'!E183+1)/365","v":112.84383561643835},0]
[{"$nulls":5},"",null,null,{"$f":"IF(G184=\"\",\"\",G184/총괄표!$E$4)","v":""},"",{"$nulls":4},{"$f":"(총괄표!$H$3-'2.(2)유사용역(금액)'!E184+1)/365","v":112.84383561643835},0]
[{"$nulls":5},"",null,null,{"$f":"IF(G185=\"\",\"\",G185/총괄표!$E$4)","v":""},"",{"$nulls":4},{"$f":"(총괄표!$H$3-'2.(2)유사용역(금액)'!E185+1)/365","v":112.84383561643835},0]
[{"$nulls":5},"",null,null,{"$f":"IF(G186=\"\",\"\",G186/총괄표!$E$4)","v":""},"",{"$nulls":4},{"$f":"(총괄표!$H$3-'2.(2)유사용역(금액)'!E186+1)/365","v":112.84383561643835},0]
[{"$nulls":5},"",null,null,{"$f":"IF(G187=\"\",\"\",G187/총괄표!$E$4)","v":""},"",{"$nulls":4},{"$f":"(총괄표!$H$3-'2.(2)유사용역(금액)'!E187+1)/365","v":112.84383561643835},0]
[{"$nulls":5},"",null,null,{"$f":"IF(G188=\"\",\"\",G188/총괄표!$E$4)","v":""},"",{"$nulls":4},{"$f":"(총괄표!$H$3-'2.(2)유사용역(금액)'!E188+1)/365","v":112.84383561643835},0]
[{"$nulls":5},"",null,null,{"$f":"IF(G189=\"\",\"\",G189/총괄표!$E$4)","v":""},"",{"$nulls":4},{"$f":"(총괄표!$H$3-'2.(2)유사용역(금액)'!E189+1)/365","v":112.84383561643835},0]
[{"$nulls":5},"",null,null,{"$f":"IF(G190=\"\",\"\",G190/총괄표!$E$4)","v":""},"",{"$nulls":4},{"$f":"(총괄표!$H$3-'2.(2)유사용역(금액)'!E190+1)/365","v":112.84383561643835},0]
[{"$nulls":5},"",null,null,{"$f":"IF(G191=\"\",\"\",G191/총괄표!$E$4)","v":""},"",{"$nulls":4},{"$f":"(총괄표!$H$3-'2.(2)유사용역(금액)'!E191+1)/365","v":112.84383561643835},0]
[{"$nulls":5},"",null,null,{"$f":"IF(G192=\"\",\"\",G192/총괄표!$E$4)","v":""},"",{"$nulls":4},{"$f":"(총괄표!$H$3-'2.(2)유사용역(금액)'!E192+1)/365","v":112.84383561643835},0]

{"sheet":"3.신용도","index":6,"n_rows":125,"n_cols":11,"rows_kept":125,"cut":false,"hidden":false,"merged":[[38,3,38,5],[39,3,39,5],[40,3,40,5],[41,3,41,5],[42,3,42,5],[70,6,70,7],[70,0,70,1],[73,0,73,1],[72,6,72,7],[74,0,88,0],[88,3,88,5],[85,3,85,5],[86,3,86,5],[87,3,87,5],[75,3,75,5],[76,3,76,5],[77,3,77,5],[84,3,84,5],[72,3,72,5],[73,3,73,5],[74,3,74,5],[0,0,0,10],[4,5,5,5],[14,6,14,7],[17,0,17,1],[4,2,5,2],[4,9,4,10],[16,3,16,5],[17,3,17,5],[38,6,38,7],[40,0,44,0],[43,3,43,5],[44,3,44,5],[4,0,5,1],[32,3,32,5],[25,6,25,7],[27,6,27,7],[39,0,39,1],[36,6,36,7],[18,3,18,5],[19,3,19,5],[20,3,20,5],[21,3,21,5],[22,3,22,5],[27,3,27,5],[18,0,22,0],[29,0,33,0],[28,0,28,1],[2,0,2,1],[2,6,2,7],[16,6,16,7],[4,3,5,3],[4,4,5,4],[4,6,4,8],[6,0,6,1],[28,3,28,5],[29,3,29,5],[30,3,30,5],[31,3,31,5],[33,3,33,5],[47,6,47,7],[49,3,49,5],[49,6,49,7],[50,0,50,1],[50,3,50,5],[51,0,55,0],[51,3,51,5],[52,3,52,5],[53,3,53,5],[54,3,54,5],[55,3,55,5],[58,6,58,7],[60,3,60,5],[60,6,60,7],[61,0,61,1],[61,3,61,5],[62,0,66,0],[62,3,62,5],[63,3,63,5],[64,3,64,5],[65,3,65,5],[66,3,66,5],[83,3,83,5],[78,3,78,5],[79,3,79,5],[80,3,80,5],[81,3,81,5],[82,3,82,5]]}
["3. 신용도"]
[]
["신용도 총괄표"]
[]
["신용도",null,"환산지분율","입찰참가\n제한기간","기술자격 및\n업무정지기간","참여업체\n누계부실벌점","입찰참가제한, 업무정지, 부실벌점등",null,null,"신용평가등급"]
[{"$nulls":6},"배점","자기평가","확인","신용평가등급","점수"]
["총   계",null,"-",{"$f":"ROUNDUP(($C8*D8+$C9*D9+$C10*D10+$C11*D11+$C12*D12)/30,0)","v":5},{"$f":"ROUNDUP(I74/30,0)","v":7},{"$f":"ROUND(($C8*F8+$C9*F9+$C10*F10+$C11*F11+$C12*F12),2)","v":1.1499999999999999},7,{"$f":"G7-0.2*(D7+E7)-F7-K74","v":2.4499999999999997},null,3,{"$f":"ROUND(($C8*K8+$C9*K9+$C10*K10+$C11*K11+$C12*K12),2)","v":3}]
[{"$f":"A15","v":"대 표 사"},{"$f":"참여업체현황!B5","v":"A사"},{"$f":"참여업체현황!C5","v":0.5},{"$f":"I18","v":295},"-",{"$f":"K18","v":2},"-","-","-","회사채 A-이상",{"$f":"IF(J8=\"\",\"\",IF(J8=\"회사채 A-이상\",3,IF(J8=\"회사채 BBB-이상\",2.7,IF(J8=\"회사채 B-이상\",2.4,IF(J8=\"회사체 CCC+이하\",2.1,IF(J8=\"기업어음 A2-이상\",3,IF(J8=\"기업어음 A3-이상\",2.7,IF(J8=\"기업어음 B-이상\",2.4,IF(J8=\"기업어음 C이하\",2.1,IF(J8=\"기업신용 A-이상\",3,IF(J8=\"기업신용 BBB-이상\",2.7,IF(J8=\"기업신용 B-이상\",2.4,IF(J8=\"기업신용 CCC+이하\",2.1,IF(J8=\"미제출\",0))))))))))))))","v":3}]
[{"$f":"A26","v":"공동도급사"},{"$f":"참여업체현황!B7","v":"B사"},{"$f":"참여업체현황!C7","v":0.3},{"$f":"I29","v":0},"-",{"$f":"K29","v":0.5},"-","-","-","기업신용 A-이상",{"$f":"IF(J9=\"\",\"\",IF(J9=\"회사채 A-이상\",3,IF(J9=\"회사채 BBB-이상\",2.7,IF(J9=\"회사채 B-이상\",2.4,IF(J9=\"회사체 CCC+이하\",2.1,IF(J9=\"기업어음 A2-이상\",3,IF(J9=\"기업어음 A3+이상\",2.7,IF(J9=\"기업어음 B-이상\",2.4,IF(J9=\"기업어음 C이하\",2.1,IF(J9=\"기업신용 A-이상\",3,IF(J9=\"기업신용 BBB-이상\",2.7,IF(J9=\"기업신용 B-이상\",2.4,IF(J9=\"기업신용 CCC+이하\",2.1,IF(J9=\"미제출\",0))))))))))))))","v":3}]
[{"$f":"A37","v":"공동도급사"},{"$f":"참여업체현황!B9","v":"C사"},{"$f":"참여업체현황!C9","v":0.2},{"$f":"I40","v":0},"-",{"$f":"K40","v":0},"-","-","-","기업신용 A-이상",{"$f":"IF(J10=\"\",\"\",IF(J10=\"회사채 A-이상\",3,IF(J10=\"회사채 BBB-이상\",2.7,IF(J10=\"회사채 B-이상\",2.4,IF(J10=\"회사체 CCC+이하\",2.1,IF(J10=\"기업어음 A2-이상\",3,IF(J10=\"기업어음 A3+이상\",2.7,IF(J10=\"기업어음 B-이상\",2.4,IF(J10=\"기업어음 C이하\",2.1,IF(J10=\"기업신용 A-이상\",3,IF(J10=\"기업신용 BBB-이상\",2.7,IF(J10=\"기업신용 B-이상\",2.4,IF(J10=\"기업신용 CCC+이하\",2.1,IF(J10=\"미제출\",0))))))))))))))","v":3}]
[{"$f":"A48","v":"공동도급사"},{"$f":"참여업체현황!B11","v":"D사"},{"$f":"참여업체현황!C11","v":0},{"$f":"I51","v":0},"-",{"$f":"K51","v":0},null,null,null,"기업어음 A3+이상",{"$f":"IF(J11=\"\",\"\",IF(J11=\"회사채 A-이상\",3,IF(J11=\"회사채 BBB-이상\",2.7,IF(J11=\"회사채 B-이상\",2.4,IF(J11=\"회사체 CCC+이하\",2.1,IF(J11=\"기업어음 A2-이상\",3,IF(J11=\"기업어음 A3+이상\",2.7,IF(J11=\"기업어음 B-이상\",2.4,IF(J11=\"기업어음 C이하\",2.1,IF(J11=\"기업신용 A-이상\",3,IF(J11=\"기업신용 BBB-이상\",2.7,IF(J11=\"기업신용 B-이상\",2.4,IF(J11=\"기업신용 CCC+이하\",2.1,IF(J11=\"미제출\",0))))))))))))))","v":2.7}]
[{"$f":"A59","v":"공동도급사"},{"$f":"참여업체현황!B13","v":"E사"},{"$f":"참여업체현황!C13","v":0},{"$f":"I62","v":0},"-",{"$f":"K62","v":0},null,null,null,"기업어음 A2-이상",3]
[]
[]
["대 표 사",{"$f":"B8","v":"A사"},null,"지분율",null,null,{"$f":"C8","v":0.5}]
[]
["구분","처분명칭","처분부과기관","처분사유",null,null,"입찰참가 제한기간",null,"기간\n(일)","누계평균\n부실벌점","부실점수"]
["총   계",null,"-","-",null,null,"시작일","종료일",{"$f":"SUM(I19:I23)","v":295},10,{"$f":"IF(J18>=20,5,IF(J18>=15,3,IF(J18>=10,2,IF(J18>=5,1,IF(J18>=2,0.5,IF(J18>=1,0.2,IF(J18<1,0)))))))","v":2}]
["입찰참가\n제한처분현황","00공사설계건","00공사","000건에 대한 0000 처분",null,null,"2010-05-03","2012-05-03",{"$f":"IF(총괄표!$H$3-'3.신용도'!H19>365,\"\",IF(총괄표!$H$3-'3.신용도'!G19>365,'3.신용도'!H19-총괄표!$H$3+366,IF(총괄표!$H$3-'3.신용도'!G19<=365,'3.신용도'!H19-'3.신용도'!G19+1)))","v":211},"-","-"]
[null,"000000건","00도시공사","00000000건 관련 처분",null,null,"2010-07-29","2011-12-28",{"$f":"IF(총괄표!$H$3-'3.신용도'!H20>365,\"\",IF(총괄표!$H$3-'3.신용도'!G20>365,'3.신용도'!H20-총괄표!$H$3+366,IF(총괄표!$H$3-'3.신용도'!G20<=365,'3.신용도'!H20-'3.신용도'!G20+1)))","v":84},"-","-"]
[{"$nulls":8},{"$f":"IF(총괄표!$H$3-'3.신용도'!H21>365,\"\",IF(총괄표!$H$3-'3.신용도'!G21>365,'3.신용도'!H21-총괄표!$H$3+366,IF(총괄표!$H$3-'3.신용도'!G21<=365,'3.신용도'!H21-'3.신용도'!G21+1)))","v":""},"-","-"]
[{"$nulls":8},{"$f":"IF(총괄표!$H$3-'3.신용도'!H22>365,\"\",IF(총괄표!$H$3-'3.신용도'!G22>365,'3.신용도'!H22-총괄표!$H$3+366,IF(총괄표!$H$3-'3.신용도'!G22<=365,'3.신용도'!H22-'3.신용도'!G22+1)))","v":""},"-","-"]
[{"$nulls":8},{"$f":"IF(총괄표!$H$3-'3.신용도'!H23>365,\"\",IF(총괄표!$H$3-'3.신용도'!G23>365,'3.신용도'!H23-총괄표!$H$3+366,IF(총괄표!$H$3-'3.신용도'!G23<=365,'3.신용도'!H23-'3.신용도'!G23+1)))","v":""},"-","-"]
[]
[]
["공동도급사",{"$f":"B9","v":"B사"},null,"지분율",null,null,{"$f":"C9","v":0.3}]
[]
["구분","처분명칭","처분부과기관","처분사유",null,null,"입찰참가 제한기간",null,"기간\n(일)","누계평균\n부실벌점","부실점수"]
["총   계",null,"-","-",null,null,"시작일","종료일",{"$f":"SUM(I30:I34)","v":0},2,{"$f":"IF(J29>=20,5,IF(J29>=15,3,IF(J29>=10,2,IF(J29>=5,1,IF(J29>=2,0.5,IF(J29>=1,0.2,IF(J29<1,0)))))))","v":0.5}]
["입찰참가\n제한처분현황","0000000공사건","00도시공사","000000000관련 000000",null,null,"2011-05-12","2011-09-11",{"$f":"IF(총괄표!$H$3-'3.신용도'!H30>365,\"\",IF(총괄표!$H$3-'3.신용도'!G30>365,'3.신용도'!H30-총괄표!$H$3+366,IF(총괄표!$H$3-'3.신용도'!G30<=365,'3.신용도'!H30-'3.신용도'!G30+1)))","v":""},"-","-"]
[null,"000000건","00도시공사","00000000건 관련 처분",null,null,"2011-07-25","2011-09-24",{"$f":"IF(총괄표!$H$3-'3.신용도'!H31>365,\"\",IF(총괄표!$H$3-'3.신용도'!G31>365,'3.신용도'!H31-총괄표!$H$3+366,IF(총괄표!$H$3-'3.신용도'!G31<=365,'3.신용도'!H31-'3.신용도'!G31+1)))","v":""},"-","-"]
[{"$nulls":8},{"$f":"IF(총괄표!$H$3-'3.신용도'!H32>365,\"\",IF(총괄표!$H$3-'3.신용도'!G32>365,'3.신용도'!H32-총괄표!$H$3+366,IF(총괄표!$H$3-'3.신용도'!G32<=365,'3.신용도'!H32-'3.신용도'!G32+1)))","v":""},"-","-"]
[{"$nulls":8},{"$f":"IF(총괄표!$H$3-'3.신용도'!H33>365,\"\",IF(총괄표!$H$3-'3.신용도'!G33>365,'3.신용도'!H33-총괄표!$H$3+366,IF(총괄표!$H$3-'3.신용도'!G33<=365,'3.신용도'!H33-'3.신용도'!G33+1)))","v":""},"-","-"]
[{"$nulls":8},{"$f":"IF(총괄표!$H$3-'3.신용도'!H34>365,\"\",IF(총괄표!$H$3-'3.신용도'!G34>365,'3.신용도'!H34-총괄표!$H$3+366,IF(총괄표!$H$3-'3.신용도'!G34<=365,'3.신용도'!H34-'3.신용도'!G34+1)))","v":""},"-","-"]
[]
[]
["공동도급사",{"$f":"B10","v":"C사"},null,"지분율",null,null,{"$f":"C10","v":0.2}]
[]
["구분","처분명칭","처분부과기관","처분사유",null,null,"입찰참가 제한기간",null,"기간\n(일)","누계평균\n부실벌점","부실점수"]
["총   계",null,"-","-",null,null,"시작일","종료일",{"$f":"SUM(I41:I45)","v":0},0,{"$f":"IF(J40>=20,5,IF(J40>=15,3,IF(J40>=10,2,IF(J40>=5,1,IF(J40>=2,0.5,IF(J40>=1,0.2,IF(J40<1,0)))))))","v":0}]
["입찰참가\n제한처분현황",{"$nulls":7},{"$f":"IF(총괄표!$H$3-'3.신용도'!H41>365,\"\",IF(총괄표!$H$3-'3.신용도'!G41>365,'3.신용도'!H41-총괄표!$H$3+366,IF(총괄표!$H$3-'3.신용도'!G41<=365,'3.신용도'!H41-'3.신용도'!G41+1)))","v":""},"-","-"]
[{"$nulls":8},{"$f":"IF(총괄표!$H$3-'3.신용도'!H42>365,\"\",IF(총괄표!$H$3-'3.신용도'!G42>365,'3.신용도'!H42-총괄표!$H$3+366,IF(총괄표!$H$3-'3.신용도'!G42<=365,'3.신용도'!H42-'3.신용도'!G42+1)))","v":""},"-","-"]
[{"$nulls":8},{"$f":"IF(총괄표!$H$3-'3.신용도'!H43>365,\"\",IF(총괄표!$H$3-'3.신용도'!G43>365,'3.신용도'!H43-총괄표!$H$3+366,IF(총괄표!$H$3-'3.신용도'!G43<=365,'3.신용도'!H43-'3.신용도'!G43+1)))","v":""},"-","-"]
[{"$nulls":8},{"$f":"IF(총괄표!$H$3-'3.신용도'!H44>365,\"\",IF(총괄표!$H$3-'3.신용도'!G44>365,'3.신용도'!H44-총괄표!$H$3+366,IF(총괄표!$H$3-'3.신용도'!G44<=365,'3.신용도'!H44-'3.신용도'!G44+1)))","v":""},"-","-"]
[{"$nulls":8},{"$f":"IF(총괄표!$H$3-'3.신용도'!H45>365,\"\",IF(총괄표!$H$3-'3.신용도'!G45>365,'3.신용도'!H45-총괄표!$H$3+366,IF(총괄표!$H$3-'3.신용도'!G45<=365,'3.신용도'!H45-'3.신용도'!G45+1)))","v":""},"-","-"]
[]
[]
["공동도급사",{"$f":"B11","v":"D사"},null,"지분율",null,null,{"$f":"C11","v":0}]
[]
["구분","처분명칭","처분부과기관","처분사유",null,null,"입찰참가 제한기간",null,"기간\n(일)","누계평균\n부실벌점","부실점수"]
["총   계",null,"-","-",null,null,"시작일","종료일",{"$f":"SUM(I52:I56)","v":0},null,{"$f":"IF(J51>=20,5,IF(J51>=15,3,IF(J51>=10,2,IF(J51>=5,1,IF(J51>=2,0.5,IF(J51>=1,0.2,IF(J51<1,0)))))))","v":0}]
["입찰참가\n제한처분현황",{"$nulls":7},{"$f":"IF(총괄표!$H$3-'3.신용도'!H52>365,\"\",IF(총괄표!$H$3-'3.신용도'!G52>365,'3.신용도'!H52-총괄표!$H$3+366,IF(총괄표!$H$3-'3.신용도'!G52<=365,'3.신용도'!H52-'3.신용도'!G52+1)))","v":""},"-","-"]
[{"$nulls":8},{"$f":"IF(총괄표!$H$3-'3.신용도'!H53>365,\"\",IF(총괄표!$H$3-'3.신용도'!G53>365,'3.신용도'!H53-총괄표!$H$3+366,IF(총괄표!$H$3-'3.신용도'!G53<=365,'3.신용도'!H53-'3.신용도'!G53+1)))","v":""},"-","-"]
[{"$nulls":8},{"$f":"IF(총괄표!$H$3-'3.신용도'!H54>365,\"\",IF(총괄표!$H$3-'3.신용도'!G54>365,'3.신용도'!H54-총괄표!$H$3+366,IF(총괄표!$H$3-'3.신용도'!G54<=365,'3.신용도'!H54-'3.신용도'!G54+1)))","v":""},"-","-"]
[{"$nulls":8},{"$f":"IF(총괄표!$H$3-'3.신용도'!H55>365,\"\",IF(총괄표!$H$3-'3.신용도'!G55>365,'3.신용도'!H55-총괄표!$H$3+366,IF(총괄표!$H$3-'3.신용도'!G55<=365,'3.신용도'!H55-'3.신용도'!G55+1)))","v":""},"-","-"]
[{"$nulls":8},{"$f":"IF(총괄표!$H$3-'3.신용도'!H56>365,\"\",IF(총괄표!$H$3-'3.신용도'!G56>365,'3.신용도'!H56-총괄표!$H$3+366,IF(총괄표!$H$3-'3.신용도'!G56<=365,'3.신용도'!H56-'3.신용도'!G56+1)))","v":""},"-","-"]
[]
[]
["공동도급사",{"$f":"B12","v":"E사"},null,"지분율",null,null,{"$f":"C12","v":0}]
[]
["구분","처분명칭","처분부과기관","처분사유",null,null,"입찰참가 제한기간",null,"기간\n(일)","누계평균\n부실벌점","부실점수"]
["총   계",null,"-","-",null,null,"시작일","종료일",{"$f":"SUM(I63:I67)","v":0},null,{"$f":"IF(J62>=20,5,IF(J62>=15,3,IF(J62>=10,2,IF(J62>=5,1,IF(J62>=2,0.5,IF(J62>=1,0.2,IF(J62<1,0)))))))","v":0}]
["입찰참가\n제한처분현황",{"$nulls":7},{"$f":"IF(총괄표!$H$3-'3.신용도'!H63>365,\"\",IF(총괄표!$H$3-'3.신용도'!G63>365,'3.신용도'!H63-총괄표!$H$3+366,IF(총괄표!$H$3-'3.신용도'!G63<=365,'3.신용도'!H63-'3.신용도'!G63+1)))","v":""},"-","-"]
[{"$nulls":8},{"$f":"IF(총괄표!$H$3-'3.신용도'!H64>365,\"\",IF(총괄표!$H$3-'3.신용도'!G64>365,'3.신용도'!H64-총괄표!$H$3+366,IF(총괄표!$H$3-'3.신용도'!G64<=365,'3.신용도'!H64-'3.신용도'!G64+1)))","v":""},"-","-"]
[{"$nulls":8},{"$f":"IF(총괄표!$H$3-'3.신용도'!H65>365,\"\",IF(총괄표!$H$3-'3.신용도'!G65>365,'3.신용도'!H65-총괄표!$H$3+366,IF(총괄표!$H$3-'3.신용도'!G65<=365,'3.신용도'!H65-'3.신용도'!G65+1)))","v":""},"-","-"]
[{"$nulls":8},{"$f":"IF(총괄표!$H$3-'3.신용도'!H66>365,\"\",IF(총괄표!$H$3-'3.신용도'!G66>365,'3.신용도'!H66-총괄표!$H$3+366,IF(총괄표!$H$3-'3.신용도'!G66<=365,'3.신용도'!H66-'3.신용도'!G66+1)))","v":""},"-","-"]
[{"$nulls":8},{"$f":"IF(총괄표!$H$3-'3.신용도'!H67>365,\"\",IF(총괄표!$H$3-'3.신용도'!G67>365,'3.신용도'!H67-총괄표!$H$3+366,IF(총괄표!$H$3-'3.신용도'!G67<=365,'3.신용도'!H67-'3.신용도'!G67+1)))","v":""},"-","-"]
[]
[]
[]
["참여기술자 기술자격 및 업무정지, 부실벌점"]
[]
["구분","-","처분부과기관","처분사유",null,null,"기술자격 및 업무정지기간",null,"기간\n(일)","누계평균\n부실벌점","참여기술자\n부실점수"]
["총   계",null,"-","-",null,null,"시작일","종료일",{"$f":"SUM(I75:I89)","v":209},"-",{"$f":"SUM(K75:K89)","v":1}]
["참여기술자 \n기술자격 및 \n업무정지 처분현황","사업책임기술자 홍길동","00개발공사","0000건에 대한 업무소홀",null,null,"2011-10-10","2012-01-09",{"$f":"IF(총괄표!$H$3-'3.신용도'!H75>365,\"\",IF(총괄표!$H$3-'3.신용도'!G75>365,'3.신용도'!H75-총괄표!$H$3+366,IF(총괄표!$H$3-'3.신용도'!G75<=365,'3.신용도'!H75-'3.신용도'!G75+1)))","v":92},6,{"$f":"IF(J75>=20,5,IF(J75>=15,3,IF(J75>=10,2,IF(J75>=5,1,IF(J75>=2,0.5,IF(J75>=1,0.2,IF(J75<1,0)))))))","v":1}]
[null,"분야별 책임기술자 김길동(수자원)","00도시공사","0000건에 대한 업무소홀",null,null,"2011-01-30","2012-01-30",{"$f":"IF(총괄표!$H$3-'3.신용도'!H76>365,\"\",IF(총괄표!$H$3-'3.신용도'!G76>365,'3.신용도'!H76-총괄표!$H$3+366,IF(총괄표!$H$3-'3.신용도'!G76<=365,'3.신용도'!H76-'3.신용도'!G76+1)))","v":117},0,{"$f":"IF(J76>=20,5,IF(J76>=15,3,IF(J76>=10,2,IF(J76>=5,1,IF(J76>=2,0.5,IF(J76>=1,0.2,IF(J76<1,0)))))))","v":0}]
[{"$nulls":8},{"$f":"IF(총괄표!$H$3-'3.신용도'!H77>365,\"\",IF(총괄표!$H$3-'3.신용도'!G77>365,'3.신용도'!H77-총괄표!$H$3+366,IF(총괄표!$H$3-'3.신용도'!G77<=365,'3.신용도'!H77-'3.신용도'!G77+1)))","v":""},null,0]
[{"$nulls":8},{"$f":"IF(총괄표!$H$3-'3.신용도'!H78>365,\"\",IF(총괄표!$H$3-'3.신용도'!G78>365,'3.신용도'!H78-총괄표!$H$3+366,IF(총괄표!$H$3-'3.신용도'!G78<=365,'3.신용도'!H78-'3.신용도'!G78+1)))","v":""},null,0]
[{"$nulls":8},{"$f":"IF(총괄표!$H$3-'3.신용도'!H79>365,\"\",IF(총괄표!$H$3-'3.신용도'!G79>365,'3.신용도'!H79-총괄표!$H$3+366,IF(총괄표!$H$3-'3.신용도'!G79<=365,'3.신용도'!H79-'3.신용도'!G79+1)))","v":""},null,0]
[{"$nulls":8},{"$f":"IF(총괄표!$H$3-'3.신용도'!H80>365,\"\",IF(총괄표!$H$3-'3.신용도'!G80>365,'3.신용도'!H80-총괄표!$H$3+366,IF(총괄표!$H$3-'3.신용도'!G80<=365,'3.신용도'!H80-'3.신용도'!G80+1)))","v":""},null,0]
[{"$nulls":8},{"$f":"IF(총괄표!$H$3-'3.신용도'!H81>365,\"\",IF(총괄표!$H$3-'3.신용도'!G81>365,'3.신용도'!H81-총괄표!$H$3+366,IF(총괄표!$H$3-'3.신용도'!G81<=365,'3.신용도'!H81-'3.신용도'!G81+1)))","v":""},null,0]
[{"$nulls":8},{"$f":"IF(총괄표!$H$3-'3.신용도'!H82>365,\"\",IF(총괄표!$H$3-'3.신용도'!G82>365,'3.신용도'!H82-총괄표!$H$3+366,IF(총괄표!$H$3-'3.신용도'!G82<=365,'3.신용도'!H82-'3.신용도'!G82+1)))","v":""},null,0]
[{"$nulls":8},{"$f":"IF(총괄표!$H$3-'3.신용도'!H83>365,\"\",IF(총괄표!$H$3-'3.신용도'!G83>365,'3.신용도'!H83-총괄표!$H$3+366,IF(총괄표!$H$3-'3.신용도'!G83<=365,'3.신용도'!H83-'3.신용도'!G83+1)))","v":""},null,0]
[{"$nulls":8},{"$f":"IF(총괄표!$H$3-'3.신용도'!H84>365,\"\",IF(총괄표!$H$3-'3.신용도'!G84>365,'3.신용도'!H84-총괄표!$H$3+366,IF(총괄표!$H$3-'3.신용도'!G84<=365,'3.신용도'!H84-'3.신용도'!G84+1)))","v":""},null,0]
[{"$nulls":8},{"$f":"IF(총괄표!$H$3-'3.신용도'!H85>365,\"\",IF(총괄표!$H$3-'3.신용도'!G85>365,'3.신용도'!H85-총괄표!$H$3+366,IF(총괄표!$H$3-'3.신용도'!G85<=365,'3.신용도'!H85-'3.신용도'!G85+1)))","v":""},null,0]
[{"$nulls":8},{"$f":"IF(총괄표!$H$3-'3.신용도'!H86>365,\"\",IF(총괄표!$H$3-'3.신용도'!G86>365,'3.신용도'!H86-총괄표!$H$3+366,IF(총괄표!$H$3-'3.신용도'!G86<=365,'3.신용도'!H86-'3.신용도'!G86+1)))","v":""},null,0]
[{"$nulls":8},{"$f":"IF(총괄표!$H$3-'3.신용도'!H87>365,\"\",IF(총괄표!$H$3-'3.신용도'!G87>365,'3.신용도'!H87-총괄표!$H$3+366,IF(총괄표!$H$3-'3.신용도'!G87<=365,'3.신용도'!H87-'3.신용도'!G87+1)))","v":""},null,0]
[{"$nulls":8},{"$f":"IF(총괄표!$H$3-'3.신용도'!H88>365,\"\",IF(총괄표!$H$3-'3.신용도'!G88>365,'3.신용도'!H88-총괄표!$H$3+366,IF(총괄표!$H$3-'3.신용도'!G88<=365,'3.신용도'!H88-'3.신용도'!G88+1)))","v":""},null,0]
[{"$nulls":8},{"$f":"IF(총괄표!$H$3-'3.신용도'!H89>365,\"\",IF(총괄표!$H$3-'3.신용도'!G89>365,'3.신용도'!H89-총괄표!$H$3+366,IF(총괄표!$H$3-'3.신용도'!G89<=365,'3.신용도'!H89-'3.신용도'!G89+1)))","v":""},null,0]
{"$rows_empty":15}
[{"$nulls":6},"없음",null,"회사채 A-이상"]
[{"$nulls":6},1,null,"회사채 BBB-이상"]
[{"$nulls":6},2,null,"회사채 B-이상"]
[{"$nulls":6},3,null,"회사체 CCC+이하"]
[{"$nulls":6},4,null,"기업어음 A2-이상"]
[{"$nulls":6},5,null,"기업어음 A3+이상"]
[{"$nulls":6},6,null,"기업어음 B-이상"]
[{"$nulls":6},7,null,"기업어음 C이하"]
[{"$nulls":6},8,null,"기업신용 A-이상"]
[{"$nulls":6},9,null,"기업신용 BBB-이상"]
[{"$nulls":6},10,null,"기업신용 B-이상"]
[{"$nulls":6},11,null,"기업신용 CCC+이하"]
[{"$nulls":6},12,null,"미제출"]
[{"$nulls":6},13]
[{"$nulls":6},14]
[{"$nulls":6},15]
[{"$nulls":6},16]
[{"$nulls":6},17]
[{"$nulls":6},18]
[{"$nulls":6},19]
[{"$nulls":6},"20점이상"]

{"sheet":"4(1)기술개발및투자실적","index":7,"n_rows":98,"n_cols":10,"rows_kept":98,"cut":false,"hidden":false,"merged":[[2,0,2,1],[4,2,5,2],[48,1,49,1],[6,0,6,1],[18,0,18,1],[32,0,33,0],[32,1,33,1],[32,2,33,2],[50,0,50,1],[48,6,48,9],[16,0,17,0],[48,5,49,5],[16,2,17,2],[16,6,16,9],[48,2,49,2],[32,5,33,5],[32,6,32,9],[48,0,49,0],[82,0,82,1],[64,3,65,3],[64,4,65,4],[64,5,65,5],[64,6,64,9],[66,0,66,1],[64,0,65,0],[64,1,65,1],[64,2,65,2],[80,0,81,0],[80,1,81,1],[80,2,81,2],[0,0,0,9],[4,3,4,5],[80,3,81,3],[80,4,81,4],[80,5,81,5],[80,6,80,9],[48,4,49,4],[48,3,49,3],[32,3,33,3],[32,4,33,4],[34,0,34,1],[16,5,17,5],[16,4,17,4],[16,3,17,3],[16,1,17,1],[4,0,5,1]]}
["4-1. 기술개발"]
[]
["기술개발 총계"]
[]
["신용도",null,"지분율","개발실적점수"]
[null,null,null,"배점","자기평가","확인"]
["총   계",null,"-",2,{"$f":"ROUND($C8*E8+$C9*E9+$C10*E10+$C$11*E11+$C$12*E12,2)","v":0.8},{"$f":"ROUND($C8*F8+$C9*F9+$C10*F10+$C$11*F11+$C$12*F12,2)","v":0}]
[{"$f":"A15","v":"대 표 사"},{"$f":"참여업체현황!$B$5","v":"A사"},{"$f":"참여업체현황!$C$5","v":0.5},2,{"$f":"IF(I19>=2,2,IF(I19<2,I19))","v":1.6},{"$f":"IF(J19>=2,2,IF(J19<2,J19))","v":0}]
[{"$f":"참여업체현황!A7","v":"공동"},{"$f":"참여업체현황!$B$7","v":"B사"},{"$f":"참여업체현황!$C$7","v":0.3},2,{"$f":"IF(I35>=2,2,IF(I35<2,I35))","v":0},{"$f":"IF(J35>=2,2,IF(J35<2,J35))","v":0}]
[{"$f":"참여업체현황!A9","v":"공동"},{"$f":"참여업체현황!$B$9","v":"C사"},{"$f":"참여업체현황!$C$9","v":0.2},2,{"$f":"IF(I51>=2,2,IF(I51<2,I51))","v":0},{"$f":"IF(J51>=2,2,IF(J51<2,J51))","v":0}]
[{"$f":"참여업체현황!A11","v":"공동"},{"$f":"참여업체현황!$B$11","v":"D사"},{"$f":"참여업체현황!$C$11","v":0},2,{"$f":"IF(I67>=2,2,IF(I67<2,I67))","v":0},{"$f":"IF(J67>=2,2,IF(J67<2,J67))","v":0}]
[{"$f":"참여업체현황!A13","v":"공동"},{"$f":"참여업체현황!$B$13","v":"E사"},{"$f":"참여업체현황!$C$13","v":0},2,{"$f":"IF(I83>=2,2,IF(I83<2,I83))","v":0},{"$f":"IF(J83>=2,2,IF(J83<2,J83))","v":0}]
[]
[]
["대 표 사",{"$f":"참여업체현황!B5","v":"A사"},null,"환산지분율",null,{"$f":"참여업체현황!$C$5","v":0.5}]
[]
["구분","제목","등록청","지정번호","출원일","경과기간\n(년)","개발실적"]
[{"$nulls":6},"가중치","배점","자기평가","확인"]
["총   계",null,"-","-","-","-","-",2,{"$f":"ROUND(SUM(I20:I28),2)","v":1.6},{"$f":"ROUND(SUM(J20:J28),2)","v":0}]
["건설기술에 관한 특허","00특허","00청","00-000-000","2001-01-02",{"$f":"IF(E20=\"\",\"\",(총괄표!$H$3-E20+1)/365)","v":11.767123287671232},{"$f":"IF(F20=\"\",\"\",IF(H20=\"1.0\",\"100%\",IF(F20<5,\"100%\",IF(F20<10,\"80%\",IF(AND(F20<20,A20=\"건설기술에 관한 특허\"),\"60%\",IF(F20>=10,\"0%\"))))))","v":"60%"},{"$f":"IF(A20=\"\",\"\",IF(A20=\"건설신기술\",\"1.0\",IF(A20=\"건설기술에 관한 특허\",\"0.6\",IF(A20=\"건설기술에 관한 실용신안\",\"0.3\"))))","v":"0.6"},{"$f":"IF(H20=\"\",\"\",ROUND(G20*H20,2))","v":0.36}]
["건설신기술","000신기술","00청","0000-0000-000","2005-05-12",{"$f":"IF(E21=\"\",\"\",(총괄표!$H$3-E21+1)/365)","v":7.4082191780821915},{"$f":"IF(F21=\"\",\"\",IF(H21=\"1.0\",\"100%\",IF(F21<5,\"100%\",IF(F21<10,\"80%\",IF(F21<20,\"60%\",IF(F21>=20,\"0%\"))))))","v":"100%"},{"$f":"IF(A21=\"\",\"\",IF(A21=\"건설신기술\",\"1.0\",IF(A21=\"건설기술에 관한 특허\",\"0.6\",IF(A21=\"건설기술에 관한 실용신안\",\"0.3\"))))","v":"1.0"},{"$f":"IF(H21=\"\",\"\",ROUND(G21*H21,2))","v":1}]
["건설기술에 관한 실용신안","00 실용신안","00청","0000-0000-000","2006-12-12",{"$f":"IF(E22=\"\",\"\",(총괄표!$H$3-E22+1)/365)","v":5.8219178082191778},{"$f":"IF(F22=\"\",\"\",IF(H22=\"1.0\",\"100%\",IF(F22<5,\"100%\",IF(F22<10,\"80%\",IF(F22<20,\"60%\",IF(F22>=20,\"0%\"))))))","v":"80%"},"0.3",0.24]
[{"$nulls":5},{"$f":"IF(E23=\"\",\"\",(총괄표!$H$3-E23+1)/365)","v":""},"","",""]
[{"$nulls":5},{"$f":"IF(E24=\"\",\"\",(총괄표!$H$3-E24+1)/365)","v":""},"","",""]
[{"$nulls":5},{"$f":"IF(E25=\"\",\"\",(총괄표!$H$3-E25+1)/365)","v":""},"","",""]
[{"$nulls":5},{"$f":"IF(E26=\"\",\"\",(총괄표!$H$3-E26+1)/365)","v":""},"","",""]
[{"$nulls":5},{"$f":"IF(E27=\"\",\"\",(총괄표!$H$3-E27+1)/365)","v":""},"","",""]
[{"$nulls":5},{"$f":"IF(E28=\"\",\"\",(총괄표!$H$3-E28+1)/365)","v":""},"","",""]
[]
[]
["공동도급사",{"$f":"참여업체현황!B7","v":"B사"},null,"환산지분율",null,{"$f":"참여업체현황!$C$7","v":0.3}]
[]
["구분","제목","등록청","지정번호","출원일","경과기간\n(년)","개발실적"]
[{"$nulls":6},"가중치","배점","자기평가","확인"]
["총   계",null,"-","-","-","-","-",2,{"$f":"ROUND(SUM(I36:I44),2)","v":0},{"$f":"ROUND(SUM(J36:J44),2)","v":0}]
[{"$nulls":5},{"$f":"IF(E36=\"\",\"\",(총괄표!$H$3-E36+1)/365)","v":""},{"$f":"IF(F36=\"\",\"\",IF(H36=\"1.0\",\"100%\",IF(F36<5,\"100%\",IF(F36<10,\"80%\",IF(AND(F36<20,A36=\"건설기술에 관한 특허\"),\"60%\",IF(F36>=10,\"0%\"))))))","v":""},{"$f":"IF(A36=\"\",\"\",IF(A36=\"건설신기술\",\"1.0\",IF(A36=\"건설기술에 관한 특허\",\"0.6\",IF(A36=\"건설기술에 관한 실용신안\",\"0.3\"))))","v":""},{"$f":"IF(H36=\"\",\"\",ROUND(G36*H36,2))","v":""}]
[{"$nulls":5},{"$f":"IF(E37=\"\",\"\",(총괄표!$H$3-E37+1)/365)","v":""},{"$f":"IF(F37=\"\",\"\",IF(H37=\"1.0\",\"100%\",IF(F37<5,\"100%\",IF(F37<10,\"80%\",IF(F37<20,\"60%\",IF(F37>=20,\"0%\"))))))","v":""},{"$f":"IF(A37=\"\",\"\",IF(A37=\"건설신기술\",\"1.0\",IF(A37=\"건설기술에 관한 특허\",\"0.6\",IF(A37=\"건설기술에 관한 실용신안\",\"0.3\"))))","v":""},{"$f":"IF(H37=\"\",\"\",ROUND(G37*H37,2))","v":""}]
[{"$nulls":5},{"$f":"IF(E38=\"\",\"\",(총괄표!$H$3-E38+1)/365)","v":""},{"$f":"IF(F38=\"\",\"\",IF(H38=\"1.0\",\"100%\",IF(F38<5,\"100%\",IF(F38<10,\"80%\",IF(F38<20,\"60%\",IF(F38>=20,\"0%\"))))))","v":""},"",""]
[{"$nulls":5},{"$f":"IF(E39=\"\",\"\",(총괄표!$H$3-E39+1)/365)","v":""},"","",""]
[{"$nulls":5},{"$f":"IF(E40=\"\",\"\",(총괄표!$H$3-E40+1)/365)","v":""},"","",""]
[{"$nulls":5},{"$f":"IF(E41=\"\",\"\",(총괄표!$H$3-E41+1)/365)","v":""},"","",""]
[{"$nulls":5},{"$f":"IF(E42=\"\",\"\",(총괄표!$H$3-E42+1)/365)","v":""},"","",""]
[{"$nulls":5},{"$f":"IF(E43=\"\",\"\",(총괄표!$H$3-E43+1)/365)","v":""},"","",""]
[{"$nulls":5},{"$f":"IF(E44=\"\",\"\",(총괄표!$H$3-E44+1)/365)","v":""},"","",""]
[]
[]
["공동도급사",{"$f":"참여업체현황!B9","v":"C사"},null,"환산지분율",null,{"$f":"참여업체현황!$C$9","v":0.2}]
[]
["구분","제목","등록청","지정번호","출원일","경과기간\n(년)","개발실적"]
[{"$nulls":6},"가중치","배점","자기평가","확인"]
["총   계",null,"-","-","-","-","-",2,{"$f":"ROUND(SUM(I52:I60),2)","v":0},{"$f":"ROUND(SUM(J52:J60),2)","v":0}]
[{"$nulls":5},{"$f":"IF(E52=\"\",\"\",(총괄표!$H$3-E52+1)/365)","v":""},{"$f":"IF(F52=\"\",\"\",IF(H52=\"1.0\",\"100%\",IF(F52<5,\"100%\",IF(F52<10,\"80%\",IF(AND(F52<20,A52=\"건설기술에 관한 특허\"),\"60%\",IF(F52>=10,\"0%\"))))))","v":""},{"$f":"IF(A52=\"\",\"\",IF(A52=\"건설신기술\",\"1.0\",IF(A52=\"건설기술에 관한 특허\",\"0.6\",IF(A52=\"건설기술에 관한 실용신안\",\"0.3\"))))","v":""},{"$f":"IF(H52=\"\",\"\",ROUND(G52*H52,2))","v":""}]
[{"$nulls":5},{"$f":"IF(E53=\"\",\"\",(총괄표!$H$3-E53+1)/365)","v":""},{"$f":"IF(F53=\"\",\"\",IF(H53=\"1.0\",\"100%\",IF(F53<5,\"100%\",IF(F53<10,\"80%\",IF(F53<20,\"60%\",IF(F53>=20,\"0%\"))))))","v":""},{"$f":"IF(A53=\"\",\"\",IF(A53=\"건설신기술\",\"1.0\",IF(A53=\"건설기술에 관한 특허\",\"0.6\",IF(A53=\"건설기술에 관한 실용신안\",\"0.3\"))))","v":""},{"$f":"IF(H53=\"\",\"\",ROUND(G53*H53,2))","v":""}]
[{"$nulls":5},{"$f":"IF(E54=\"\",\"\",(총괄표!$H$3-E54+1)/365)","v":""},{"$f":"IF(F54=\"\",\"\",IF(H54=\"1.0\",\"100%\",IF(F54<5,\"100%\",IF(F54<10,\"80%\",IF(F54<20,\"60%\",IF(F54>=20,\"0%\"))))))","v":""},"",""]
[{"$nulls":5},{"$f":"IF(E55=\"\",\"\",(총괄표!$H$3-E55+1)/365)","v":""},"","",""]
[{"$nulls":5},{"$f":"IF(E56=\"\",\"\",(총괄표!$H$3-E56+1)/365)","v":""},"","",""]
[{"$nulls":5},{"$f":"IF(E57=\"\",\"\",(총괄표!$H$3-E57+1)/365)","v":""},"","",""]
[{"$nulls":5},{"$f":"IF(E58=\"\",\"\",(총괄표!$H$3-E58+1)/365)","v":""},"","",""]
[{"$nulls":5},{"$f":"IF(E59=\"\",\"\",(총괄표!$H$3-E59+1)/365)","v":""},"","",""]
[{"$nulls":5},{"$f":"IF(E60=\"\",\"\",(총괄표!$H$3-E60+1)/365)","v":""},"","",""]
[]
[]
["공동도급사",{"$f":"참여업체현황!B11","v":"D사"},null,"환산지분율",null,{"$f":"참여업체현황!$C$11","v":0}]
[]
["구분","제목","등록청","지정번호","출원일","경과기간\n(년)","개발실적"]
[{"$nulls":6},"가중치","배점",{"$f":"ROUND(SUM(I67:I75),2)","v":0},"확인"]
["총   계",null,"-","-","-","-","-",2,{"$f":"ROUND(SUM(I68:I76),2)","v":0},{"$f":"ROUND(SUM(J68:J76),2)","v":0}]
[{"$nulls":5},{"$f":"IF(E68=\"\",\"\",(총괄표!$H$3-E68+1)/365)","v":""},{"$f":"IF(F68=\"\",\"\",IF(H68=\"1.0\",\"100%\",IF(F68<5,\"100%\",IF(F68<10,\"80%\",IF(AND(F68<20,A68=\"건설기술에 관한 특허\"),\"60%\",IF(F68>=10,\"0%\"))))))","v":""},{"$f":"IF(A68=\"\",\"\",IF(A68=\"건설신기술\",\"1.0\",IF(A68=\"건설기술에 관한 특허\",\"0.6\",IF(A68=\"건설기술에 관한 실용신안\",\"0.3\"))))","v":""},{"$f":"IF(H68=\"\",\"\",ROUND(G68*H68,2))","v":""}]
[{"$nulls":5},{"$f":"IF(E69=\"\",\"\",(총괄표!$H$3-E69+1)/365)","v":""},{"$f":"IF(F69=\"\",\"\",IF(H69=\"1.0\",\"100%\",IF(F69<5,\"100%\",IF(F69<10,\"80%\",IF(F69<20,\"60%\",IF(F69>=20,\"0%\"))))))","v":""},{"$f":"IF(A69=\"\",\"\",IF(A69=\"건설신기술\",\"1.0\",IF(A69=\"건설기술에 관한 특허\",\"0.6\",IF(A69=\"건설기술에 관한 실용신안\",\"0.3\"))))","v":""},{"$f":"IF(H69=\"\",\"\",ROUND(G69*H69,2))","v":""}]
[{"$nulls":5},{"$f":"IF(E70=\"\",\"\",(총괄표!$H$3-E70+1)/365)","v":""},{"$f":"IF(F70=\"\",\"\",IF(H70=\"1.0\",\"100%\",IF(F70<5,\"100%\",IF(F70<10,\"80%\",IF(F70<20,\"60%\",IF(F70>=20,\"0%\"))))))","v":""},"",""]
[{"$nulls":5},{"$f":"IF(E71=\"\",\"\",(총괄표!$H$3-E71+1)/365)","v":""},"","",""]
[{"$nulls":5},{"$f":"IF(E72=\"\",\"\",(총괄표!$H$3-E72+1)/365)","v":""},"","",""]
[{"$nulls":5},{"$f":"IF(E73=\"\",\"\",(총괄표!$H$3-E73+1)/365)","v":""},"","",""]
[{"$nulls":5},{"$f":"IF(E74=\"\",\"\",(총괄표!$H$3-E74+1)/365)","v":""},"","",""]
[{"$nulls":5},{"$f":"IF(E75=\"\",\"\",(총괄표!$H$3-E75+1)/365)","v":""},"","",""]
[{"$nulls":5},{"$f":"IF(E76=\"\",\"\",(총괄표!$H$3-E76+1)/365)","v":""},"","",""]
[]
[]
["공동도급사",{"$f":"참여업체현황!B13","v":"E사"},null,"환산지분율",null,{"$f":"참여업체현황!$C$13","v":0}]
[]
["구분","제목","등록청","지정번호","출원일","경과기간\n(년)","개발실적"]
[{"$nulls":6},"가중치","배점",{"$f":"ROUND(SUM(I83:I91),2)","v":0},"확인"]
["총   계",null,"-","-","-","-","-",2,{"$f":"ROUND(SUM(I84:I92),2)","v":0},{"$f":"ROUND(SUM(J84:J92),2)","v":0}]
[{"$nulls":5},{"$f":"IF(E84=\"\",\"\",(총괄표!$H$3-E84+1)/365)","v":""},{"$f":"IF(F84=\"\",\"\",IF(H84=\"1.0\",\"100%\",IF(F84<5,\"100%\",IF(F84<10,\"80%\",IF(AND(F84<20,A84=\"건설기술에 관한 특허\"),\"60%\",IF(F84>=10,\"0%\"))))))","v":""},{"$f":"IF(A84=\"\",\"\",IF(A84=\"건설신기술\",\"1.0\",IF(A84=\"건설기술에 관한 특허\",\"0.6\",IF(A84=\"건설기술에 관한 실용신안\",\"0.3\"))))","v":""},{"$f":"IF(H84=\"\",\"\",ROUND(G84*H84,2))","v":""}]
[{"$nulls":5},{"$f":"IF(E85=\"\",\"\",(총괄표!$H$3-E85+1)/365)","v":""},{"$f":"IF(F85=\"\",\"\",IF(H85=\"1.0\",\"100%\",IF(F85<5,\"100%\",IF(F85<10,\"80%\",IF(F85<20,\"60%\",IF(F85>=20,\"0%\"))))))","v":""},{"$f":"IF(A85=\"\",\"\",IF(A85=\"건설신기술\",\"1.0\",IF(A85=\"건설기술에 관한 특허\",\"0.6\",IF(A85=\"건설기술에 관한 실용신안\",\"0.3\"))))","v":""},{"$f":"IF(H85=\"\",\"\",ROUND(G85*H85,2))","v":""}]
[{"$nulls":5},{"$f":"IF(E86=\"\",\"\",(총괄표!$H$3-E86+1)/365)","v":""},{"$f":"IF(F86=\"\",\"\",IF(H86=\"1.0\",\"100%\",IF(F86<5,\"100%\",IF(F86<10,\"80%\",IF(F86<20,\"60%\",IF(F86>=20,\"0%\"))))))","v":""},"",""]
[{"$nulls":5},{"$f":"IF(E87=\"\",\"\",(총괄표!$H$3-E87+1)/365)","v":""},"","",""]
[{"$nulls":5},{"$f":"IF(E88=\"\",\"\",(총괄표!$H$3-E88+1)/365)","v":""},"","",""]
[{"$nulls":5},{"$f":"IF(E89=\"\",\"\",(총괄표!$H$3-E89+1)/365)","v":""},"","",""]
[{"$nulls":5},{"$f":"IF(E90=\"\",\"\",(총괄표!$H$3-E90+1)/365)","v":""},"","",""]
[{"$nulls":5},{"$f":"IF(E91=\"\",\"\",(총괄표!$H$3-E91+1)/365)","v":""},"","",""]
[{"$nulls":5},{"$f":"IF(E92=\"\",\"\",(총괄표!$H$3-E92+1)/365)","v":""},"","",""]
[]
[]
[]
[null,"건설신기술"]
[null,"건설기술에 관한 특허"]
[null,"건설기술에 관한 실용신안"]

{"sheet":"4.(2)투자실적","index":8,"n_rows":12,"n_cols":14,"rows_kept":12,"cut":false,"hidden":false,"merged":[[4,8,5,8],[4,9,4,10],[0,0,0,10],[2,0,2,1],[4,0,5,0],[4,1,5,1],[4,2,4,3],[4,4,4,5],[4,6,4,7]]}
["4-2. 투자실적"]
[]
["투자실적 총계"]
[{"$nulls":10},"(단위 : 원)"]
["업체명","지분율","1년차",null,"2년차",null,"3년차",null,"투자실적","투자실적"]
[null,null,"건설기술개발투자액","건설부문총매출액","건설기술개발투자액","건설부문총매출액","건설기술개발투자액","건설부문총매출액",null,"자기평가","확인"]
["총   계","-","-","-","-","-","-","-",{"$f":"ROUND($B8*N8+$B9*N9+$B10*N10+$B$11*N11+$B$12*N12,4)","v":3.73E-2},{"$f":"IF(I7>=3%,10,IF(I7>=2.5%,9,IF(I7>=2%,8,IF(I7>=1.5%,7,IF(I7>=1%,6,IF(I7<1%,0))))))","v":10}]
[{"$f":"참여업체현황!$B$5","v":"A사"},{"$f":"참여업체현황!$C$5","v":0.5},4323456789,60012345678,231456789,51265497445,456123789,7894561320,{"$f":"IF(C8=\"\",\"\",ROUND((ROUND(C8/D8,4)+ROUND(E8/F8,4)+ROUND(G8/H8,4))/3,4))","v":4.48E-2},"-","-",null,null,{"$f":"IF(C8=\"\",\"0\",ROUND((ROUND(C8/D8,4)+ROUND(E8/F8,4)+ROUND(G8/H8,4))/3,4))","v":4.48E-2}]
[{"$f":"참여업체현황!$B$7","v":"B사"},{"$f":"참여업체현황!$C$7","v":0.3},1000000000,50000000000,2000000000,60000000000,1000000000,50000000000,{"$f":"IF(C9=\"\",\"\",ROUND((ROUND(C9/D9,4)+ROUND(E9/F9,4)+ROUND(G9/H9,4))/3,4))","v":2.4400000000000002E-2},"-","-",null,null,{"$f":"IF(C9=\"\",\"0\",ROUND((ROUND(C9/D9,4)+ROUND(E9/F9,4)+ROUND(G9/H9,4))/3,4))","v":2.4400000000000002E-2}]
[{"$f":"참여업체현황!$B$9","v":"C사"},{"$f":"참여업체현황!$C$9","v":0.2},3000000000,50000000000,2000000000,60000000000,1000000000,50000000000,3.78E-2,"-","-",null,null,3.78E-2]
[{"$f":"참여업체현황!$B$11","v":"D사"},{"$f":"참여업체현황!$C$11","v":0},{"$nulls":6},"","-","-",null,null,"0"]
[{"$f":"참여업체현황!$B$13","v":"E사"},{"$f":"참여업체현황!$C$13","v":0},{"$nulls":6},"","-","-",null,null,"0"]

{"sheet":"4(3)활용실적","index":9,"n_rows":207,"n_cols":21,"rows_kept":207,"cut":false,"hidden":false,"merged":[[20,18,25,18],[26,18,31,18],[32,18,37,18],[38,18,43,18],[44,18,49,18],[20,19,25,19],[26,19,31,19],[32,19,37,19],[38,19,43,19],[44,19,49,19],[38,10,43,10],[38,13,43,13],[38,14,43,14],[38,15,43,15],[44,0,49,0],[44,1,49,1],[44,2,49,2],[44,3,49,3],[44,4,49,4],[44,8,49,8],[44,9,49,9],[44,10,49,10],[44,13,49,13],[44,14,49,14],[44,15,49,15],[38,2,43,2],[38,3,43,3],[38,4,43,4],[38,8,43,8],[38,9,43,9],[26,10,31,10],[26,13,31,13],[26,14,31,14],[26,15,31,15],[32,0,37,0],[32,1,37,1],[32,2,37,2],[32,3,37,3],[32,4,37,4],[32,8,37,8],[32,9,37,9],[32,10,37,10],[32,13,37,13],[32,14,37,14],[32,15,37,15],[26,2,31,2],[26,3,31,3],[26,4,31,4],[26,8,31,8],[26,9,31,9],[6,0,6,1],[17,7,18,7],[17,8,17,10],[17,17,18,17],[17,0,18,0],[17,1,18,1],[17,2,18,2],[17,3,18,3],[0,0,0,10],[2,0,2,1],[4,0,5,1],[17,5,18,5],[17,6,18,6],[4,2,5,2],[4,3,4,5],[192,0,197,0],[192,1,197,1],[192,2,197,2],[192,3,197,3],[192,4,197,4],[93,0,93,1],[94,0,99,0],[20,1,25,1],[19,0,19,1],[20,0,25,0],[26,0,31,0],[26,1,31,1],[38,0,43,0],[38,1,43,1],[94,1,99,1],[106,0,111,0],[106,1,111,1],[75,0,80,0],[75,1,80,1],[91,0,92,0],[91,1,92,1],[128,0,129,0],[128,1,129,1],[131,0,136,0],[20,2,25,2],[20,3,25,3],[180,0,185,0],[180,1,185,1],[180,2,185,2],[180,3,185,3],[180,4,185,4],[131,1,136,1],[143,0,148,0],[143,1,148,1],[155,0,160,0],[155,1,160,1],[106,2,111,2],[106,3,111,3],[106,4,111,4],[112,2,117,2],[112,3,117,3],[149,0,154,0],[149,1,154,1],[149,2,154,2],[149,3,154,3],[149,4,154,4],[143,3,148,3],[143,4,148,4],[20,8,25,8],[20,9,25,9],[20,10,25,10],[20,13,25,13],[20,14,25,14],[20,15,25,15],[17,4,18,4],[20,4,25,4],[165,0,166,0],[165,1,166,1],[165,2,166,2],[165,3,166,3],[165,4,166,4],[165,5,166,5],[165,6,166,6],[165,7,166,7],[165,8,165,10],[57,13,62,13],[57,14,62,14],[57,15,62,15],[69,0,74,0],[69,1,74,1],[69,2,74,2],[69,3,74,3],[165,17,166,17],[167,0,167,1],[168,0,173,0],[168,1,173,1],[168,2,173,2],[168,3,173,3],[168,4,173,4],[168,8,173,8],[168,9,173,9],[168,10,173,10],[168,13,173,13],[168,14,173,14],[168,15,173,15],[168,18,173,18],[168,19,173,19],[174,0,179,0],[174,1,179,1],[174,2,179,2],[174,3,179,3],[174,4,179,4],[174,8,179,8],[174,9,179,9],[174,10,179,10],[174,13,179,13],[174,14,179,14],[174,15,179,15],[174,18,179,18],[174,19,179,19],[186,0,191,0],[186,1,191,1],[186,2,191,2],[186,3,191,3],[186,4,191,4],[186,8,191,8],[186,9,191,9],[186,10,191,10],[186,13,191,13],[192,18,197,18],[192,19,197,19],[180,8,185,8],[180,9,185,9],[180,10,185,10],[180,13,185,13],[180,14,185,14],[180,15,185,15],[180,18,185,18],[180,19,185,19],[186,14,191,14],[186,15,191,15],[186,18,191,18],[186,19,191,19],[192,8,197,8],[192,9,197,9],[192,10,197,10],[192,13,197,13],[192,14,197,14],[192,15,197,15],[118,13,123,13],[118,14,123,14],[118,15,123,15],[128,8,128,10],[106,15,111,15],[94,3,99,3],[94,4,99,4],[94,8,99,8],[94,9,99,9],[94,10,99,10],[94,13,99,13],[94,14,99,14],[94,15,99,15],[57,18,62,18],[94,18,99,18],[100,18,105,18],[54,17,55,17],[56,0,56,1],[57,0,62,0],[57,1,62,1],[57,2,62,2],[57,3,62,3],[57,4,62,4],[75,8,80,8],[75,9,80,9],[75,10,80,10],[75,13,80,13],[54,0,55,0],[54,1,55,1],[54,2,55,2],[54,3,55,3],[54,4,55,4],[54,5,55,5],[94,2,99,2],[100,0,105,0],[100,1,105,1],[100,2,105,2],[54,6,55,6],[54,7,55,7],[54,8,54,10],[69,4,74,4],[69,8,74,8],[69,9,74,9],[57,8,62,8],[57,19,62,19],[63,0,68,0],[63,1,68,1],[63,2,68,2],[63,3,68,3],[63,4,68,4],[63,8,68,8],[63,9,68,9],[63,10,68,10],[63,13,68,13],[63,14,68,14],[63,15,68,15],[63,18,68,18],[63,19,68,19],[57,9,62,9],[57,10,62,10],[69,10,74,10],[69,18,74,18],[69,19,74,19],[75,18,80,18],[75,19,80,19],[81,14,86,14],[81,15,86,15],[81,18,86,18],[81,19,86,19],[75,2,80,2],[75,3,80,3],[75,4,80,4],[75,14,80,14],[75,15,80,15],[69,13,74,13],[69,14,74,14],[69,15,74,15],[118,18,123,18],[118,19,123,19],[106,19,111,19],[94,19,99,19],[100,14,105,14],[100,15,105,15],[106,18,111,18],[106,8,111,8],[106,9,111,9],[100,19,105,19],[112,18,117,18],[112,19,117,19],[100,8,105,8],[100,9,105,9],[100,10,105,10],[100,13,105,13],[112,8,117,8],[112,9,117,9],[112,10,117,10],[112,13,117,13],[112,14,117,14],[112,15,117,15],[106,10,111,10],[106,13,111,13],[81,0,86,0],[81,1,86,1],[81,2,86,2],[81,3,86,3],[81,4,86,4],[81,8,86,8],[81,9,86,9],[81,10,86,10],[81,13,86,13],[130,0,130,1],[91,2,92,2],[91,3,92,3],[91,4,92,4],[91,5,92,5],[91,6,92,6],[91,7,92,7],[91,8,91,10],[91,17,92,17],[118,0,123,0],[118,1,123,1],[118,2,123,2],[118,3,123,3],[118,4,123,4],[118,8,123,8],[118,9,123,9],[118,10,123,10],[128,2,129,2],[112,1,117,1],[100,3,105,3],[100,4,105,4],[112,0,117,0],[112,4,117,4],[106,14,111,14],[137,0,142,0],[137,1,142,1],[137,2,142,2],[137,3,142,3],[137,4,142,4],[137,8,142,8],[137,9,142,9],[137,10,142,10],[137,13,142,13],[155,2,160,2],[155,3,160,3],[155,4,160,4],[155,8,160,8],[155,9,160,9],[155,10,160,10],[155,13,160,13],[155,14,160,14],[149,14,154,14],[149,8,154,8],[149,9,154,9],[149,10,154,10],[149,13,154,13],[143,2,148,2],[143,10,148,10],[143,13,148,13],[143,14,148,14],[137,14,142,14],[131,2,136,2],[131,3,136,3],[131,4,136,4],[131,8,136,8],[131,9,136,9],[131,10,136,10],[131,13,136,13],[131,14,136,14],[143,8,148,8],[143,9,148,9],[131,18,136,18],[131,19,136,19],[137,15,142,15],[137,18,142,18],[137,19,142,19],[131,15,136,15],[128,3,129,3],[128,4,129,4],[155,18,160,18],[155,19,160,19],[155,15,160,15],[143,18,148,18],[143,19,148,19],[149,15,154,15],[149,18,154,18],[149,19,154,19],[143,15,148,15],[128,17,129,17],[128,5,129,5],[128,6,129,6],[128,7,129,7]]}
["4-3. 활용실적"]
[]
["활용실적 총계"]
[]
["활용실적",null,"지분율","활용실적점수"]
[null,null,null,"배점","자기평가","확인"]
["총   계",null,"-",3,{"$f":"ROUND($C8*E8+$C9*E9+$C10*E10+$C$11*E11+$C$12*E12,2)","v":2.2400000000000002},{"$f":"ROUND($C8*F8+$C9*F9+$C10*F10+$C$11*F11+$C$12*F12,2)","v":0}]
[{"$f":"A16","v":"대 표 사"},{"$f":"B16","v":"A사"},{"$f":"참여업체현황!C5","v":0.5},3,{"$f":"J20","v":2.8}]
[{"$f":"참여업체현황!A7","v":"공동"},{"$f":"참여업체현황!B7","v":"B사"},{"$f":"참여업체현황!C7","v":0.3},3,{"$f":"J57","v":1.68}]
[{"$f":"참여업체현황!A9","v":"공동"},{"$f":"참여업체현황!B9","v":"C사"},{"$f":"참여업체현황!C9","v":0.2},3,{"$f":"J94","v":1.68}]
[{"$f":"참여업체현황!A11","v":"공동"},{"$f":"참여업체현황!B11","v":"D사"},{"$f":"참여업체현황!C11","v":0},3,{"$f":"J131","v":0}]
[{"$f":"참여업체현황!A13","v":"공동"},{"$f":"참여업체현황!B13","v":"E사"},{"$f":"참여업체현황!C13","v":0},3,{"$f":"J168","v":0}]
[]
[]
[]
["대 표 사",{"$f":"참여업체현황!B5","v":"A사"},null,"환산지분율",{"$f":"참여업체현황!C5","v":0.5}]
[]
["구분","권리내용\n(지정번호)","활용건수","활용금액\n(억)","만료일자","공사명","활용년도","건별활용금액\n(백만원)","개발실적"]
[{"$nulls":8},"배점","자기평가","확인"]
["총   계",null,"-","-","-","-","-","-",3,{"$f":"IF(ROUND(SUM(J21:J50),2)>=3,3,ROUND(SUM(J21:J50),2))","v":2.8},{"$f":"SUM(K21:K50)","v":0},null,null,"건수","금액","건수/금액비교",null,"기간도과여부","활용건수","금액"]
["건설신기술","00성방수제와 00을 이용한 콘크리트00의 00성향상기술\n(332)",5,{"$f":"IF(T21=0,\"\",IF(T21>0,T21/100))","v":16},"2008-12-02","00건설공사","2001-02-12",300,{"$f":"IF(A21=\"\",\"\",IF(A21=\"건설신기술\",1,IF(A21=\"건설기술에 관한 특허\",0.6,IF(A21=\"건설기술에 관한 실용신안\",0.3))))","v":1},{"$f":"IF(P21=\"\",\"\",I21*P21)","v":1},null,null,{"$f":"IF(F21=\"\",0,1)*R21","v":1},{"$f":"IF(C21=\"\",\"\",IF(C21>=5,1,IF(C21>=4,0.9,IF(C21>=3,0.8,IF(C21>=2,0.7,IF(C21>=1,0.6,IF(C21<1,0)))))))","v":1},{"$f":"IF(D21=\"\",\"\",IF(D21>=20,1,IF(D21>=18,0.9,IF(D21>=16,0.8,IF(D21>=14,0.7,IF(D21>=12,0.6,IF(D21<12,0)))))))","v":0.8},{"$f":"IF(N21>O21,N21,IF(N21<=O21,O21))","v":1},null,{"$f":"IF(G21=\"\",0,IF(U21=\"\",0,IF(U21-G21>=1,1,IF(U21-G21>0,0))))","v":1},{"$f":"SUM(M21:M26)","v":4},{"$f":"SUM(H21:H26)","v":1600},{"$f":"E21","v":"2008-12-02"}]
[{"$nulls":5},"00공사","2007-12-11",500,{"$nulls":4},1,{"$nulls":4},{"$f":"IF(G22=\"\",0,IF(U22=\"\",0,IF(U22-G22>=1,1,IF(U22-G22>0,0))))","v":1},null,null,{"$f":"E21","v":"2008-12-02"}]
[{"$nulls":5},"0000공사","2008-02-04",600,{"$nulls":4},1,{"$nulls":4},1,null,null,{"$f":"E21","v":"2008-12-02"}]
[{"$nulls":5},"0000공사","2002-12-01",200,{"$nulls":4},1,{"$nulls":4},1,null,null,{"$f":"E21","v":"2008-12-02"}]
[{"$nulls":12},0,{"$nulls":4},0,null,null,{"$f":"E21","v":"2008-12-02"}]
[{"$nulls":12},0,{"$nulls":4},0,null,null,{"$f":"E21","v":"2008-12-02"}]
["건설기술에 관한 특허","0000000과000000에  대한 000기술\n(000)",5,{"$f":"IF(T27=0,\"\",IF(T27>0,T27/100))","v":16},"2003-12-12","00공사","2007-12-11",500,{"$f":"IF(A27=\"\",\"\",IF(A27=\"건설신기술\",1,IF(A27=\"건설기술에 관한 특허\",0.6,IF(A27=\"건설기술에 관한 실용신안\",0.3))))","v":0.6},{"$f":"IF(P27=\"\",\"\",I27*P27)","v":0.6},null,null,0,{"$f":"IF(C27=\"\",\"\",IF(C27>=5,1,IF(C27>=4,0.9,IF(C27>=3,0.8,IF(C27>=2,0.7,IF(C27>=1,0.6,IF(C27<1,0)))))))","v":1},{"$f":"IF(D27=\"\",\"\",IF(D27>=20,1,IF(D27>=18,0.9,IF(D27>=16,0.8,IF(D27>=14,0.7,IF(D27>=12,0.6,IF(D27<12,0)))))))","v":0.8},{"$f":"IF(N27>O27,N27,IF(N27<=O27,O27))","v":1},null,false,{"$f":"SUM(M27:M32)","v":1},{"$f":"SUM(H27:H32)","v":1600},{"$f":"E27","v":"2003-12-12"}]
[{"$nulls":5},"0000공사","2008-02-04",600,{"$nulls":4},0,{"$nulls":4},false,null,null,{"$f":"E27","v":"2003-12-12"}]
[{"$nulls":5},"0000공사","2002-12-01",500,{"$nulls":4},1,{"$nulls":4},1,null,null,{"$f":"E27","v":"2003-12-12"}]
[{"$nulls":12},0,{"$nulls":4},0,null,null,{"$f":"E27","v":"2003-12-12"}]
[{"$nulls":12},0,{"$nulls":4},0,null,null,{"$f":"E27","v":"2003-12-12"}]
[{"$nulls":12},0,{"$nulls":4},0,null,null,{"$f":"E27","v":"2003-12-12"}]
["건설기술에 관한 특허","0000000과000000에  대한 000기술\n(000)",5,{"$f":"IF(T33=0,\"\",IF(T33>0,T33/100))","v":16},"2003-12-12","00공사","2007-12-11",500,{"$f":"IF(A33=\"\",\"\",IF(A33=\"건설신기술\",1,IF(A33=\"건설기술에 관한 특허\",0.6,IF(A33=\"건설기술에 관한 실용신안\",0.3))))","v":0.6},{"$f":"IF(P33=\"\",\"\",I33*P33)","v":0.6},null,null,0,{"$f":"IF(C33=\"\",\"\",IF(C33>=5,1,IF(C33>=4,0.9,IF(C33>=3,0.8,IF(C33>=2,0.7,IF(C33>=1,0.6,IF(C33<1,0)))))))","v":1},{"$f":"IF(D33=\"\",\"\",IF(D33>=20,1,IF(D33>=18,0.9,IF(D33>=16,0.8,IF(D33>=14,0.7,IF(D33>=12,0.6,IF(D33<12,0)))))))","v":0.8},{"$f":"IF(N33>O33,N33,IF(N33<=O33,O33))","v":1},null,false,{"$f":"SUM(M33:M38)","v":1},{"$f":"SUM(H33:H38)","v":1600},{"$f":"E33","v":"2003-12-12"}]
[{"$nulls":5},"0000공사","2008-02-04",600,{"$nulls":4},0,{"$nulls":4},false,null,null,{"$f":"E33","v":"2003-12-12"}]
[{"$nulls":5},"0000공사","2002-12-01",500,{"$nulls":4},1,{"$nulls":4},1,null,null,{"$f":"E33","v":"2003-12-12"}]
[{"$nulls":12},0,{"$nulls":4},0,null,null,{"$f":"E33","v":"2003-12-12"}]
[{"$nulls":12},0,{"$nulls":4},0,null,null,{"$f":"E33","v":"2003-12-12"}]
[{"$nulls":12},0,{"$nulls":4},0,null,null,{"$f":"E33","v":"2003-12-12"}]
["건설기술에 관한 특허","0000000과000000에  대한 000기술\n(000)",5,{"$f":"IF(T39=0,\"\",IF(T39>0,T39/100))","v":16},"2003-12-12","00공사","2007-12-11",500,{"$f":"IF(A39=\"\",\"\",IF(A39=\"건설신기술\",1,IF(A39=\"건설기술에 관한 특허\",0.6,IF(A39=\"건설기술에 관한 실용신안\",0.3))))","v":0.6},{"$f":"IF(P39=\"\",\"\",I39*P39)","v":0.6},null,null,0,{"$f":"IF(C39=\"\",\"\",IF(C39>=5,1,IF(C39>=4,0.9,IF(C39>=3,0.8,IF(C39>=2,0.7,IF(C39>=1,0.6,IF(C39<1,0)))))))","v":1},{"$f":"IF(D39=\"\",\"\",IF(D39>=20,1,IF(D39>=18,0.9,IF(D39>=16,0.8,IF(D39>=14,0.7,IF(D39>=12,0.6,IF(D39<12,0)))))))","v":0.8},{"$f":"IF(N39>O39,N39,IF(N39<=O39,O39))","v":1},null,false,{"$f":"SUM(M39:M44)","v":1},{"$f":"SUM(H39:H44)","v":1600},{"$f":"E39","v":"2003-12-12"}]
[{"$nulls":5},"0000공사","2008-02-04",600,{"$nulls":4},0,{"$nulls":4},false,null,null,{"$f":"E39","v":"2003-12-12"}]
[{"$nulls":5},"0000공사","2002-12-01",500,{"$nulls":4},1,{"$nulls":4},1,null,null,{"$f":"E39","v":"2003-12-12"}]
[{"$nulls":12},0,{"$nulls":4},0,null,null,{"$f":"E39","v":"2003-12-12"}]
[{"$nulls":12},0,{"$nulls":4},0,null,null,{"$f":"E39","v":"2003-12-12"}]
[{"$nulls":12},0,{"$nulls":4},0,null,null,{"$f":"E39","v":"2003-12-12"}]
[null,null,{"$f":"IF(S45=0,\"\",IF(S45>0,S45))","v":""},{"$f":"IF(T45=0,\"\",IF(T45>0,T45/100))","v":""},{"$nulls":4},{"$f":"IF(A45=\"\",\"\",IF(A45=\"건설신기술\",1,IF(A45=\"건설기술에 관한 특허\",0.6,IF(A45=\"건설기술에 관한 실용신안\",0.3))))","v":""},{"$f":"IF(P45=\"\",\"\",I45*P45)","v":""},null,null,0,{"$f":"IF(C45=\"\",\"\",IF(C45>=5,1,IF(C45>=4,0.9,IF(C45>=3,0.8,IF(C45>=2,0.7,IF(C45>=1,0.6,IF(C45<1,0)))))))","v":""},{"$f":"IF(D45=\"\",\"\",IF(D45>=20,1,IF(D45>=18,0.9,IF(D45>=16,0.8,IF(D45>=14,0.7,IF(D45>=12,0.6,IF(D45<12,0)))))))","v":""},{"$f":"IF(N45>O45,N45,IF(N45<=O45,O45))","v":""},null,0,{"$f":"SUM(M45:M50)","v":0},{"$f":"SUM(H45:H50)","v":0},{"$f":"E45","v":"00:00:00"}]
[{"$nulls":12},0,{"$nulls":4},0,null,null,{"$f":"E45","v":"00:00:00"}]
[{"$nulls":12},0,{"$nulls":4},0,null,null,{"$f":"E45","v":"00:00:00"}]
[{"$nulls":12},0,{"$nulls":4},0,null,null,{"$f":"E45","v":"00:00:00"}]
[{"$nulls":12},0,{"$nulls":4},0,null,null,{"$f":"E45","v":"00:00:00"}]
[{"$nulls":12},0,{"$nulls":4},0,null,null,{"$f":"E45","v":"00:00:00"}]
[]
[]
["대 표 사",{"$f":"참여업체현황!B7","v":"B사"},null,"환산지분율",{"$f":"참여업체현황!C7","v":0.3}]
[]
["구분","권리내용\n(지정번호)","활용건수","활용금액\n(억)","만료일자","공사명","활용년도","건별활용금액\n(백만원)","개발실적"]
[{"$nulls":8},"배점","자기평가","확인"]
["총   계",null,"-","-","-","-","-","-",3,{"$f":"IF(ROUND(SUM(J58:J87),2)>=3,3,ROUND(SUM(J58:J87),2))","v":1.68},{"$f":"SUM(K58:K87)","v":0},null,null,"건수","금액","건수/금액비교",null,"기간도과여부","활용건수","금액"]
["건설신기술","00성방수제와 00을 이용한 콘크리트00의 00성향상기술\n(332)",{"$f":"IF(S58=0,\"\",IF(S58>0,S58))","v":4},{"$f":"IF(T58=0,\"\",IF(T58>0,T58/100))","v":16},"2008-12-02","00건설공사","2001-02-12",300,{"$f":"IF(A58=\"\",\"\",IF(A58=\"건설신기술\",1,IF(A58=\"건설기술에 관한 특허\",0.6,IF(A58=\"건설기술에 관한 실용신안\",0.3))))","v":1},{"$f":"IF(P58=\"\",\"\",I58*P58)","v":0.9},null,null,{"$f":"IF(F58=\"\",0,1)*R58","v":1},{"$f":"IF(C58=\"\",\"\",IF(C58>=5,1,IF(C58>=4,0.9,IF(C58>=3,0.8,IF(C58>=2,0.7,IF(C58>=1,0.6,IF(C58<1,0)))))))","v":0.9},{"$f":"IF(D58=\"\",\"\",IF(D58>=20,1,IF(D58>=18,0.9,IF(D58>=16,0.8,IF(D58>=14,0.7,IF(D58>=12,0.6,IF(D58<12,0)))))))","v":0.8},{"$f":"IF(N58>O58,N58,IF(N58<=O58,O58))","v":0.9},null,{"$f":"IF(G58=\"\",0,IF(U58=\"\",0,IF(U58-G58>=1,1,IF(U58-G58>0,0))))","v":1},{"$f":"SUM(M58:M63)","v":4},{"$f":"SUM(H58:H63)","v":1600},{"$f":"E58","v":"2008-12-02"}]
[{"$nulls":5},"00공사","2007-12-11",500,{"$nulls":4},1,{"$nulls":4},{"$f":"IF(G59=\"\",0,IF(U59=\"\",0,IF(U59-G59>=1,1,IF(U59-G59>0,0))))","v":1},null,null,{"$f":"E58","v":"2008-12-02"}]
[{"$nulls":5},"0000공사","2008-02-04",600,{"$nulls":4},1,{"$nulls":4},1,null,null,{"$f":"E58","v":"2008-12-02"}]
[{"$nulls":5},"0000공사","2002-12-01",200,{"$nulls":4},1,{"$nulls":4},1,null,null,{"$f":"E58","v":"2008-12-02"}]
[{"$nulls":12},0,{"$nulls":4},0,null,null,{"$f":"E58","v":"2008-12-02"}]
[{"$nulls":12},0,{"$nulls":4},0,null,null,{"$f":"E58","v":"2008-12-02"}]
["건설기술에 관한 특허","0000000과000000에  대한 000기술\n(000)",{"$f":"IF(S64=0,\"\",IF(S64>0,S64))","v":1},{"$f":"IF(T64=0,\"\",IF(T64>0,T64/100))","v":16},"2003-12-12","00공사","2007-12-11",500,{"$f":"IF(A64=\"\",\"\",IF(A64=\"건설신기술\",1,IF(A64=\"건설기술에 관한 특허\",0.6,IF(A64=\"건설기술에 관한 실용신안\",0.3))))","v":0.6},{"$f":"IF(P64=\"\",\"\",I64*P64)","v":0.48},null,null,0,{"$f":"IF(C64=\"\",\"\",IF(C64>=5,1,IF(C64>=4,0.9,IF(C64>=3,0.8,IF(C64>=2,0.7,IF(C64>=1,0.6,IF(C64<1,0)))))))","v":0.6},{"$f":"IF(D64=\"\",\"\",IF(D64>=20,1,IF(D64>=18,0.9,IF(D64>=16,0.8,IF(D64>=14,0.7,IF(D64>=12,0.6,IF(D64<12,0)))))))","v":0.8},{"$f":"IF(N64>O64,N64,IF(N64<=O64,O64))","v":0.8},null,false,{"$f":"SUM(M64:M69)","v":1},{"$f":"SUM(H64:H69)","v":1600},{"$f":"E64","v":"2003-12-12"}]
[{"$nulls":5},"0000공사","2008-02-04",600,{"$nulls":4},0,{"$nulls":4},false,null,null,{"$f":"E64","v":"2003-12-12"}]
[{"$nulls":5},"0000공사","2002-12-01",500,{"$nulls":4},1,{"$nulls":4},1,null,null,{"$f":"E64","v":"2003-12-12"}]
[{"$nulls":12},0,{"$nulls":4},0,null,null,{"$f":"E64","v":"2003-12-12"}]
[{"$nulls":12},0,{"$nulls":4},0,null,null,{"$f":"E64","v":"2003-12-12"}]
[{"$nulls":12},0,{"$nulls":4},0,null,null,{"$f":"E64","v":"2003-12-12"}]
["건설기술에 관한 실용신안","0000000과000000에  대한 000기술\n(000)",{"$f":"IF(S70=0,\"\",IF(S70>0,S70))","v":4},{"$f":"IF(T70=0,\"\",IF(T70>0,T70/100))","v":21},"2556-12-29","00공사","2007-12-11",500,{"$f":"IF(A70=\"\",\"\",IF(A70=\"건설신기술\",1,IF(A70=\"건설기술에 관한 특허\",0.6,IF(A70=\"건설기술에 관한 실용신안\",0.3))))","v":0.3},{"$f":"IF(P70=\"\",\"\",I70*P70)","v":0.3},null,null,{"$f":"IF(F70=\"\",0,1)*R70","v":1},{"$f":"IF(C70=\"\",\"\",IF(C70>=5,1,IF(C70>=4,0.9,IF(C70>=3,0.8,IF(C70>=2,0.7,IF(C70>=1,0.6,IF(C70<1,0)))))))","v":0.9},{"$f":"IF(D70=\"\",\"\",IF(D70>=20,1,IF(D70>=18,0.9,IF(D70>=16,0.8,IF(D70>=14,0.7,IF(D70>=12,0.6,IF(D70<12,0)))))))","v":1},{"$f":"IF(N70>O70,N70,IF(N70<=O70,O70))","v":1},null,{"$f":"IF(G70=\"\",0,IF(U70=\"\",0,IF(U70-G70>=1,1,IF(U70-G70>0,0))))","v":1},{"$f":"SUM(M70:M75)","v":4},{"$f":"SUM(H70:H75)","v":2100},{"$f":"E70","v":"2556-12-29"}]
[{"$nulls":5},"0000공사","2008-02-04",600,{"$nulls":4},1,{"$nulls":4},1,null,null,{"$f":"E70","v":"2556-12-29"}]
[{"$nulls":5},"0000공사","2002-12-01",500,{"$nulls":4},1,{"$nulls":4},1,null,null,{"$f":"E70","v":"2556-12-29"}]
[{"$nulls":5},"0000공사","2002-12-01",500,{"$nulls":4},1,{"$nulls":4},1,null,null,{"$f":"E70","v":"2556-12-29"}]
[{"$nulls":12},0,{"$nulls":4},0,null,null,{"$f":"E70","v":"2556-12-29"}]
[{"$nulls":12},0,{"$nulls":4},0,null,null,{"$f":"E70","v":"2556-12-29"}]
[null,null,{"$f":"IF(S76=0,\"\",IF(S76>0,S76))","v":""},{"$f":"IF(T76=0,\"\",IF(T76>0,T76/100))","v":""},{"$nulls":4},{"$f":"IF(A76=\"\",\"\",IF(A76=\"건설신기술\",1,IF(A76=\"건설기술에 관한 특허\",0.6,IF(A76=\"건설기술에 관한 실용신안\",0.3))))","v":""},{"$f":"IF(P76=\"\",\"\",I76*P76)","v":""},null,null,0,{"$f":"IF(C76=\"\",\"\",IF(C76>=5,1,IF(C76>=4,0.9,IF(C76>=3,0.8,IF(C76>=2,0.7,IF(C76>=1,0.6,IF(C76<1,0)))))))","v":""},{"$f":"IF(D76=\"\",\"\",IF(D76>=20,1,IF(D76>=18,0.9,IF(D76>=16,0.8,IF(D76>=14,0.7,IF(D76>=12,0.6,IF(D76<12,0)))))))","v":""},{"$f":"IF(N76>O76,N76,IF(N76<=O76,O76))","v":""},null,0,{"$f":"SUM(M76:M81)","v":0},{"$f":"SUM(H76:H81)","v":0},{"$f":"E76","v":"00:00:00"}]
[{"$nulls":12},0,{"$nulls":4},0,null,null,{"$f":"E76","v":"00:00:00"}]
[{"$nulls":12},0,{"$nulls":4},0,null,null,{"$f":"E76","v":"00:00:00"}]
[{"$nulls":12},0,{"$nulls":4},0,null,null,{"$f":"E76","v":"00:00:00"}]
[{"$nulls":12},0,{"$nulls":4},0,null,null,{"$f":"E76","v":"00:00:00"}]
[{"$nulls":12},0,{"$nulls":4},0,null,null,{"$f":"E76","v":"00:00:00"}]
[null,null,{"$f":"IF(S82=0,\"\",IF(S82>0,S82))","v":""},{"$f":"IF(T82=0,\"\",IF(T82>0,T82/100))","v":""},{"$nulls":4},{"$f":"IF(A82=\"\",\"\",IF(A82=\"건설신기술\",1,IF(A82=\"건설기술에 관한 특허\",0.6,IF(A82=\"건설기술에 관한 실용신안\",0.3))))","v":""},{"$f":"IF(P82=\"\",\"\",I82*P82)","v":""},null,null,0,{"$f":"IF(C82=\"\",\"\",IF(C82>=5,1,IF(C82>=4,0.9,IF(C82>=3,0.8,IF(C82>=2,0.7,IF(C82>=1,0.6,IF(C82<1,0)))))))","v":""},{"$f":"IF(D82=\"\",\"\",IF(D82>=20,1,IF(D82>=18,0.9,IF(D82>=16,0.8,IF(D82>=14,0.7,IF(D82>=12,0.6,IF(D82<12,0)))))))","v":""},{"$f":"IF(N82>O82,N82,IF(N82<=O82,O82))","v":""},null,0,{"$f":"SUM(M82:M87)","v":0},{"$f":"SUM(H82:H87)","v":0},{"$f":"E82","v":"00:00:00"}]
[{"$nulls":12},0,{"$nulls":4},0,null,null,{"$f":"E82","v":"00:00:00"}]
[{"$nulls":12},0,{"$nulls":4},0,null,null,{"$f":"E82","v":"00:00:00"}]
[{"$nulls":12},0,{"$nulls":4},0,null,null,{"$f":"E82","v":"00:00:00"}]
[{"$nulls":12},0,{"$nulls":4},0,null,null,{"$f":"E82","v":"00:00:00"}]
[{"$nulls":12},0,{"$nulls":4},0,null,null,{"$f":"E82","v":"00:00:00"}]
[]
[]
["대 표 사",{"$f":"참여업체현황!B9","v":"C사"},null,"환산지분율",{"$f":"참여업체현황!C9","v":0.2}]
[]
["구분","권리내용\n(지정번호)","활용건수","활용금액\n(억)","만료일자","공사명","활용년도","건별활용금액\n(백만원)","개발실적"]
[{"$nulls":8},"배점","자기평가","확인"]
["총   계",null,"-","-","-","-","-","-",3,{"$f":"IF(ROUND(SUM(J95:J124),2)>=3,3,ROUND(SUM(J95:J124),2))","v":1.68},{"$f":"SUM(K95:K124)","v":0},null,null,"건수","금액","건수/금액비교",null,"기간도과여부","활용건수","금액"]
["건설신기술","00성방수제와 00을 이용한 콘크리트00의 00성향상기술\n(332)",{"$f":"IF(S95=0,\"\",IF(S95>0,S95))","v":4},{"$f":"IF(T95=0,\"\",IF(T95>0,T95/100))","v":16},"2008-12-02","00건설공사","2001-02-12",300,{"$f":"IF(A95=\"\",\"\",IF(A95=\"건설신기술\",1,IF(A95=\"건설기술에 관한 특허\",0.6,IF(A95=\"건설기술에 관한 실용신안\",0.3))))","v":1},{"$f":"IF(P95=\"\",\"\",I95*P95)","v":0.9},null,null,{"$f":"IF(F95=\"\",0,1)*R95","v":1},{"$f":"IF(C95=\"\",\"\",IF(C95>=5,1,IF(C95>=4,0.9,IF(C95>=3,0.8,IF(C95>=2,0.7,IF(C95>=1,0.6,IF(C95<1,0)))))))","v":0.9},{"$f":"IF(D95=\"\",\"\",IF(D95>=20,1,IF(D95>=18,0.9,IF(D95>=16,0.8,IF(D95>=14,0.7,IF(D95>=12,0.6,IF(D95<12,0)))))))","v":0.8},{"$f":"IF(N95>O95,N95,IF(N95<=O95,O95))","v":0.9},null,{"$f":"IF(G95=\"\",0,IF(U95=\"\",0,IF(U95-G95>=1,1,IF(U95-G95>0,0))))","v":1},{"$f":"SUM(M95:M100)","v":4},{"$f":"SUM(H95:H100)","v":1600},{"$f":"E95","v":"2008-12-02"}]
[{"$nulls":5},"00공사","2007-12-11",500,{"$nulls":4},1,{"$nulls":4},{"$f":"IF(G96=\"\",0,IF(U96=\"\",0,IF(U96-G96>=1,1,IF(U96-G96>0,0))))","v":1},null,null,{"$f":"E95","v":"2008-12-02"}]
[{"$nulls":5},"0000공사","2008-02-04",600,{"$nulls":4},1,{"$nulls":4},1,null,null,{"$f":"E95","v":"2008-12-02"}]
[{"$nulls":5},"0000공사","2002-12-01",200,{"$nulls":4},1,{"$nulls":4},1,null,null,{"$f":"E95","v":"2008-12-02"}]
[{"$nulls":12},0,{"$nulls":4},0,null,null,{"$f":"E95","v":"2008-12-02"}]
[{"$nulls":12},0,{"$nulls":4},0,null,null,{"$f":"E95","v":"2008-12-02"}]
["건설기술에 관한 특허","0000000과000000에  대한 000기술\n(000)",{"$f":"IF(S101=0,\"\",IF(S101>0,S101))","v":1},{"$f":"IF(T101=0,\"\",IF(T101>0,T101/100))","v":16},"2003-12-12","00공사","2007-12-11",500,{"$f":"IF(A101=\"\",\"\",IF(A101=\"건설신기술\",1,IF(A101=\"건설기술에 관한 특허\",0.6,IF(A101=\"건설기술에 관한 실용신안\",0.3))))","v":0.6},{"$f":"IF(P101=\"\",\"\",I101*P101)","v":0.48},null,null,{"$f":"IF(F101=\"\",0,1)*R101","v":0},{"$f":"IF(C101=\"\",\"\",IF(C101>=5,1,IF(C101>=4,0.9,IF(C101>=3,0.8,IF(C101>=2,0.7,IF(C101>=1,0.6,IF(C101<1,0)))))))","v":0.6},{"$f":"IF(D101=\"\",\"\",IF(D101>=20,1,IF(D101>=18,0.9,IF(D101>=16,0.8,IF(D101>=14,0.7,IF(D101>=12,0.6,IF(D101<12,0)))))))","v":0.8},{"$f":"IF(N101>O101,N101,IF(N101<=O101,O101))","v":0.8},null,{"$f":"IF(G101=\"\",0,IF(U101=\"\",0,IF(U101-G101>=1,1,IF(U101-G101>0,0))))","v":false},{"$f":"SUM(M101:M106)","v":1},{"$f":"SUM(H101:H106)","v":1600},{"$f":"E101","v":"2003-12-12"}]
[{"$nulls":5},"0000공사","2008-02-04",600,{"$nulls":4},0,{"$nulls":4},false,null,null,{"$f":"E101","v":"2003-12-12"}]
[{"$nulls":5},"0000공사","2002-12-01",500,{"$nulls":4},1,{"$nulls":4},1,null,null,{"$f":"E101","v":"2003-12-12"}]
[{"$nulls":12},0,{"$nulls":4},0,null,null,{"$f":"E101","v":"2003-12-12"}]
[{"$nulls":12},0,{"$nulls":4},0,null,null,{"$f":"E101","v":"2003-12-12"}]
[{"$nulls":12},0,{"$nulls":4},0,null,null,{"$f":"E101","v":"2003-12-12"}]
["건설기술에 관한 실용신안","0000000과000000에  대한 000기술\n(000)",{"$f":"IF(S107=0,\"\",IF(S107>0,S107))","v":4},{"$f":"IF(T107=0,\"\",IF(T107>0,T107/100))","v":21},"2556-12-29","00공사","2007-12-11",500,{"$f":"IF(A107=\"\",\"\",IF(A107=\"건설신기술\",1,IF(A107=\"건설기술에 관한 특허\",0.6,IF(A107=\"건설기술에 관한 실용신안\",0.3))))","v":0.3},{"$f":"IF(P107=\"\",\"\",I107*P107)","v":0.3},null,null,1,{"$f":"IF(C107=\"\",\"\",IF(C107>=5,1,IF(C107>=4,0.9,IF(C107>=3,0.8,IF(C107>=2,0.7,IF(C107>=1,0.6,IF(C107<1,0)))))))","v":0.9},{"$f":"IF(D107=\"\",\"\",IF(D107>=20,1,IF(D107>=18,0.9,IF(D107>=16,0.8,IF(D107>=14,0.7,IF(D107>=12,0.6,IF(D107<12,0)))))))","v":1},{"$f":"IF(N107>O107,N107,IF(N107<=O107,O107))","v":1},null,1,{"$f":"SUM(M107:M112)","v":4},{"$f":"SUM(H107:H112)","v":2100},{"$f":"E107","v":"2556-12-29"}]
[{"$nulls":5},"0000공사","2008-02-04",600,{"$nulls":4},1,{"$nulls":4},1,null,null,{"$f":"E107","v":"2556-12-29"}]
[{"$nulls":5},"0000공사","2002-12-01",500,{"$nulls":4},1,{"$nulls":4},1,null,null,{"$f":"E107","v":"2556-12-29"}]
[{"$nulls":5},"0000공사","2002-12-01",500,{"$nulls":4},1,{"$nulls":4},1,null,null,{"$f":"E107","v":"2556-12-29"}]
[{"$nulls":12},0,{"$nulls":4},0,null,null,{"$f":"E107","v":"2556-12-29"}]
[{"$nulls":12},0,{"$nulls":4},0,null,null,{"$f":"E107","v":"2556-12-29"}]
[null,null,{"$f":"IF(S113=0,\"\",IF(S113>0,S113))","v":""},{"$f":"IF(T113=0,\"\",IF(T113>0,T113/100))","v":""},{"$nulls":4},{"$f":"IF(A113=\"\",\"\",IF(A113=\"건설신기술\",1,IF(A113=\"건설기술에 관한 특허\",0.6,IF(A113=\"건설기술에 관한 실용신안\",0.3))))","v":""},{"$f":"IF(P113=\"\",\"\",I113*P113)","v":""},null,null,0,{"$f":"IF(C113=\"\",\"\",IF(C113>=5,1,IF(C113>=4,0.9,IF(C113>=3,0.8,IF(C113>=2,0.7,IF(C113>=1,0.6,IF(C113<1,0)))))))","v":""},{"$f":"IF(D113=\"\",\"\",IF(D113>=20,1,IF(D113>=18,0.9,IF(D113>=16,0.8,IF(D113>=14,0.7,IF(D113>=12,0.6,IF(D113<12,0)))))))","v":""},{"$f":"IF(N113>O113,N113,IF(N113<=O113,O113))","v":""},null,0,{"$f":"SUM(M113:M118)","v":0},{"$f":"SUM(H113:H118)","v":0},{"$f":"E113","v":"00:00:00"}]
[{"$nulls":12},0,{"$nulls":4},0,null,null,{"$f":"E113","v":"00:00:00"}]
[{"$nulls":12},0,{"$nulls":4},0,null,null,{"$f":"E113","v":"00:00:00"}]
[{"$nulls":12},0,{"$nulls":4},0,null,null,{"$f":"E113","v":"00:00:00"}]
[{"$nulls":12},0,{"$nulls":4},0,null,null,{"$f":"E113","v":"00:00:00"}]
[{"$nulls":12},0,{"$nulls":4},0,null,null,{"$f":"E113","v":"00:00:00"}]
[null,null,{"$f":"IF(S119=0,\"\",IF(S119>0,S119))","v":""},{"$f":"IF(T119=0,\"\",IF(T119>0,T119/100))","v":""},{"$nulls":4},{"$f":"IF(A119=\"\",\"\",IF(A119=\"건설신기술\",1,IF(A119=\"건설기술에 관한 특허\",0.6,IF(A119=\"건설기술에 관한 실용신안\",0.3))))","v":""},{"$f":"IF(P119=\"\",\"\",I119*P119)","v":""},null,null,0,{"$f":"IF(C119=\"\",\"\",IF(C119>=5,1,IF(C119>=4,0.9,IF(C119>=3,0.8,IF(C119>=2,0.7,IF(C119>=1,0.6,IF(C119<1,0)))))))","v":""},{"$f":"IF(D119=\"\",\"\",IF(D119>=20,1,IF(D119>=18,0.9,IF(D119>=16,0.8,IF(D119>=14,0.7,IF(D119>=12,0.6,IF(D119<12,0)))))))","v":""},{"$f":"IF(N119>O119,N119,IF(N119<=O119,O119))","v":""},null,0,{"$f":"SUM(M119:M124)","v":0},{"$f":"SUM(H119:H124)","v":0},{"$f":"E119","v":"00:00:00"}]
[{"$nulls":12},0,{"$nulls":4},0,null,null,{"$f":"E119","v":"00:00:00"}]
[{"$nulls":12},0,{"$nulls":4},0,null,null,{"$f":"E119","v":"00:00:00"}]
[{"$nulls":12},0,{"$nulls":4},0,null,null,{"$f":"E119","v":"00:00:00"}]
[{"$nulls":12},0,{"$nulls":4},0,null,null,{"$f":"E119","v":"00:00:00"}]
[{"$nulls":12},0,{"$nulls":4},0,null,null,{"$f":"E119","v":"00:00:00"}]
[]
[]
["대 표 사",{"$f":"참여업체현황!B11","v":"D사"},null,"환산지분율",{"$f":"참여업체현황!C11","v":0}]
[]
["구분","권리내용\n(지정번호)","활용건수","활용금액\n(억)","만료일자","공사명","활용년도","건별활용금액\n(백만원)","개발실적"]
[{"$nulls":8},"배점","자기평가","확인"]
["총   계",null,"-","-","-","-","-","-",3,{"$f":"IF(ROUND(SUM(J132:J161),2)>=3,3,ROUND(SUM(J132:J161),2))","v":0},{"$f":"SUM(K132:K161)","v":0},null,null,"건수","금액","건수/금액비교",null,"기간도과여부","활용건수","금액"]
[null,null,{"$f":"IF(S132=0,\"\",IF(S132>0,S132))","v":""},{"$f":"IF(T132=0,\"\",IF(T132>0,T132/100))","v":""},{"$nulls":4},{"$f":"IF(A132=\"\",\"\",IF(A132=\"건설신기술\",1,IF(A132=\"건설기술에 관한 특허\",0.6,IF(A132=\"건설기술에 관한 실용신안\",0.3))))","v":""},{"$f":"IF(P132=\"\",\"\",I132*P132)","v":""},null,null,{"$f":"IF(F132=\"\",0,1)*R132","v":0},{"$f":"IF(C132=\"\",\"\",IF(C132>=5,1,IF(C132>=4,0.9,IF(C132>=3,0.8,IF(C132>=2,0.7,IF(C132>=1,0.6,IF(C132<1,0)))))))","v":""},{"$f":"IF(D132=\"\",\"\",IF(D132>=20,1,IF(D132>=18,0.9,IF(D132>=16,0.8,IF(D132>=14,0.7,IF(D132>=12,0.6,IF(D132<12,0)))))))","v":""},{"$f":"IF(N132>O132,N132,IF(N132<=O132,O132))","v":""},null,{"$f":"IF(G132=\"\",0,IF(U132=\"\",0,IF(U132-G132>=1,1,IF(U132-G132>0,0))))","v":0},{"$f":"SUM(M132:M137)","v":0},{"$f":"SUM(H132:H137)","v":0},{"$f":"E132","v":"00:00:00"}]
[{"$nulls":12},0,{"$nulls":4},{"$f":"IF(G133=\"\",0,IF(U133=\"\",0,IF(U133-G133>=1,1,IF(U133-G133>0,0))))","v":0},null,null,{"$f":"E132","v":"00:00:00"}]
[{"$nulls":12},0,{"$nulls":4},0,null,null,{"$f":"E132","v":"00:00:00"}]
[{"$nulls":12},0,{"$nulls":4},0,null,null,{"$f":"E132","v":"00:00:00"}]
[{"$nulls":12},0,{"$nulls":4},0,null,null,{"$f":"E132","v":"00:00:00"}]
[{"$nulls":12},0,{"$nulls":4},0,null,null,{"$f":"E132","v":"00:00:00"}]
[null,null,{"$f":"IF(S138=0,\"\",IF(S138>0,S138))","v":""},{"$f":"IF(T138=0,\"\",IF(T138>0,T138/100))","v":""},{"$nulls":4},{"$f":"IF(A138=\"\",\"\",IF(A138=\"건설신기술\",1,IF(A138=\"건설기술에 관한 특허\",0.6,IF(A138=\"건설기술에 관한 실용신안\",0.3))))","v":""},{"$f":"IF(P138=\"\",\"\",I138*P138)","v":""},null,null,{"$f":"IF(F138=\"\",0,1)*R138","v":0},{"$f":"IF(C138=\"\",\"\",IF(C138>=5,1,IF(C138>=4,0.9,IF(C138>=3,0.8,IF(C138>=2,0.7,IF(C138>=1,0.6,IF(C138<1,0)))))))","v":""},{"$f":"IF(D138=\"\",\"\",IF(D138>=20,1,IF(D138>=18,0.9,IF(D138>=16,0.8,IF(D138>=14,0.7,IF(D138>=12,0.6,IF(D138<12,0)))))))","v":""},{"$f":"IF(N138>O138,N138,IF(N138<=O138,O138))","v":""},null,{"$f":"IF(G138=\"\",0,IF(U138=\"\",0,IF(U138-G138>=1,1,IF(U138-G138>0,0))))","v":0},{"$f":"SUM(M138:M143)","v":0},{"$f":"SUM(H138:H143)","v":0},{"$f":"E138","v":"00:00:00"}]
[{"$nulls":12},0,{"$nulls":4},0,null,null,{"$f":"E138","v":"00:00:00"}]
[{"$nulls":12},0,{"$nulls":4},0,null,null,{"$f":"E138","v":"00:00:00"}]
[{"$nulls":12},0,{"$nulls":4},0,null,null,{"$f":"E138","v":"00:00:00"}]
[{"$nulls":12},0,{"$nulls":4},0,null,null,{"$f":"E138","v":"00:00:00"}]
[{"$nulls":12},0,{"$nulls":4},0,null,null,{"$f":"E138","v":"00:00:00"}]
[null,null,{"$f":"IF(S144=0,\"\",IF(S144>0,S144))","v":""},{"$f":"IF(T144=0,\"\",IF(T144>0,T144/100))","v":""},{"$nulls":4},{"$f":"IF(A144=\"\",\"\",IF(A144=\"건설신기술\",1,IF(A144=\"건설기술에 관한 특허\",0.6,IF(A144=\"건설기술에 관한 실용신안\",0.3))))","v":""},{"$f":"IF(P144=\"\",\"\",I144*P144)","v":""},null,null,0,{"$f":"IF(C144=\"\",\"\",IF(C144>=5,1,IF(C144>=4,0.9,IF(C144>=3,0.8,IF(C144>=2,0.7,IF(C144>=1,0.6,IF(C144<1,0)))))))","v":""},{"$f":"IF(D144=\"\",\"\",IF(D144>=20,1,IF(D144>=18,0.9,IF(D144>=16,0.8,IF(D144>=14,0.7,IF(D144>=12,0.6,IF(D144<12,0)))))))","v":""},{"$f":"IF(N144>O144,N144,IF(N144<=O144,O144))","v":""},null,0,{"$f":"SUM(M144:M149)","v":0},{"$f":"SUM(H144:H149)","v":0},{"$f":"E144","v":"00:00:00"}]
[{"$nulls":12},0,{"$nulls":4},0,null,null,{"$f":"E144","v":"00:00:00"}]
[{"$nulls":12},0,{"$nulls":4},0,null,null,{"$f":"E144","v":"00:00:00"}]
[{"$nulls":12},0,{"$nulls":4},0,null,null,{"$f":"E144","v":"00:00:00"}]
[{"$nulls":12},0,{"$nulls":4},0,null,null,{"$f":"E144","v":"00:00:00"}]
[{"$nulls":12},0,{"$nulls":4},0,null,null,{"$f":"E144","v":"00:00:00"}]
[null,null,{"$f":"IF(S150=0,\"\",IF(S150>0,S150))","v":""},{"$f":"IF(T150=0,\"\",IF(T150>0,T150/100))","v":""},{"$nulls":4},{"$f":"IF(A150=\"\",\"\",IF(A150=\"건설신기술\",1,IF(A150=\"건설기술에 관한 특허\",0.6,IF(A150=\"건설기술에 관한 실용신안\",0.3))))","v":""},{"$f":"IF(P150=\"\",\"\",I150*P150)","v":""},null,null,0,{"$f":"IF(C150=\"\",\"\",IF(C150>=5,1,IF(C150>=4,0.9,IF(C150>=3,0.8,IF(C150>=2,0.7,IF(C150>=1,0.6,IF(C150<1,0)))))))","v":""},{"$f":"IF(D150=\"\",\"\",IF(D150>=20,1,IF(D150>=18,0.9,IF(D150>=16,0.8,IF(D150>=14,0.7,IF(D150>=12,0.6,IF(D150<12,0)))))))","v":""},{"$f":"IF(N150>O150,N150,IF(N150<=O150,O150))","v":""},null,0,{"$f":"SUM(M150:M155)","v":0},{"$f":"SUM(H150:H155)","v":0},{"$f":"E150","v":"00:00:00"}]
[{"$nulls":12},0,{"$nulls":4},0,null,null,{"$f":"E150","v":"00:00:00"}]
[{"$nulls":12},0,{"$nulls":4},0,null,null,{"$f":"E150","v":"00:00:00"}]
[{"$nulls":12},0,{"$nulls":4},0,null,null,{"$f":"E150","v":"00:00:00"}]
[{"$nulls":12},0,{"$nulls":4},0,null,null,{"$f":"E150","v":"00:00:00"}]
[{"$nulls":12},0,{"$nulls":4},0,null,null,{"$f":"E150","v":"00:00:00"}]
[null,null,{"$f":"IF(S156=0,\"\",IF(S156>0,S156))","v":""},{"$f":"IF(T156=0,\"\",IF(T156>0,T156/100))","v":""},{"$nulls":4},{"$f":"IF(A156=\"\",\"\",IF(A156=\"건설신기술\",1,IF(A156=\"건설기술에 관한 특허\",0.6,IF(A156=\"건설기술에 관한 실용신안\",0.3))))","v":""},{"$f":"IF(P156=\"\",\"\",I156*P156)","v":""},null,null,0,{"$f":"IF(C156=\"\",\"\",IF(C156>=5,1,IF(C156>=4,0.9,IF(C156>=3,0.8,IF(C156>=2,0.7,IF(C156>=1,0.6,IF(C156<1,0)))))))","v":""},{"$f":"IF(D156=\"\",\"\",IF(D156>=20,1,IF(D156>=18,0.9,IF(D156>=16,0.8,IF(D156>=14,0.7,IF(D156>=12,0.6,IF(D156<12,0)))))))","v":""},{"$f":"IF(N156>O156,N156,IF(N156<=O156,O156))","v":""},null,0,{"$f":"SUM(M156:M161)","v":0},{"$f":"SUM(H156:H161)","v":0},{"$f":"E156","v":"00:00:00"}]
[{"$nulls":12},0,{"$nulls":4},0,null,null,{"$f":"E156","v":"00:00:00"}]
[{"$nulls":12},0,{"$nulls":4},0,null,null,{"$f":"E156","v":"00:00:00"}]
[{"$nulls":12},0,{"$nulls":4},0,null,null,{"$f":"E156","v":"00:00:00"}]
[{"$nulls":12},0,{"$nulls":4},0,null,null,{"$f":"E156","v":"00:00:00"}]
[{"$nulls":12},0,{"$nulls":4},0,null,null,{"$f":"E156","v":"00:00:00"}]
[]
[]
["대 표 사",{"$f":"참여업체현황!B13","v":"E사"},null,"환산지분율",{"$f":"참여업체현황!C13","v":0}]
[]
["구분","권리내용\n(지정번호)","활용건수","활용금액\n(억)","만료일자","공사명","활용년도","건별활용금액\n(백만원)","개발실적"]
[{"$nulls":8},"배점","자기평가","확인"]
["총   계",null,"-","-","-","-","-","-",3,{"$f":"IF(ROUND(SUM(J169:J198),2)>=3,3,ROUND(SUM(J169:J198),2))","v":0},{"$f":"SUM(K169:K198)","v":0},null,null,"건수","금액","건수/금액비교",null,"기간도과여부","활용건수","금액"]
[null,null,{"$f":"IF(S169=0,\"\",IF(S169>0,S169))","v":""},{"$f":"IF(T169=0,\"\",IF(T169>0,T169/100))","v":""},{"$nulls":4},{"$f":"IF(A169=\"\",\"\",IF(A169=\"건설신기술\",1,IF(A169=\"건설기술에 관한 특허\",0.6,IF(A169=\"건설기술에 관한 실용신안\",0.3))))","v":""},{"$f":"IF(P169=\"\",\"\",I169*P169)","v":""},null,null,{"$f":"IF(F169=\"\",0,1)*R169","v":0},{"$f":"IF(C169=\"\",\"\",IF(C169>=5,1,IF(C169>=4,0.9,IF(C169>=3,0.8,IF(C169>=2,0.7,IF(C169>=1,0.6,IF(C169<1,0)))))))","v":""},{"$f":"IF(D169=\"\",\"\",IF(D169>=20,1,IF(D169>=18,0.9,IF(D169>=16,0.8,IF(D169>=14,0.7,IF(D169>=12,0.6,IF(D169<12,0)))))))","v":""},{"$f":"IF(N169>O169,N169,IF(N169<=O169,O169))","v":""},null,{"$f":"IF(G169=\"\",0,IF(U169=\"\",0,IF(U169-G169>=1,1,IF(U169-G169>0,0))))","v":0},{"$f":"SUM(M169:M174)","v":0},{"$f":"SUM(H169:H174)","v":0},{"$f":"E169","v":"00:00:00"}]
[{"$nulls":12},0,{"$nulls":4},{"$f":"IF(G170=\"\",0,IF(U170=\"\",0,IF(U170-G170>=1,1,IF(U170-G170>0,0))))","v":0},null,null,{"$f":"E169","v":"00:00:00"}]
[{"$nulls":12},0,{"$nulls":4},0,null,null,{"$f":"E169","v":"00:00:00"}]
[{"$nulls":12},0,{"$nulls":4},0,null,null,{"$f":"E169","v":"00:00:00"}]
[{"$nulls":12},0,{"$nulls":4},0,null,null,{"$f":"E169","v":"00:00:00"}]
[{"$nulls":12},0,{"$nulls":4},0,null,null,{"$f":"E169","v":"00:00:00"}]
[null,null,{"$f":"IF(S175=0,\"\",IF(S175>0,S175))","v":""},{"$f":"IF(T175=0,\"\",IF(T175>0,T175/100))","v":""},{"$nulls":4},{"$f":"IF(A175=\"\",\"\",IF(A175=\"건설신기술\",1,IF(A175=\"건설기술에 관한 특허\",0.6,IF(A175=\"건설기술에 관한 실용신안\",0.3))))","v":""},{"$f":"IF(P175=\"\",\"\",I175*P175)","v":""},null,null,{"$f":"IF(F175=\"\",0,1)*R175","v":0},{"$f":"IF(C175=\"\",\"\",IF(C175>=5,1,IF(C175>=4,0.9,IF(C175>=3,0.8,IF(C175>=2,0.7,IF(C175>=1,0.6,IF(C175<1,0)))))))","v":""},{"$f":"IF(D175=\"\",\"\",IF(D175>=20,1,IF(D175>=18,0.9,IF(D175>=16,0.8,IF(D175>=14,0.7,IF(D175>=12,0.6,IF(D175<12,0)))))))","v":""},{"$f":"IF(N175>O175,N175,IF(N175<=O175,O175))","v":""},null,{"$f":"IF(G175=\"\",0,IF(U175=\"\",0,IF(U175-G175>=1,1,IF(U175-G175>0,0))))","v":0},{"$f":"SUM(M175:M180)","v":0},{"$f":"SUM(H175:H180)","v":0},{"$f":"E175","v":"00:00:00"}]
[{"$nulls":12},0,{"$nulls":4},0,null,null,{"$f":"E175","v":"00:00:00"}]
[{"$nulls":12},0,{"$nulls":4},0,null,null,{"$f":"E175","v":"00:00:00"}]
[{"$nulls":12},0,{"$nulls":4},0,null,null,{"$f":"E175","v":"00:00:00"}]
[{"$nulls":12},0,{"$nulls":4},0,null,null,{"$f":"E175","v":"00:00:00"}]
[{"$nulls":12},0,{"$nulls":4},0,null,null,{"$f":"E175","v":"00:00:00"}]
[null,null,{"$f":"IF(S181=0,\"\",IF(S181>0,S181))","v":""},{"$f":"IF(T181=0,\"\",IF(T181>0,T181/100))","v":""},{"$nulls":4},{"$f":"IF(A181=\"\",\"\",IF(A181=\"건설신기술\",1,IF(A181=\"건설기술에 관한 특허\",0.6,IF(A181=\"건설기술에 관한 실용신안\",0.3))))","v":""},{"$f":"IF(P181=\"\",\"\",I181*P181)","v":""},null,null,0,{"$f":"IF(C181=\"\",\"\",IF(C181>=5,1,IF(C181>=4,0.9,IF(C181>=3,0.8,IF(C181>=2,0.7,IF(C181>=1,0.6,IF(C181<1,0)))))))","v":""},{"$f":"IF(D181=\"\",\"\",IF(D181>=20,1,IF(D181>=18,0.9,IF(D181>=16,0.8,IF(D181>=14,0.7,IF(D181>=12,0.6,IF(D181<12,0)))))))","v":""},{"$f":"IF(N181>O181,N181,IF(N181<=O181,O181))","v":""},null,0,{"$f":"SUM(M181:M186)","v":0},{"$f":"SUM(H181:H186)","v":0},{"$f":"E181","v":"00:00:00"}]
[{"$nulls":12},0,{"$nulls":4},0,null,null,{"$f":"E181","v":"00:00:00"}]
[{"$nulls":12},0,{"$nulls":4},0,null,null,{"$f":"E181","v":"00:00:00"}]
[{"$nulls":12},0,{"$nulls":4},0,null,null,{"$f":"E181","v":"00:00:00"}]
[{"$nulls":12},0,{"$nulls":4},0,null,null,{"$f":"E181","v":"00:00:00"}]
[{"$nulls":12},0,{"$nulls":4},0,null,null,{"$f":"E181","v":"00:00:00"}]
[null,null,{"$f":"IF(S187=0,\"\",IF(S187>0,S187))","v":""},{"$f":"IF(T187=0,\"\",IF(T187>0,T187/100))","v":""},{"$nulls":4},{"$f":"IF(A187=\"\",\"\",IF(A187=\"건설신기술\",1,IF(A187=\"건설기술에 관한 특허\",0.6,IF(A187=\"건설기술에 관한 실용신안\",0.3))))","v":""},{"$f":"IF(P187=\"\",\"\",I187*P187)","v":""},null,null,0,{"$f":"IF(C187=\"\",\"\",IF(C187>=5,1,IF(C187>=4,0.9,IF(C187>=3,0.8,IF(C187>=2,0.7,IF(C187>=1,0.6,IF(C187<1,0)))))))","v":""},{"$f":"IF(D187=\"\",\"\",IF(D187>=20,1,IF(D187>=18,0.9,IF(D187>=16,0.8,IF(D187>=14,0.7,IF(D187>=12,0.6,IF(D187<12,0)))))))","v":""},{"$f":"IF(N187>O187,N187,IF(N187<=O187,O187))","v":""},null,0,{"$f":"SUM(M187:M192)","v":0},{"$f":"SUM(H187:H192)","v":0},{"$f":"E187","v":"00:00:00"}]
[{"$nulls":12},0,{"$nulls":4},0,null,null,{"$f":"E187","v":"00:00:00"}]
[{"$nulls":12},0,{"$nulls":4},0,null,null,{"$f":"E187","v":"00:00:00"}]
[{"$nulls":12},0,{"$nulls":4},0,null,null,{"$f":"E187","v":"00:00:00"}]
[{"$nulls":12},0,{"$nulls":4},0,null,null,{"$f":"E187","v":"00:00:00"}]
[{"$nulls":12},0,{"$nulls":4},0,null,null,{"$f":"E187","v":"00:00:00"}]
[null,null,{"$f":"IF(S193=0,\"\",IF(S193>0,S193))","v":""},{"$f":"IF(T193=0,\"\",IF(T193>0,T193/100))","v":""},{"$nulls":4},{"$f":"IF(A193=\"\",\"\",IF(A193=\"건설신기술\",1,IF(A193=\"건설기술에 관한 특허\",0.6,IF(A193=\"건설기술에 관한 실용신안\",0.3))))","v":""},{"$f":"IF(P193=\"\",\"\",I193*P193)","v":""},null,null,0,{"$f":"IF(C193=\"\",\"\",IF(C193>=5,1,IF(C193>=4,0.9,IF(C193>=3,0.8,IF(C193>=2,0.7,IF(C193>=1,0.6,IF(C193<1,0)))))))","v":""},{"$f":"IF(D193=\"\",\"\",IF(D193>=20,1,IF(D193>=18,0.9,IF(D193>=16,0.8,IF(D193>=14,0.7,IF(D193>=12,0.6,IF(D193<12,0)))))))","v":""},{"$f":"IF(N193>O193,N193,IF(N193<=O193,O193))","v":""},null,0,{"$f":"SUM(M193:M198)","v":0},{"$f":"SUM(H193:H198)","v":0},{"$f":"E193","v":"00:00:00"}]
[{"$nulls":12},0,{"$nulls":4},0,null,null,{"$f":"E193","v":"00:00:00"}]
[{"$nulls":12},0,{"$nulls":4},0,null,null,{"$f":"E193","v":"00:00:00"}]
[{"$nulls":12},0,{"$nulls":4},0,null,null,{"$f":"E193","v":"00:00:00"}]
[{"$nulls":12},0,{"$nulls":4},0,null,null,{"$f":"E193","v":"00:00:00"}]
[{"$nulls":12},0,{"$nulls":4},0,null,null,{"$f":"E193","v":"00:00:00"}]
[]
[]
[]
[]
[]
[]
["건설신기술"]
["건설기술에 관한 특허"]
["건설기술에 관한 실용신안"]

{"sheet":"5.업무중첩도","index":10,"n_rows":30,"n_cols":12,"rows_kept":30,"cut":false,"hidden":false,"merged":[[5,5,8,5],[5,0,8,0],[5,2,8,2],[5,3,8,3],[5,4,8,4],[5,1,8,1],[0,0,0,11],[2,0,3,0],[2,2,3,2],[2,3,3,3],[2,4,3,4],[2,5,3,5],[2,6,3,6],[2,7,3,7],[2,11,3,11],[2,10,3,10],[2,9,3,9],[2,1,3,1],[2,8,3,8],[10,0,13,0],[14,0,17,0],[18,1,21,1],[18,2,21,2],[18,4,21,4],[10,1,13,1],[10,2,13,2],[10,3,13,3],[10,4,13,4],[10,5,13,5],[14,1,17,1],[14,2,17,2],[14,3,17,3],[14,4,17,4],[14,5,17,5],[22,3,25,3],[22,4,25,4],[22,5,25,5],[18,3,21,3],[26,0,29,0],[26,1,29,1],[26,2,29,2],[26,3,29,3],[26,4,29,4],[26,5,29,5],[18,0,21,0],[22,0,25,0],[18,5,21,5],[22,1,25,1],[22,2,25,2]]}
["5. 업무중첩도"]
[]
["책임분야","중첩기간\n(개월)","배  점","자기\n평가","확  인","성  명","용역명","계약금액(원)","용역준공일","중첩기간(일)","발주청","기타"]
[]
["책 임 기 술 자","-",{"$f":"C6","v":6},{"$f":"D6","v":6},{"$f":"E6","v":0},"-","-","-","-","-","-","-"]
["사업책임기술자",{"$f":"ROUNDDOWN(SUM(J6:J9)/30,0)","v":12},6,{"$f":"IF(B6<15,6,IF(B6<20,5.4,IF(B6<24,4.8,IF(B6<36,4.2,IF(B6>=36,3.6)))))","v":6},null,"홍길동","00설계","00,000","2013-10-18",{"$f":"IF(I6=\"\",\"\",(I6-총괄표!$H$3+1))","v":379},"00도시공사"]
[{"$nulls":9},{"$f":"IF(I7=\"\",\"\",(I7-총괄표!$H$3+1))","v":""}]
[{"$nulls":9},{"$f":"IF(I8=\"\",\"\",(I8-총괄표!$H$3+1))","v":""}]
[{"$nulls":9},{"$f":"IF(I9=\"\",\"\",(I9-총괄표!$H$3+1))","v":""}]
["분야별\n책임기술자","-",4,{"$f":"ROUND(SUM(D11*0.5+D15*0.2+D19*0.1+D23*0.1+D27*0.1),2)","v":4},{"$f":"ROUND(SUM(E11:E30),2)","v":0},"-","-","-","-","-","-","-"]
[{"$f":"참여업체현황!E4","v":"상하수도"},{"$f":"IF(ROUNDDOWN(SUM(J11:J14)/30,0)=0,0,ROUNDDOWN(SUM(J11:J14)/30,0))","v":0},4,{"$f":"IF(B11<15,4,IF(B11<20,3.6,IF(B11<24,3.2,IF(B11<36,2.8,IF(B11>=36,2.4)))))","v":4},null,"ㅇㅇㅇ",null,null,null,{"$f":"IF(I11=\"\",\"\",(I11-총괄표!$H$3+1))","v":""}]
[{"$nulls":9},{"$f":"IF(I12=\"\",\"\",(I12-총괄표!$H$3+1))","v":""}]
[{"$nulls":9},{"$f":"IF(I13=\"\",\"\",(I13-총괄표!$H$3+1))","v":""}]
[{"$nulls":9},{"$f":"IF(I14=\"\",\"\",(I14-총괄표!$H$3+1))","v":""}]
[{"$f":"참여업체현황!F4","v":"구조"},{"$f":"IF(ROUNDDOWN(SUM(J15:J18)/30,0)=0,0,ROUNDDOWN(SUM(J15:J18)/30,0))","v":0},4,{"$f":"IF(B15<15,4,IF(B15<20,3.6,IF(B15<24,3.2,IF(B15<36,2.8,IF(B15>=36,2.4)))))","v":4},null,"ㅇㅇㅇㅇ",null,null,null,{"$f":"IF(I15=\"\",\"\",(I15-총괄표!$H$3+1))","v":""}]
[{"$nulls":9},{"$f":"IF(I16=\"\",\"\",(I16-총괄표!$H$3+1))","v":""}]
[{"$nulls":9},{"$f":"IF(I17=\"\",\"\",(I17-총괄표!$H$3+1))","v":""}]
[{"$nulls":9},{"$f":"IF(I18=\"\",\"\",(I18-총괄표!$H$3+1))","v":""}]
[{"$f":"참여업체현황!G4","v":"토질 지질"},{"$f":"IF(ROUNDDOWN(SUM(J19:J22)/30,0)=0,0,ROUNDDOWN(SUM(J19:J22)/30,0))","v":0},4,{"$f":"IF(B19<15,4,IF(B19<20,3.6,IF(B19<24,3.2,IF(B19<36,2.8,IF(B19>=36,2.4)))))","v":4},null,"ㅇㅇㅇ",null,null,null,{"$f":"IF(I19=\"\",\"\",(I19-총괄표!$H$3+1))","v":""}]
[{"$nulls":9},{"$f":"IF(I20=\"\",\"\",(I20-총괄표!$H$3+1))","v":""}]
[{"$nulls":9},{"$f":"IF(I21=\"\",\"\",(I21-총괄표!$H$3+1))","v":""}]
[{"$nulls":9},{"$f":"IF(I22=\"\",\"\",(I22-총괄표!$H$3+1))","v":""}]
[{"$f":"참여업체현황!H4","v":"일반기계"},{"$f":"IF(ROUNDDOWN(SUM(J23:J26)/30,0)=0,0,ROUNDDOWN(SUM(J23:J26)/30,0))","v":0},4,{"$f":"IF(B23<15,4,IF(B23<20,3.6,IF(B23<24,3.2,IF(B23<36,2.8,IF(B23>=36,2.4)))))","v":4},null,"ㅇㅇㅇ",null,null,null,{"$f":"IF(I23=\"\",\"\",(I23-총괄표!$H$3+1))","v":""}]
[{"$nulls":9},{"$f":"IF(I24=\"\",\"\",(I24-총괄표!$H$3+1))","v":""}]
[{"$nulls":9},{"$f":"IF(I25=\"\",\"\",(I25-총괄표!$H$3+1))","v":""}]
[{"$nulls":9},{"$f":"IF(I26=\"\",\"\",(I26-총괄표!$H$3+1))","v":""}]
[{"$f":"참여업체현황!I4","v":"전기설비"},{"$f":"IF(ROUNDDOWN(SUM(J27:J30)/30,0)=0,0,ROUNDDOWN(SUM(J27:J30)/30,0))","v":0},4,{"$f":"IF(B27<15,4,IF(B27<20,3.6,IF(B27<24,3.2,IF(B27<36,2.8,IF(B27>=36,2.4)))))","v":4},null,"ㅇㅇㅇ",null,null,null,{"$f":"IF(I27=\"\",\"\",(I27-총괄표!$H$3+1))","v":""}]
[{"$nulls":9},{"$f":"IF(I28=\"\",\"\",(I28-총괄표!$H$3+1))","v":""}]
[{"$nulls":9},{"$f":"IF(I29=\"\",\"\",(I29-총괄표!$H$3+1))","v":""}]
[{"$nulls":9},{"$f":"IF(I30=\"\",\"\",(I30-총괄표!$H$3+1))","v":""}]