{"text_format":"2","workbook":"xlsx","n_sheets":12,"sheets":["참여업체현황","참여기술자명단","자기평가서","가.개인별 경력 및 실적목록","가.해당분야 경력","가.직무분야 실적","가.교육훈련 이수 및 기술자격현황","가.과선교 수행실적","나.유사용역사업 수행실적","다.신용도","라.기술개발 및 투자실적","바.교체빈도"],"not_rendered":{"charts":0,"images":0,"macros":0,"external_links":0,"defined_names":36,"comments":1,"pivot_tables":0},"unopened":[],"bounds":{"document_bytes":16777216,"sheet_cells":100000,"run_cost":"one","rows_first":2000,"rows_last":500,"rows_between":2000,"halvings":0,"cell_chars":16384,"cell_head_chars":4096},"cells_cut":0,"cells_raw":0,"read":"whole","date_system":"1900"}

{"sheet":"참여업체현황","index":0,"n_rows":13,"n_cols":8,"rows_kept":13,"cut":false,"hidden":false,"merged":[[10,1,10,7],[11,1,11,7],[12,1,12,7],[0,1,0,7],[2,4,4,4],[2,3,4,3],[2,2,4,2],[2,1,4,1],[2,5,2,7],[3,6,3,7]]}
[null,"참여업체 현황"]
[{"$nulls":5},"공고일",null,"2014-10-15"]
[null,"업 체 명","주    소","대표자","지분율\n(%)","건설사업관리 등록증"]
[{"$nulls":5},"종합","설계 사업관리"]
[{"$nulls":5},"종합","일반","건설사업관리"]
[null,"A사","00시00동00번지","홍길동",0.6,"o"]
[null,"B사","00시00동00번지","홍삼둥",0.3,"o"]
[null,"C사","00시00동00번지","홍사덩",0.1,"o"]
[]
[null,"※ 작성유의사항"]
[null,"1. 빨강색으로 표시된 곳만 수정 입력하고 추가사항 있을시\n   \"셀 복사 → 복사한 셀 삽입\"을 통하여 기재하며, 계산식이 연동되었는지 확인한다."]
[null,"2. 공고일에 맞도록 날짜 수정 기입한다"]
[null,"3. 3개 업체 컨소시엄 기준으로 작성한 산정표 이므로\n   만약 2개 업체 컨소시엄으로 참여시 필요없는 셀은 삭제한다(수식 오류 수정 필요)"]

{"sheet":"참여기술자명단","index":1,"n_rows":10,"n_cols":11,"rows_kept":10,"cut":false,"hidden":false,"merged":[[6,1,9,1],[2,10,3,10],[0,1,0,10],[2,1,3,1],[2,2,3,2],[2,3,3,3],[2,4,3,4],[2,5,3,5],[2,7,2,8],[2,9,3,9]]}
[null,"참여기술자 명단(등급)"]
[]
[null,"구분","분야\n(등급)","성명","기술\n자격명","주민번호","나이","학력",null,"소속","비고"]
[{"$nulls":6},"(만 00세)","최종학력\n(학위)","졸업/\n취득일"]
[null,"책임\n건설사업\n관리기술자","토목분야\n(고급기술자)","홍길일","토목시공기술사","000-000",0,"석사","00-00-00","00엔지니어링"]
[null,"분야별\n건설사업\n관리기술자","토목분야\n(고급기술자)","홍길이","토목시공기술사","00-00",0,"학사","00-00-00","00기술단"]
[null,"기술지원\n기술자","토목분야\n(고급기술자)","홍길삼","토목시공기술사","00-00",0,"학사","00-00-00","00기술단"]
[null,null,"토목분야\n(고급기술자)","홍길사","토목구조기술사","00-00",0,"학사","00-00-00","00엔지니어링"]
[null,null,"토목분야\n(고급기술자)","홍길오","토질 지질 기술사","00-00",0,"학사","00-00-00","00감리단"]
[null,null,"토목분야\n(고급기술자)","홍길육","도로밍공항기술사"]

{"sheet":"자기평가서","index":2,"n_rows":45,"n_cols":8,"rows_kept":45,"cut":false,"hidden":false,"merged":[[37,1,39,1],[39,2,39,4],[38,3,38,4],[37,3,37,4],[42,1,44,1],[42,3,42,4],[43,3,43,4],[44,2,44,4],[40,1,40,4],[36,2,36,4],[34,1,36,1],[34,3,34,4],[35,3,35,4],[29,3,29,4],[30,3,30,4],[31,3,31,4],[32,3,32,4],[30,1,33,1],[0,1,0,7],[28,2,28,4],[33,2,33,4],[3,1,28,1],[10,2,15,2],[12,3,13,3],[16,2,20,2],[18,3,19,3],[15,3,15,4],[20,3,20,4],[2,3,2,4],[5,3,6,3],[7,3,8,3],[21,3,22,3],[25,3,25,4],[21,2,25,2],[23,3,24,3],[3,2,9,2],[9,3,9,4],[26,2,27,2],[27,3,27,4]]}
[null,"자기 평가서"]
[]
[null,"항목","세부항목","평가내용",null,"배점","평점","비고"]
[null,"가.참여\n기술자\n[60]","(1)책임\n건설사업\n관리기술자\n[23]","(가)등급","100~300억,1년이상,고급기술자","적.부","적"]
[null,null,null,"(나)해당분야경력(13)","해당분야100%,그외60%",13,{"$f":"'가.개인별 경력 및 실적목록'!F5","v":"13"}]
[null,null,null,"(다)직무분야실적(9)","설계",3,{"$f":"'가.개인별 경력 및 실적목록'!H5","v":"3"}]
[{"$nulls":4},"시공 등",6,{"$f":"'가.개인별 경력 및 실적목록'!J5","v":"6"}]
[null,null,null,"(라)교육훈련(1)","교육훈련",0.5,{"$f":"'가.교육훈련 이수 및 기술자격현황'!I5","v":"0.5"}]
[{"$nulls":4},"기술자격(기술사)",0.5,{"$f":"'가.교육훈련 이수 및 기술자격현황'!I21","v":"0.5"}]
[null,null,null,"소계",null,{"$f":"SUM(F4:F9)","v":23},{"$f":"G5+G6+G7+G8+G9","v":23}]
[null,null,"(2)분야별\n건설사업\n관리기술자\n[23]","(가)등급","고급기술자","적.부"]
[null,null,null,"(나)해당분야경력","해당분야100%,그외60%",13,{"$f":"'가.개인별 경력 및 실적목록'!F6","v":"13"}]
[null,null,null,"(다)직무분야실적","설계",3,{"$f":"'가.개인별 경력 및 실적목록'!H6","v":"3"}]
[{"$nulls":4},"시공 등",6,{"$f":"'가.개인별 경력 및 실적목록'!J6","v":"6"}]
[null,null,null,"(라)교육훈련","교육훈련",1,{"$f":"'가.교육훈련 이수 및 기술자격현황'!I7","v":"1"}]
[null,null,null,"소계",null,{"$f":"SUM(F11:F15)","v":23},{"$f":"G12+G13+G14+G15","v":23}]
[null,null,"(3)기술\n지원\n기술자\n[10]","(가)등급","고급 이상 : 3\n중급 이하 : 2",3,{"$f":"'가.교육훈련 이수 및 기술자격현황'!I23","v":3}]
[null,null,null,"(나)해당분야경력","해당분야100%,\n그외60%",6,{"$f":"'가.개인별 경력 및 실적목록'!F11","v":6}]
[null,null,null,"(라)교육훈련","교육훈련",0.5,{"$f":"'가.교육훈련 이수 및 기술자격현황'!I17","v":0.5}]
[{"$nulls":4},"기술자격(기술사)",0.5,{"$f":"'가.교육훈련 이수 및 기술자격현황'!I22","v":"0.5"}]
[null,null,null,"소계",null,{"$f":"SUM(F17:F20)","v":10},{"$f":"G17+G18+G19+G20","v":10}]
[null,null,"(4)면접\n   (발표)\n[3]","책임건설사업관리기술자","업무수행능력",1,"-"]
[{"$nulls":4},"자질,청렴도",1,"-"]
[null,null,null,"분야별건설사업관리기술자","업무수행능력",0.5,"-"]
[{"$nulls":4},"자질,청렴도",0.5,"-"]
[null,null,null,"소계",null,{"$f":"SUM(F22:F25)","v":3},null,"0점표기"]
[null,null,"(5)과선교 수행실적(1)","책임건설사업관리기술자","과선교 1년이상 수행경력",1,{"$f":"'가.과선교 수행실적'!L6","v":"1"}]
[null,null,null,"소계",null,{"$f":"F27","v":1},{"$f":"G27","v":"1"}]
[null,null,"계",null,null,{"$f":"F10+F16+F21+F26+F28","v":60},{"$f":"G10+G16+G21+G26+G28","v":57}]
[null,"나. 유사\n용역\n수행실적\n[10]","(1)건설\n사업관리\n용역업자\n실적","업체별 수행실적금액 합산하여 평가\n(최근 3년간)",null,10,{"$f":"'나.유사용역사업 수행실적'!J8","v":"9"}]
[null,"다. 신용도\n[15]","(1)입찰\n참가\n제한\n업무정지","건설사업관리용역업자(0.2점 감점/월)\n참여감리원(0.2점 감점/월)",null,7,{"$f":"F31-다.신용도!G7","v":6.4}]
[null,null,"(2)부실\n벌점","건설사업관리용역업자\n참여기술자",null,5,{"$f":"F32-다.신용도!G13","v":2}]
[null,null,"(3)재정\n상태\n건실도","신용평가등급",null,3,{"$f":"다.신용도!G17","v":2.85}]
[null,null,"계",null,null,{"$f":"SUM(F31:F33)","v":15},{"$f":"G31+G32+G33","v":11.25}]
[null,"라. 기술\n개발\n및 투자\n실적\n[10]","(1)개발\n실적","건설신기술, 특허, (개발,활용실적)",null,3,{"$f":"'라.기술개발 및 투자실적'!I7","v":3.25}]
[null,null,"(2)투자\n실적","3년간 \n기술개발투자실적/건설부문총매출액",null,7,{"$f":"'라.기술개발 및 투자실적'!O80","v":"6.4"}]
[null,null,"계",null,null,{"$f":"SUM(F35:F36)","v":10},{"$f":"G35+G36","v":9.65}]
[null,"바. 교체\n빈도","(1)건설\n사업관리\n용역업자","1년간 현장배치된 건설사업관리기술자수 교체빈도율",null,3,{"$f":"바.교체빈도!J11","v":"3"}]
[null,null,"(2)참여\n기술자","0.25점/회 감점( 상주 참여기술자)\n0.1점/회 감점(기술지원기술자)",null,2,{"$f":"바.교체빈도!H23","v":1.55}]
[null,null,"계",null,null,{"$f":"SUM(F38:F39)","v":5},{"$f":"G38+G39","v":4.55}]
[null,"총계",null,null,null,{"$f":"F29+F30+F34+F37+F40","v":100},{"$f":"G29+G30+G34+G37+G40","v":91.45}]
[]
[null,"가감점\n 평가기준","가점","공사비 절감기여 감리원"]
[null,null,"감점","부패행위 관련자"]
[null,null,"계"]

{"sheet":"가.개인별 경력 및 실적목록","index":3,"n_rows":11,"n_cols":10,"rows_kept":11,"cut":false,"hidden":false,"merged":[[6,1,10,1],[2,4,2,5],[2,6,2,9],[0,1,0,9],[2,1,3,1],[2,2,3,2],[2,3,3,3]]}
[null,"참여기술자 개인별 경력 및 실적목록"]
[]
[null,"구분","분야\n(등급)","성명","해당분야 경력(년)",null,"직무분야실적(년)"]
[{"$nulls":4},"분야별기술자는(월)","점수","설계 등(년)","점수","시공 등(년)","점수"]
[null,{"$f":"참여기술자명단!B5","v":"책임\n건설사업\n관리기술자"},"토목\n(고급기술자)",{"$f":"참여기술자명단!D5","v":"홍길일"},{"$f":"'가.해당분야 경력'!E17/365","v":19.056986301369864},{"$f":"IF(E5>=9,\"13\",IF(E5>=7,\"11.7\", IF(E5>=5,\"10.4\", IF(E5>=3,\"9.1\", IF(E5<3,\"7.8\")))))","v":"13"},{"$f":"('가.직무분야 실적'!D7/365)","v":33.024657534246572},{"$f":"IF(G5>=12,\"3\",IF(G5>=10,\"2.7\", IF(G5>=8,\"2.4\", IF(G5>=6,\"2.1\", IF(G5<6,\"1.8\")))))","v":"3"},{"$f":"'가.직무분야 실적'!D19/365","v":33.024657534246572},{"$f":"IF(I5>=5,\"6\",IF(I5>=4,\"5.4\", IF(I5>=3,\"4.8\", IF(I5>=2,\"4.2\", IF(I5<2,\"3.6\")))))","v":"6"}]
[null,{"$f":"참여기술자명단!B6","v":"분야별\n건설사업\n관리기술자"},"토목\n(고급기술자)","홍길이",{"$f":"'가.해당분야 경력'!E36/30.5","v":37.140983606557377},{"$f":"IF(E6>=36,\"13\",IF(E6>=28,\"11.7\", IF(E6>=20,\"10.4\", IF(E6>=12,\"9.1\", IF(E6<12,\"7.8\")))))","v":"13"},{"$f":"'가.직무분야 실적'!D37/365","v":33.024657534246572},{"$f":"IF(G6>=10,\"3\",IF(G6>=8,\"2.7\", IF(G6>=6,\"2.4\", IF(G6>=4,\"2.1\", IF(G6<4,\"1.8\")))))","v":"3"},{"$f":"'가.직무분야 실적'!D49/365","v":33.024657534246572},{"$f":"IF(I6>=4,\"6\",IF(I6>=3,\"5.4\",IF(I6>=2,\"4.8\",IF(I6<2,\"4.2\"))))","v":"6"}]
[null,{"$f":"참여기술자명단!B7:B10","v":"기술지원\n기술자"},"토목시공",{"$f":"참여기술자명단!D7","v":"홍길삼"},{"$f":"'가.해당분야 경력'!E58/365","v":19.056986301369864},{"$f":"IF(E7>=9,\"6\",IF(E7>=7,\"5.4\", IF(E7>=5,\"4.8\", IF(E7>=3,\"4.2\", IF(E7<3,\"3.6\")))))","v":"6"},"-","-","-","-"]
[null,null,"토목구조",{"$f":"참여기술자명단!D8","v":"홍길사"},{"$f":"'가.해당분야 경력'!E80/365","v":19.056986301369864},{"$f":"IF(E8>=9,\"6\",IF(E8>=7,\"5.4\", IF(E8>=5,\"4.8\", IF(E8>=3,\"4.2\", IF(E8<3,\"3.6\")))))","v":"6"},"-","-","-","-"]
[null,null,"토질및기초\n(지질및지반)",{"$f":"참여기술자명단!D9","v":"홍길오"},{"$f":"'가.해당분야 경력'!E102/365","v":19.056986301369864},{"$f":"IF(E9>=9,\"6\",IF(E9>=7,\"5.4\", IF(E9>=5,\"4.8\", IF(E9>=3,\"4.2\", IF(E9<3,\"3.6\")))))","v":"6"},"-","-","-","-"]
[null,null,"도로및공항",{"$f":"참여기술자명단!D10","v":"홍길육"},{"$f":"'가.해당분야 경력'!E124/365","v":19.056986301369864},"6","-","-","-","-"]
[null,null,"계",null,null,{"$f":"ROUND((F7+F8+F9+F10)/4,2)","v":6}]

{"sheet":"가.해당분야 경력","index":4,"n_rows":132,"n_cols":11,"rows_kept":132,"cut":false,"hidden":false,"merged":[[130,1,130,2],[131,1,131,2],[18,1,18,2],[19,1,19,2],[20,1,20,2],[22,1,22,2],[24,1,24,2],[23,1,23,2],[37,1,37,2],[38,1,38,2],[39,1,39,2],[41,1,41,2],[40,1,40,2],[42,1,42,2],[43,1,43,2],[59,1,59,2],[60,1,60,2],[61,1,61,2],[62,1,62,2],[129,1,129,2],[126,1,126,2],[127,1,127,2],[128,1,128,2],[85,1,85,2],[62,4,62,5],[84,4,84,5],[106,4,106,5],[53,5,53,6],[97,5,97,6],[119,5,119,6],[4,6,5,6],[125,1,125,2],[64,1,64,2],[65,1,65,2],[81,1,81,2],[82,1,82,2],[83,1,83,2],[84,1,84,2],[54,1,54,10],[55,1,56,2],[55,6,56,6],[55,7,55,9],[55,10,56,10],[75,5,75,6],[77,1,78,2],[77,6,78,6],[77,7,77,9],[121,6,122,6],[121,7,121,9],[121,10,122,10],[120,1,120,10],[121,3,121,5],[99,1,100,2],[99,6,100,6],[99,7,99,9],[99,10,100,10],[128,4,128,5],[108,1,108,2],[109,1,109,2],[107,1,107,2],[101,4,101,5],[102,1,102,2],[102,4,102,5],[103,1,103,2],[104,1,104,2],[105,1,105,2],[106,1,106,2],[124,4,124,5],[123,4,123,5],[124,1,124,2],[121,1,122,2],[79,4,79,5],[80,1,80,2],[80,4,80,5],[99,3,99,5],[35,4,35,5],[36,1,36,2],[36,4,36,5],[32,1,32,10],[33,1,34,2],[33,6,34,6],[33,7,33,9],[33,10,34,10],[77,10,78,10],[76,1,76,10],[63,1,63,2],[57,4,57,5],[58,1,58,2],[58,4,58,5],[55,3,55,5],[77,3,77,5],[98,1,98,10],[86,1,86,2],[87,1,87,2],[40,4,40,5],[10,1,10,10],[14,3,14,5],[33,3,33,5],[0,1,0,10],[17,4,17,5],[21,4,21,5],[21,1,21,2],[17,1,17,2],[6,1,6,2],[4,10,5,10],[4,7,4,9],[16,4,16,5],[13,1,13,10],[14,1,15,2],[14,6,15,6],[14,7,14,9],[14,10,15,10],[3,1,3,10],[4,1,5,2],[4,3,4,5]]}
[null,"책임건설사업관리기술자 등급판정"]
[]
[null,"○","책임건설사업관리기술자",null,{"$f":"참여기술자명단!D5","v":"홍길일"}]
[null,"경력사항"]
[null,"사업명",null,"공사개요(면적, 금액)",null,null,"공사종류 및 담당업무","참여당시",null,null,"발주처"]
[null,null,null,"연장,금액등","(참여기간)","(일수)",null,"소속회사","책임정도","직위"]
[null,"00교량공사",null,"연장 : 500m ","94.10.10~09.10.09",5479,"건설사업관리(시공단계)","00엔지니어링","책임건설사업기술자","과장","00시"]
[]
[]
[]
[null,"참여기술자 개인별 해당분야 경력"]
[]
[null,"○",{"$f":"참여기술자명단!B5","v":"책임\n건설사업\n관리기술자"},null,{"$f":"참여기술자명단!D5","v":"홍길일"}]
[null,"경력사항"]
[null,"사업명",null,"참여기간(인정일)",null,null,"공사종류 및 담당업무","참여당시",null,null,"발주처"]
[null,null,null,"시점","종정","(일수)",null,"소속회사","책임정도","직위"]
[null,"합계","총00건",null,{"$f":"E18+(E22*0.6)","v":6955.8}]
[null,"100%계",null,null,{"$f":"SUM(F19:F21)","v":6597}]
[null,"00교량공사",null,"1994.10.10","2009.10.09",1540,"교량/설계","00엔지니어링","책임건설사업기술자","과장","00시"]
[null,"00교량공사",null,"2009.10.10","2012.10.09",2642,"교량/설계","00엔지니어링","책임건설사업기술자","과장","00시"]
[null,"00교량공사",null,"2010.1010.","2012.10.09",2415,"교량/설계","00엔지니어링","책임건설사업기술자","과장","00시"]
[null,"60%계",null,null,{"$f":"SUM(F23:F25)","v":598}]
[null,"00부지조성공사",null,"1994.10.10","2009.10.09",124,"단지조성/설계","00엔지니어링","상주/보조","과장","00시"]
[null,"00부지조성공사",null,"2009.10.10","2012.10.09",221,"단지조성/설계","00엔지니어링","상주/보조","과장","00시"]
[null,"00부지조성공사",null,"2010.1010.","2012.10.09",253,"단지조성/설계","00엔지니어링","상주/보조","과장","00시"]
[]
[]
[]
[]
[]
[]
[null,"○",{"$f":"참여기술자명단!B6","v":"분야별\n건설사업\n관리기술자"},null,{"$f":"참여기술자명단!D6","v":"홍길이"}]
[null,"경력사항"]
[null,"사업명",null,"참여기간(인정일)",null,null,"담당업무","참여당시",null,null,"발주처"]
[null,null,null,"시점","종정","(일수)",null,"소속회사","책임정도","직위"]
[null,"합계","총00건",null,{"$f":"E37+(E41*0.6)","v":1132.8}]
[null,"100%계",null,null,{"$f":"SUM(F38:F40)","v":774}]
[null,"00교량공사",null,"1994.10.10","2009.10.09",300,"교량/설계","00엔지니어링","책임건설사업기술자","과장","00시"]
[null,"00교량공사",null,"2009.10.10","2012.10.09",221,"교량/설계","00엔지니어링","책임건설사업기술자","과장","00시"]
[null,"00교량공사",null,"2010.1010.","2012.10.09",253,"교량/설계","00엔지니어링","책임건설사업기술자","과장","00시"]
[null,"60%계",null,null,{"$f":"SUM(F42:F44)","v":598}]
[null,"00부지조성공사",null,"1994.10.10","2009.10.09",124,"단지조성/설계","00엔지니어링","상주/보조","과장","00시"]
[null,"00부지조성공사",null,"2009.10.10","2012.10.09",221,"단지조성/설계","00엔지니어링","상주/보조","과장","00시"]
[null,"00부지조성공사",null,"2010.1010.","2012.10.09",253,"단지조성/설계","00엔지니어링","상주/보조","과장","00시"]
{"$rows_empty":9}
[null,"○",{"$f":"참여기술자명단!B7","v":"기술지원\n기술자"},null,{"$f":"참여기술자명단!D7","v":"홍길삼"},{"$f":"'가.개인별 경력 및 실적목록'!C7","v":"토목시공"}]
[null,"경력사항"]
[null,"사업명",null,"참여기간(인정일)",null,null,"담당업무","참여당시",null,null,"발주처"]
[null,null,null,"시점","종정","(일수)",null,"소속회사","책임정도","직위"]
[null,"합계","총00건",null,{"$f":"E59+(E63*0.6)","v":6955.8}]
[null,"100%계",null,null,{"$f":"SUM(F60:F62)","v":6597}]
[null,"00교량공사",null,"1994.10.10","2009.10.09",1540,"교량/설계","00엔지니어링","책임건설사업기술자","과장","00시"]
[null,"00교량공사",null,"2009.10.10","2012.10.09",2642,"교량/설계","00엔지니어링","책임건설사업기술자","과장","00시"]
[null,"00교량공사",null,"2010.1010.","2012.10.09",2415,"교량/설계","00엔지니어링","책임건설사업기술자","과장","00시"]
[null,"60%계",null,null,{"$f":"SUM(F64:F66)","v":598}]
[null,"00부지조성공사",null,"1994.10.10","2009.10.09",124,"단지조성/설계","00엔지니어링","상주/보조","과장","00시"]
[null,"00부지조성공사",null,"2009.10.10","2012.10.09",221,"단지조성/설계","00엔지니어링","상주/보조","과장","00시"]
[null,"00부지조성공사",null,"2010.1010.","2012.10.09",253,"단지조성/설계","00엔지니어링","상주/보조","과장","00시"]
{"$rows_empty":9}
[null,"○",{"$f":"참여기술자명단!B7","v":"기술지원\n기술자"},null,{"$f":"참여기술자명단!D8","v":"홍길사"},{"$f":"'가.개인별 경력 및 실적목록'!C8","v":"토목구조"}]
[null,"경력사항"]
[null,"사업명",null,"참여기간(인정일)",null,null,"당당업무","참여당시",null,null,"발주처"]
[null,null,null,"시점","종정","(일수)",null,"소속회사","책임정도","직위"]
[null,"합계","총00건",null,{"$f":"E81+(E85*0.6)","v":6955.8}]
[null,"100%계",null,null,{"$f":"SUM(F82:F84)","v":6597}]
[null,"00교량공사",null,"1994.10.10","2009.10.09",1540,"교량/설계","00엔지니어링","책임건설사업기술자","과장","00시"]
[null,"00교량공사",null,"2009.10.10","2012.10.09",2642,"교량/설계","00엔지니어링","책임건설사업기술자","과장","00시"]
[null,"00교량공사",null,"2010.1010.","2012.10.09",2415,"교량/설계","00엔지니어링","책임건설사업기술자","과장","00시"]
[null,"60%계",null,null,{"$f":"SUM(F86:F88)","v":598}]
[null,"00부지조성공사",null,"1994.10.10","2009.10.09",124,"단지조성/설계","00엔지니어링","상주/보조","과장","00시"]
[null,"00부지조성공사",null,"2009.10.10","2012.10.09",221,"단지조성/설계","00엔지니어링","상주/보조","과장","00시"]
[null,"00부지조성공사",null,"2010.1010.","2012.10.09",253,"단지조성/설계","00엔지니어링","상주/보조","과장","00시"]
{"$rows_empty":9}
[null,"○",{"$f":"참여기술자명단!B7","v":"기술지원\n기술자"},null,{"$f":"참여기술자명단!D9","v":"홍길오"},{"$f":"'가.개인별 경력 및 실적목록'!C9","v":"토질및기초\n(지질및지반)"}]
[null,"경력사항"]
[null,"사업명",null,"참여기간(인정일)",null,null,"담당업무","참여당시",null,null,"발주처"]
[null,null,null,"시점","종정","(일수)",null,"소속회사","책임정도","직위"]
[null,"합계","총00건",null,{"$f":"E103+(E107*0.6)","v":6955.8}]
[null,"100%계",null,null,{"$f":"SUM(F104:F106)","v":6597}]
[null,"00교량공사",null,"1994.10.10","2009.10.09",1540,"교량/설계","00엔지니어링","책임건설사업기술자","과장","00시"]
[null,"00교량공사",null,"2009.10.10","2012.10.09",2642,"교량/설계","00엔지니어링","책임건설사업기술자","과장","00시"]
[null,"00교량공사",null,"2010.1010.","2012.10.09",2415,"교량/설계","00엔지니어링","책임건설사업기술자","과장","00시"]
[null,"60%계",null,null,{"$f":"SUM(F108:F110)","v":598}]
[null,"00부지조성공사",null,"1994.10.10","2009.10.09",124,"단지조성/설계","00엔지니어링","상주/보조","과장","00시"]
[null,"00부지조성공사",null,"2009.10.10","2012.10.09",221,"단지조성/설계","00엔지니어링","상주/보조","과장","00시"]
[null,"00부지조성공사",null,"2010.1010.","2012.10.09",253,"단지조성/설계","00엔지니어링","상주/보조","과장","00시"]
{"$rows_empty":9}
[null,"○",{"$f":"참여기술자명단!B7","v":"기술지원\n기술자"},null,{"$f":"참여기술자명단!D10","v":"홍길육"},{"$f":"'가.개인별 경력 및 실적목록'!C10","v":"도로및공항"}]
[null,"경력사항"]
[null,"사업명",null,"참여기간(인정일)",null,null,"담당업무","참여당시",null,null,"발주처"]
[null,null,null,"시점","종정","(일수)",null,"소속회사","책임정도","직위"]
[null,"합계","총00건",null,{"$f":"E125+(E129*0.6)","v":6955.8}]
[null,"100%계",null,null,{"$f":"SUM(F126:F128)","v":6597}]
[null,"00교량공사",null,"1994.10.10","2009.10.09",1540,"교량/설계","00엔지니어링","책임건설사업기술자","과장","00시"]
[null,"00교량공사",null,"2009.10.10","2012.10.09",2642,"교량/설계","00엔지니어링","책임건설사업기술자","과장","00시"]
[null,"00교량공사",null,"2010.1010.","2012.10.09",2415,"교량/설계","00엔지니어링","책임건설사업기술자","과장","00시"]
[null,"60%계",null,null,{"$f":"SUM(F130:F132)","v":598}]
[null,"00부지조성공사",null,"1994.10.10","2009.10.09",124,"단지조성/설계","00엔지니어링","상주/보조","과장","00시"]
[null,"00부지조성공사",null,"2009.10.10","2012.10.09",221,"단지조성/설계","00엔지니어링","상주/보조","과장","00시"]
[null,"00부지조성공사",null,"2010.1010.","2012.10.09",253,"단지조성/설계","00엔지니어링","상주/보조","과장","00시"]

{"sheet":"가.직무분야 실적","index":5,"n_rows":51,"n_cols":9,"rows_kept":51,"cut":false,"hidden":false,"merged":[[50,0,50,1],[37,0,37,1],[38,0,38,1],[46,8,47,8],[46,0,47,1],[46,2,47,2],[46,4,47,4],[46,5,46,7],[43,0,43,1],[44,0,44,1],[16,2,17,2],[16,4,17,4],[16,5,16,7],[16,8,17,8],[49,0,49,1],[34,2,35,2],[34,4,35,4],[34,5,34,7],[34,8,35,8],[34,0,35,1],[25,0,25,1],[26,0,26,1],[39,0,39,1],[40,0,40,1],[41,0,41,1],[42,0,42,1],[0,0,0,8],[19,0,19,1],[7,0,7,1],[8,0,8,1],[20,0,20,1],[16,0,17,1],[4,0,5,1],[4,4,5,4],[4,5,4,7],[4,8,5,8],[4,2,5,2],[9,0,9,1],[10,0,10,1],[11,0,11,1],[12,0,12,1],[13,0,13,1],[14,0,14,1],[21,0,21,1],[22,0,22,1],[23,0,23,1],[24,0,24,1],[56,0,56,1],[51,0,51,1],[52,0,52,1],[53,0,53,1],[54,0,54,1],[55,0,55,1],[5,5,5,6],[7,5,7,6],[8,5,8,6],[37,5,37,6],[38,5,38,6],[36,5,36,6]]}
["상주 건설사업관리기술자 개인별 직무분야 실적"]
[]
["○ 책임건설사업관리기술자 ",null,{"$f":"'가.해당분야 경력'!E3","v":"홍길일"}]
["  1) 토목분야 건설공사업무 실적<설계>"]
["사업명",null,"참여기간","실적","담당업무","참여당시",null,null,"발주처"]
[null,null,null,"(일수)",null,"소속회사",null,"직위"]
["계","총00건","-",{"$f":"SUM(D8:D15)","v":12054},"-","-","-","-","-"]
["00교량공사",null,"94.10.10~09.10.09",5479,"설계","00엔지니어링",null,"과장","00시"]
["00부지조성공사",null,"09.10.10~12.10.09",6575,"설계","00엔지니어링",null,"과장","00시"]
[]
[]
[]
[]
[]
[]
["  2) 토목분야 건설공사업무 실적<시공 등>"]
["사업명",null,"참여기간","실적","담당업무","참여당시",null,null,"발주처"]
[null,null,null,"(일수)",null,"소속회사","책임정도","직위"]
["계","총00건","-",{"$f":"SUM(D20:D27)","v":12054},"-","-","-","-","-"]
["00교량공사",null,"94.10.10~09.10.09",5479,"시공","00엔지니어링","현자대리인","과장","00시"]
["00부지조성공사",null,"09.10.10~12.10.09",6575,"시공","00엔지니어링","현장대리인","과장","00시"]
{"$rows_empty":11}
["○ 분야별건설사업관리기술자",null,{"$f":"'가.해당분야 경력'!E32","v":"홍길이"}]
["  1) 토목분야 건설공사업무 실적<설계>"]
["사업명",null,"참여기간","실적","담당업무","참여당시",null,null,"발주처"]
[null,null,null,"(일수)",null,"소속회사","책임정도","직위"]
["계","총00건","-",{"$f":"SUM(D38:D45)","v":12054},"-","-",null,"-","-"]
["00교량공사",null,"94.10.10~09.10.09",5479,"설계","00엔지니어링",null,"과장","00시"]
["00부지조성공사",null,"09.10.10~12.10.09",6575,"설계","00엔지니어링",null,"과장","00시"]
[]
[]
[]
[]
[]
[]
["  2) 토목분야 건설공사업무 실적<시공 등>"]
["사업명",null,"참여기간","실적","담당업무","참여당시",null,null,"발주처"]
[null,null,null,"(일수)",null,"소속회사","책임정도","직위"]
["계","총00건","-",{"$f":"SUM(D50:D57)","v":12054},"-","-","-","-","-"]
["00교량공사",null,"94.10.10~09.10.09",5479,"시공","00엔지니어링","현자대리인","과장","00시"]
["00부지조성공사",null,"09.10.10~12.10.09",6575,"시공","00엔지니어링","현장대리인","과장","00시"]

{"sheet":"가.교육훈련 이수 및 기술자격현황","index":6,"n_rows":26,"n_cols":13,"rows_kept":26,"cut":false,"hidden":false,"merged":[[19,1,19,2],[19,3,19,4],[24,3,24,4],[24,1,24,2],[22,8,25,8],[22,7,25,7],[23,1,23,2],[20,1,20,2],[21,1,21,2],[20,3,20,4],[21,3,21,4],[25,3,25,4],[25,1,25,2],[23,3,23,4],[22,3,22,4],[22,1,22,2],[12,2,13,2],[10,2,11,2],[14,8,15,8],[14,2,15,2],[14,3,15,3],[10,8,11,8],[12,8,13,8],[12,7,13,7],[12,3,13,3],[14,7,15,7],[10,7,11,7],[10,3,11,3],[0,1,0,8],[3,1,3,2],[4,7,5,7],[6,7,7,7],[8,7,9,7],[4,1,7,1],[4,2,5,2],[6,2,7,2],[4,8,5,8],[6,8,7,8],[8,8,9,8],[8,2,9,2],[4,3,5,3],[6,3,7,3],[8,3,9,3],[8,1,16,1]]}
[null,"교육훈련 이수 및 기술자격 현황"]
[]
[null,"가. 교육훈련"]
[null,"구분",null,"성명","교육과정명","교육기관","교육기간","이수기간","점수"]
[null,"상주\n건설사업\n관리기술자","책임\n건설사업\n관리기술자",{"$f":"참여기술자명단!D5","v":"홍길일"},"수석감리사 전문1","건설기술교육원","11.11.11~ 11.11.16",2,{"$f":"IF(H5>=2,\"0.5\",IF(H5=0,\"0\",IF(H5<2,\"0.3\")))","v":"0.5"},null,0]
[{"$nulls":4},"수석감리사 전문2","건설기술교육원","11.11.19~ 11.11.123",null,null,null,1]
[null,null,"분야별\n건설사업\n관리기술자",{"$f":"참여기술자명단!D6","v":"홍길이"},"수석감리사 전문1","건설기술교육원","11.11.11~ 11.11.16",2,{"$f":"IF(H7>=2,\"1\",IF(H7=0,\"0\",IF(H7<2,\"0.5\")))","v":"1"},null,2]
[{"$nulls":4},"안전관리 담당 전문","건설기술교육원","11.11.19~ 11.11.123"]
[null,"기술\n지원\n기술자","토목시공",{"$f":"참여기술자명단!D7","v":"홍길삼"},"수석감리사 전문1","건설기술교육원","11.11.11~ 11.11.16",2,{"$f":"IF(H9>=2,\"0.5\",IF(H9=0,\"0\",IF(H9<2,\"0.3\")))","v":"0.5"}]
[{"$nulls":4},"수석감리사 전문2","건설기술교육원","11.11.19~ 11.11.123"]
[null,null,"토목구조",{"$f":"참여기술자명단!D8","v":"홍길사"},"수석감리사 전문1","건설기술교육원","11.11.11~ 11.11.16",2,{"$f":"IF(H11>=2,\"0.5\",IF(H11=0,\"0\",IF(H11<2,\"0.3\")))","v":"0.5"}]
[{"$nulls":4},"수석감리사 전문2","건설기술교육원","11.11.19~ 11.11.123"]
[null,null,"토질지질",{"$f":"참여기술자명단!D9","v":"홍길오"},"수석감리사 전문1","건설기술교육원","11.11.11~ 11.11.16",2,{"$f":"IF(H13>=2,\"0.5\",IF(H13=0,\"0\",IF(H13<2,\"0.3\")))","v":"0.5"}]
[{"$nulls":4},"수석감리사 전문2","건설기술교육원","11.11.19~ 11.11.123"]
[null,null,"도로및공항",{"$f":"참여기술자명단!D9","v":"홍길오"},"수석감리사 전문1","건설기술교육원","11.11.11~ 11.11.16",2,{"$f":"IF(H15>=2,\"0.5\",IF(H15=0,\"0\",IF(H15<2,\"0.3\")))","v":"0.5"}]
[{"$nulls":4},"수석감리사 전문2","건설기술교육원","11.11.19~ 11.11.123"]
[{"$nulls":8},{"$f":"ROUND((I9+I11+I13+I15)/4,2)","v":0.5}]
[]
[null,"나.  책임건설사업관리기술자 및 기술지원기술자 기술자격 현황"]
[null,"성명",null,"자격등급",null,"자격종목","자격증번호","비고","점수"]
[null,"책임건설기술\n사업관리기술자",null,"기술사",null,"토목시공","-","자격증평가",{"$f":"IF(D21=\"기술사\",\"0.5\",IF(D21=\"기사\",\"0.3\",IF(D21=\"산업기사\",\"0.1\")))","v":"0.5"},null,"기술사","특급기술자","특급기술자"]
[null,"기술지원기술자\n(자격증평가)",null,"기술사",null,"토목시공","-","자격증평가",{"$f":"IF(D22=\"기술사\",\"0.5\",IF(D22=\"기사\",\"0.3\",IF(D22=\"산업기사\",\"0.1\")))","v":"0.5"},null,"기사","고급기술자","고급기술자"]
[null,"기술지원기술자",null,"고급기술자",null,"도로및 공항",{"$f":"IF(D23=\"고급기술자\",\"3\",IF(D23=\"중급기술자 이하\",\"2\"))","v":"3"},"등급평가",{"$f":"ROUND((G23+G24+G25+G26)/4,2)","v":3},null,"산업기사",null,"중급기술자"]
[null,"기술지원기술자",null,"고급기술자",null,"토질 및 기초",{"$f":"IF(D24=\"고급기술자\",\"3\",IF(D24=\"중급기술자 이하\",\"2\"))","v":"3"}]
[null,"기술지원기술자",null,"고급기술자",null,"토목시공",{"$f":"IF(D25=\"고급기술자\",\"3\",IF(D25=\"중급기술자 이하\",\"2\"))","v":"3"}]
[null,"기술지원기술자",null,"고급기술자",null,"토목구조",{"$f":"IF(D26=\"고급기술자\",\"3\",IF(D26=\"중급기술자 이하\",\"2\"))","v":"3"},null,null,null,"없음"]

{"sheet":"가.과선교 수행실적","index":7,"n_rows":6,"n_cols":12,"rows_kept":6,"cut":false,"hidden":false,"merged":[[5,1,5,2],[3,11,4,11],[3,10,4,10],[0,1,0,9],[3,1,3,9],[4,1,4,2]]}
[null,"책임건설사업관리기술자 과선교 수행실적"]
[]
[null,"○","책임건설사업관리기술자",{"$f":"참여기술자명단!D5","v":"홍길일"}]
[null,"경력사항",{"$nulls":8},"과선교 수행년수","평가점수"]
[null,"사업명",null,"참여기간","일수","공사종류","담당업무","책임정도","직위","발주청"]
[null,"00교량공사",null,"94.10.10~09.10.09",365,"교량(과선교)","건설사업관리(시공단계)","책임건설사업기술자","부장","00시",{"$f":"E6/365","v":1},{"$f":"IF(K6>=1,\"1\",IF(K6=0,\"0\",(IF(K6<1,\"0\"))))","v":"1"}]

{"sheet":"나.유사용역사업 수행실적","index":8,"n_rows":62,"n_cols":14,"rows_kept":62,"cut":false,"hidden":false,"merged":[[60,1,61,1],[60,2,61,2],[60,3,61,3],[60,4,61,4],[60,5,61,5],[60,9,61,9],[61,6,61,7],[58,1,59,1],[58,2,59,2],[58,3,59,3],[58,4,59,4],[58,5,59,5],[58,9,59,9],[59,6,59,7],[51,1,52,1],[47,6,47,7],[42,9,43,9],[53,5,54,5],[53,9,54,9],[54,6,54,7],[55,1,56,1],[55,2,56,2],[55,3,56,3],[55,4,56,4],[55,5,56,5],[55,9,56,9],[56,6,56,7],[53,1,54,1],[53,2,54,2],[53,3,54,3],[53,4,54,4],[42,1,43,1],[42,2,43,2],[42,3,43,3],[42,4,43,4],[42,5,43,5],[43,6,43,7],[47,1,48,1],[40,1,41,1],[40,2,41,2],[40,3,41,3],[40,4,41,4],[40,5,41,5],[40,9,41,9],[37,1,38,1],[37,2,38,2],[37,3,38,3],[41,6,41,7],[35,1,36,1],[35,2,36,2],[35,3,36,3],[35,4,36,4],[35,5,36,5],[35,9,36,9],[36,6,36,7],[37,4,38,4],[37,5,38,5],[37,9,38,9],[38,6,38,7],[19,1,20,1],[19,2,20,2],[19,3,20,3],[19,4,20,4],[19,5,20,5],[20,6,20,7],[33,1,34,1],[33,2,34,2],[33,3,34,3],[33,4,34,4],[33,5,34,5],[23,6,23,7],[24,1,25,1],[24,2,25,2],[24,3,25,3],[24,4,25,4],[24,5,25,5],[25,6,25,7],[29,1,30,1],[29,2,30,2],[29,3,30,3],[34,6,34,7],[22,1,23,1],[22,2,23,2],[11,1,12,1],[15,1,16,1],[11,6,11,7],[15,2,16,2],[15,3,16,3],[15,4,16,4],[0,1,0,10],[7,3,7,5],[17,1,18,1],[11,10,12,10],[15,10,16,10],[17,10,18,10],[3,3,3,5],[4,3,4,5],[5,3,5,5],[6,3,6,5],[17,9,18,9],[15,9,16,9],[11,3,12,3],[15,5,16,5],[16,6,16,7],[17,2,18,2],[11,2,12,2],[17,3,18,3],[51,2,52,2],[51,3,52,3],[51,4,52,4],[51,5,52,5],[51,9,52,9],[52,6,52,7],[19,10,20,10],[19,9,20,9],[47,2,48,2],[47,3,48,3],[29,10,30,10],[47,10,48,10],[33,10,34,10],[35,10,36,10],[37,10,38,10],[51,10,52,10],[53,10,54,10],[55,10,56,10],[17,4,18,4],[17,5,18,5],[18,6,18,7],[22,9,23,9],[24,9,25,9],[33,9,34,9],[22,3,23,3],[22,4,23,4],[22,5,23,5],[29,6,29,7]]}
[null,"유사용역사업 수행실적"]
[{"$nulls":9},"산정시작일",{"$f":"K3-365*3","v":"2011-10-16"}]
[{"$nulls":9},"공고일",{"$f":"참여업체현황!H2","v":"2014-10-15"}]
[null,"구분","업체명","적용금액\n(A, 천원)",null,null,"참여지분율\n(B, %)","수행실적\n(A×B, 천원)","수행실적\n(억원)","평가점수"]
[null,1,{"$f":"참여업체현황!B6","v":"A사"},{"$f":"J14","v":3194319.5697766119},null,null,{"$f":"참여업체현황!E6","v":0.6},{"$f":"D5*G5","v":1916591.7418659669}]
[null,2,{"$f":"참여업체현황!B7","v":"B사"},{"$f":"J32","v":1907417.1552169845},null,null,{"$f":"참여업체현황!E7","v":0.3},{"$f":"D6*G6","v":572225.14656509529}]
[null,3,{"$f":"참여업체현황!B8","v":"C사"},{"$f":"J50","v":1907417.1552169845},null,null,{"$f":"참여업체현황!E8","v":0.1},190741.71552169847]
[null,null,"계",{"$nulls":4},{"$f":"SUM(H5:H7)","v":2679558.6039527603},{"$f":"H8/100000","v":26.795586039527603},{"$f":"IF(I8>=30,\"10\",IF(I8>=25,\"9\", IF(I8>=20,\"8\", IF(I8>=15,\"7\", IF(I8<15,\"6\")))))","v":"9"}]
[]
[]
[null,"○",{"$f":"참여업체현황!B6","v":"A사"}]
[null,"구분","용역명","발주처","준공(계약)\n금액(천원)","도급비율\n(%)","전체사업기간(일)\n(C )",null,"해당기간\n(일)","적용금액\n(천원)","비고"]
[{"$nulls":4},"(A)","(B)","시작","종료","(D)","(A×B×D/C)"]
[null,"합계",null,"총00건",{"$nulls":5},{"$f":"J15+(J22*0.6)","v":3194319.5697766119}]
[null,"해당\n분야",1,{"$nulls":6},{"$f":"SUM(J16:J21)*100%","v":3003966.1394231813},null,null,"산정시작 앞","공고일 뒤"]
[null,1,"000교량공사\n건설사업관리용역","00공사",2000000,1,"2011-10-02","2013-10-01",null,{"$f":"E16*F16*I17/G17","v":1961696.3064295487},"완료"]
[{"$nulls":6},{"$f":"IF(H16-G16=0,\" \",IF(H16-G16>0,H16-G16+1))","v":731},null,{"$f":"G17-M17-N17","v":717},null,null,null,{"$f":"IF($K$2-G16<=0, \"0\",IF($K$2-G16>0, $K$2-G16))","v":14},{"$f":"IF(H16-$K$3<=0, \"0\",IF(H16-$K$3>0, H16-$K$3))","v":"0"}]
[null,2,"000교량공사\n건설사업관리용역","00공사",1000000,0.5,"2010-01-03","2016-01-01",null,{"$f":"E18*F18*I19/G19","v":250228.3105022831},"진행"]
[{"$nulls":6},{"$f":"IF(H18-G18=0,\" \",IF(H18-G18>0,H18-G18+1))","v":2190},null,{"$f":"G19-M19-N19","v":1096},null,null,null,{"$f":"IF($K$2-G18<=0, \"0\",IF($K$2-G18>0, $K$2-G18))","v":651},{"$f":"IF(H18-$K$3<=0, \"0\",IF(H18-$K$3>0, H18-$K$3))","v":443}]
[null,3,"000교량공사\n건설사업관리용역","00공사",3000000,0.7,"2010-10-21","2012-05-20",null,{"$f":"E20*F20*I21/G21","v":792041.52249134949},"완료"]
[{"$nulls":6},{"$f":"IF(H20-G20=0,\" \",IF(H20-G20>0,H20-G20+1))","v":578},null,{"$f":"G21-M21-N21","v":218},null,null,null,{"$f":"IF($K$2-G20<=0, \"0\",IF($K$2-G20>0, $K$2-G20))","v":360},{"$f":"IF(H20-$K$3<=0, \"0\",IF(H20-$K$3>0, H20-$K$3))","v":"0"}]
[null,"기타\n분야",0.6,{"$nulls":6},{"$f":"SUM(J23:J26)","v":317255.71725571726}]
[null,1,"000부지조성공사\n건설사업관리용역","00시",1000000,0.8,"2009-10-02","2012-05-20",null,{"$f":"E23*F23*I24/G24","v":181288.98128898127}]
[{"$nulls":6},{"$f":"IF(H23-G23=0,\" \",IF(H23-G23>0,H23-G23+1))","v":962},null,{"$f":"G24-M24-N24","v":218},null,null,null,{"$f":"IF($K$2-G23<=0, \"0\",IF($K$2-G23>0, $K$2-G23))","v":744},{"$f":"IF(H23-$K$3<=0, \"0\",IF(H23-$K$3>0, H23-$K$3))","v":"0"}]
[null,2,"000부지조성공사\n건설사업관리용역","00시",1200000,0.5,"2009-10-02","2012-05-20",null,{"$f":"E25*F25*I26/G26","v":135966.73596673596}]
[{"$nulls":6},{"$f":"IF(H25-G25=0,\" \",IF(H25-G25>0,H25-G25+1))","v":962},null,{"$f":"G26-M26-N26","v":218},null,null,null,{"$f":"IF($K$2-G25<=0, \"0\",IF($K$2-G25>0, $K$2-G25))","v":744},{"$f":"IF(H25-$K$3<=0, \"0\",IF(H25-$K$3>0, H25-$K$3))","v":"0"}]
[]
[]
[null,"○",{"$f":"참여업체현황!B7","v":"B사"}]
[null,"구분","용역명","발주처","준공(계약)\n금액(천원)","도급비율\n(%)","전체사업기간(일)\n(C )",null,"해당기간\n(일)","적용금액\n(천원)","비고"]
[{"$nulls":4},"(A)","(B)","시작","종료","(D)","(A×B×D/C)"]
[null,"합계",null,"총00건",{"$nulls":5},{"$f":"J33+(J40*0.6)","v":1907417.1552169845}]
[null,"해당\n분야",1,{"$nulls":6},{"$f":"SUM(J34:J39)*100%","v":1717063.7248635541},null,null,"산정시작 앞","공고일 뒤"]
[null,1,"000교량공사\n건설사업관리용역","00공사",1000000,1,"2011-10-02","2013-10-01",null,{"$f":"E34*F34*I35/G35","v":980848.15321477433},"완료"]
[{"$nulls":6},{"$f":"IF(H34-G34=0,\" \",IF(H34-G34>0,H34-G34+1))","v":731},null,{"$f":"G35-M35-N35","v":717},null,null,null,{"$f":"IF($K$2-G34<=0, \"0\",IF($K$2-G34>0, $K$2-G34))","v":14},{"$f":"IF(H34-$K$3<=0, \"0\",IF(H34-$K$3>0, H34-$K$3))","v":"0"}]
[null,2,"000교량공사\n건설사업관리용역","00공사",1000000,0.5,"2010-01-03","2016-01-01",null,{"$f":"E36*F36*I37/G37","v":250228.3105022831},"진행"]
[{"$nulls":6},{"$f":"IF(H36-G36=0,\" \",IF(H36-G36>0,H36-G36+1))","v":2190},null,{"$f":"G37-M37-N37","v":1096},null,null,null,{"$f":"IF($K$2-G36<=0, \"0\",IF($K$2-G36>0, $K$2-G36))","v":651},{"$f":"IF(H36-$K$3<=0, \"0\",IF(H36-$K$3>0, H36-$K$3))","v":443}]
[null,3,"000교량공사\n건설사업관리용역","00공사",3000000,0.7,"2009-10-22","2012-05-20",null,{"$f":"E38*F38*I39/G39","v":485987.26114649681},"완료"]
[{"$nulls":6},{"$f":"IF(H38-G38=0,\" \",IF(H38-G38>0,H38-G38+1))","v":942},null,{"$f":"G39-M39-N39","v":218},null,null,null,{"$f":"IF($K$2-G38<=0, \"0\",IF($K$2-G38>0, $K$2-G38))","v":724},{"$f":"IF(H38-$K$3<=0, \"0\",IF(H38-$K$3>0, H38-$K$3))","v":"0"}]
[null,"기타\n분야",0.6,{"$nulls":6},{"$f":"SUM(J41:J44)","v":317255.71725571726}]
[null,1,"000부지조성공사\n건설사업관리용역","00시",1000000,0.8,"2009-10-02","2012-05-20",null,{"$f":"E41*F41*I42/G42","v":181288.98128898127}]
[{"$nulls":6},{"$f":"IF(H41-G41=0,\" \",IF(H41-G41>0,H41-G41+1))","v":962},null,{"$f":"G42-M42-N42","v":218},null,null,null,{"$f":"IF($K$2-G41<=0, \"0\",IF($K$2-G41>0, $K$2-G41))","v":744},{"$f":"IF(H41-$K$3<=0, \"0\",IF(H41-$K$3>0, H41-$K$3))","v":"0"}]
[null,2,"000부지조성공사\n건설사업관리용역","00시",1200000,0.5,"2009-10-02","2012-05-20",null,{"$f":"E43*F43*I44/G44","v":135966.73596673596}]
[{"$nulls":6},{"$f":"IF(H43-G43=0,\" \",IF(H43-G43>0,H43-G43+1))","v":962},null,{"$f":"G44-M44-N44","v":218},null,null,null,{"$f":"IF($K$2-G43<=0, \"0\",IF($K$2-G43>0, $K$2-G43))","v":744},{"$f":"IF(H43-$K$3<=0, \"0\",IF(H43-$K$3>0, H43-$K$3))","v":"0"}]
[]
[]
[null,"○",{"$f":"참여업체현황!B8","v":"C사"}]
[null,"구분","용역명","발주처","준공(계약)\n금액(천원)","도급비율\n(%)","전체사업기간(일)\n(C )",null,"해당기간\n(일)","적용금액\n(천원)","비고"]
[{"$nulls":4},"(A)","(B)","시작","종료","(D)","(A×B×D/C)"]
[null,"합계",null,"총00건",{"$nulls":5},{"$f":"J51+(J58*0.6)","v":1907417.1552169845}]
[null,"해당\n분야",1,{"$nulls":6},{"$f":"SUM(J52:J57)*100%","v":1717063.7248635541},null,null,"산정시작 앞","공고일 뒤"]
[null,1,"000교량공사\n건설사업관리용역","00공사",1000000,1,"2011-10-02","2013-10-01",null,{"$f":"E52*F52*I53/G53","v":980848.15321477433},"완료"]
[{"$nulls":6},{"$f":"IF(H52-G52=0,\" \",IF(H52-G52>0,H52-G52+1))","v":731},null,{"$f":"G53-M53-N53","v":717},null,null,null,{"$f":"IF($K$2-G52<=0, \"0\",IF($K$2-G52>0, $K$2-G52))","v":14},{"$f":"IF(H52-$K$3<=0, \"0\",IF(H52-$K$3>0, H52-$K$3))","v":"0"}]
[null,2,"000교량공사\n건설사업관리용역","00공사",1000000,0.5,"2010-01-03","2016-01-01",null,{"$f":"E54*F54*I55/G55","v":250228.3105022831},"진행"]
[{"$nulls":6},{"$f":"IF(H54-G54=0,\" \",IF(H54-G54>0,H54-G54+1))","v":2190},null,{"$f":"G55-M55-N55","v":1096},null,null,null,{"$f":"IF($K$2-G54<=0, \"0\",IF($K$2-G54>0, $K$2-G54))","v":651},{"$f":"IF(H54-$K$3<=0, \"0\",IF(H54-$K$3>0, H54-$K$3))","v":443}]
[null,3,"000교량공사\n건설사업관리용역","00공사",3000000,0.7,"2009-10-22","2012-05-20",null,{"$f":"E56*F56*I57/G57","v":485987.26114649681},"완료"]
[{"$nulls":6},{"$f":"IF(H56-G56=0,\" \",IF(H56-G56>0,H56-G56+1))","v":942},null,{"$f":"G57-M57-N57","v":218},null,null,null,{"$f":"IF($K$2-G56<=0, \"0\",IF($K$2-G56>0, $K$2-G56))","v":724},{"$f":"IF(H56-$K$3<=0, \"0\",IF(H56-$K$3>0, H56-$K$3))","v":"0"}]
[null,"기타\n분야",0.6,{"$nulls":6},{"$f":"SUM(J59:J62)","v":317255.71725571726}]
[null,1,"000부지조성공사\n건설사업관리용역","00시",1000000,0.8,"2009-10-02","2012-05-20",null,{"$f":"E59*F59*I60/G60","v":181288.98128898127}]
[{"$nulls":6},{"$f":"IF(H59-G59=0,\" \",IF(H59-G59>0,H59-G59+1))","v":962},null,{"$f":"G60-M60-N60","v":218},null,null,null,{"$f":"IF($K$2-G59<=0, \"0\",IF($K$2-G59>0, $K$2-G59))","v":744},{"$f":"IF(H59-$K$3<=0, \"0\",IF(H59-$K$3>0, H59-$K$3))","v":"0"}]
[null,2,"000부지조성공사\n건설사업관리용역","00시",1200000,0.5,"2009-10-02","2012-05-20",null,{"$f":"E61*F61*I62/G62","v":135966.73596673596}]
[{"$nulls":6},{"$f":"IF(H61-G61=0,\" \",IF(H61-G61>0,H61-G61+1))","v":962},null,{"$f":"G62-M62-N62","v":218},null,null,null,{"$f":"IF($K$2-G61<=0, \"0\",IF($K$2-G61>0, $K$2-G61))","v":744},{"$f":"IF(H61-$K$3<=0, \"0\",IF(H61-$K$3>0, H61-$K$3))","v":"0"}]

{"sheet":"다.신용도","index":9,"n_rows":27,"n_cols":13,"rows_kept":27,"cut":false,"hidden":false,"merged":[[0,1,0,7],[20,9,22,9],[23,9,25,9],[9,3,9,4],[15,9,19,9],[10,3,10,4],[11,3,11,4],[16,6,18,6]]}
[null,"신용도"]
[]
[null,"가. 입찰참가제한 또는 업무정지기간"]
[null,"회사명\n(또는 성명)","입찰참가제한 및 영업정지 기간\n(자격정지 및 업무정지)","기간(월)","조치기관명","사유요약","점수","비고"]
[null,"00엔지니어링","2014.01.01~2014.03.01",2,"00시","과징금",{"$f":"D5*0.2","v":0.4},"건설사업관리용역업자",null,null,"입찰참가제한","기술자격정지"]
[null,"ooo","2014.01.01~2014.03.01",1,"00시","기술자격정지",{"$f":"D6*0.2","v":0.2},"참여기술자",null,null,"영업정지","업무정지"]
[null,"합계",{"$nulls":4},{"$f":"SUM(G5:G6)","v":0.60000000000000009},null,null,null,"과장금"]
[]
[null,"나. 부실벌점"]
[null,"회사명\n(또는 성명)","부실벌점","해당 건설사업관리",null,"사유","점수","비고"]
[null,"00엔지니어링",3,null,null,null,3]
[null,"ooo"]
[null,"합계",{"$nulls":4},{"$f":"SUM(G11:G12)","v":3}]
[]
[null,"다. 재정상태건실도",{"$nulls":7},"점 수","회사채의\n신용평가등급","기업어음의\n신용평가등급","기업 신용평가등급"]
[null,"회사명","신용평가등급","평가점수\n(A)","지분율\n(B, %)","환산점수\n(A×B)","평가합계","비고",null,3,"AAA","-","(회사채에 대한 신용평가등급\nAAA에 준하는 등급) "]
[null,{"$f":"참여업체현황!B6","v":"A사"},"AA+",3,{"$f":"참여업체현황!E6","v":0.6},{"$f":"D17*E17","v":1.7999999999999998},{"$f":"ROUND(SUM(F17:F19),2)","v":2.85},"회사채",null,null,"AA+, AA0, AA-","A1","(회사채에 대한 신용평가등급 AA＋, AA0, AA-에 준하는 등급)"]
[null,{"$f":"참여업체현황!B7","v":"B사"},"BBB+",2.7,{"$f":"참여업체현황!E7","v":0.3},{"$f":"D18*E18","v":0.81},null,"회사채",null,null,"A+","A2+","(회사채에 대한 신용평가등급 A＋에 준하는 등급)"]
[null,{"$f":"참여업체현황!B8","v":"C사"},"BB+",2.4,{"$f":"참여업체현황!E8","v":0.1},0.24,null,"회사채",null,null,"A0","A20","(회사채에 대한 신용평가등급 A0에 준하는 등급)"]
[{"$nulls":10},"A-","A2-","(회사채에 대한 신용평가등급 A-에 준하는 등급)"]
[{"$nulls":9},2.7,"BBB+","A3+","(회사채에 대한 신용평가등급 BBB＋에 준하는 등급)"]
[{"$nulls":10},"BBB0","A30","(회사채에 대한 신용평가등급 BBB0에 준하는 등급)"]
[{"$nulls":10},"BBB-","A3-","(회사채에 대한 신용평가등급 BBB-에 준하는 등급)"]
[{"$nulls":9},2.4,"BB+, BB0","B+","(회사채에 대한 신용평가등급 BB＋, BB0에 준하는 등급)"]
[{"$nulls":10},"BB-","B0","(회사채에 대한 신용평가등급 BB-에 준하는 등급)"]
[{"$nulls":10},"B+, B0, B-","B-","(회사채에 대한 신용평가등급 B＋, B0, B-에 준하는 등급)"]
[{"$nulls":9},2.1,"CCC+이하","C 이하","(회사채에 대한 신용평가등급 CCC＋ 이하에 준하는 등급)"]

{"sheet":"라.기술개발 및 투자실적","index":10,"n_rows":80,"n_cols":26,"rows_kept":80,"cut":false,"hidden":false,"merged":[[0,1,0,11],[11,1,14,1],[23,1,26,1],[9,16,9,17],[30,16,30,17],[9,14,10,14],[30,13,31,13],[30,14,31,14],[2,1,2,3],[2,4,2,6],[3,1,3,3],[4,1,4,3],[5,1,5,3],[3,4,3,6],[4,4,4,6],[30,5,31,5],[30,7,31,12],[5,4,5,6],[6,1,6,6],[9,13,10,13],[30,1,31,1],[9,5,10,5],[17,1,20,1],[20,2,20,12],[79,1,79,2],[30,6,31,6],[9,1,10,1],[9,2,10,2],[9,3,10,3],[9,4,10,4],[9,6,10,6],[27,1,27,12],[14,2,14,12],[26,2,26,12],[65,1,68,1],[68,2,68,12],[69,1,69,12],[30,4,31,4],[51,1,52,1],[51,2,52,2],[32,1,35,1],[35,2,35,12],[51,3,52,3],[51,4,52,4],[32,7,32,12],[33,7,33,12],[15,1,16,1],[15,2,16,2],[57,13,58,13],[56,2,56,12],[57,7,57,8],[57,10,57,11],[57,6,58,6],[51,6,52,6],[73,14,74,14],[73,3,74,4],[75,3,75,4],[73,6,73,7],[73,8,73,9],[73,10,73,11],[51,13,52,13],[51,14,52,14],[57,3,58,3],[57,4,58,4],[57,5,58,5],[51,5,52,5],[51,7,52,12],[53,7,53,12],[54,7,54,12],[55,7,55,12],[57,12,58,12],[15,3,16,3],[15,4,16,4],[15,5,16,5],[15,6,16,6],[15,7,15,8],[30,2,31,2],[30,3,31,3],[78,12,78,13],[73,1,74,2],[75,1,75,2],[76,1,76,2],[77,1,77,2],[78,1,78,2],[73,12,74,13],[75,12,75,13],[76,12,76,13],[77,12,77,13],[76,3,76,4],[77,3,77,4],[44,1,47,1],[47,2,47,12],[48,1,48,12],[42,1,43,1],[42,2,43,2],[9,7,10,12],[11,7,11,12],[12,7,12,12],[13,7,13,12],[15,10,15,11],[15,12,16,12],[15,13,16,13],[15,14,16,14],[15,16,15,17],[21,14,22,14],[21,16,21,17],[21,7,22,7],[21,8,22,8],[21,6,22,6],[21,10,21,11],[21,12,22,12],[21,13,22,13],[21,1,22,1],[21,2,22,2],[21,3,22,3],[21,4,22,4],[21,5,22,5],[34,7,34,12],[36,1,37,1],[36,2,37,2],[36,3,37,3],[36,4,37,4],[36,5,37,5],[36,6,37,6],[36,7,36,8],[36,10,36,11],[36,12,37,12],[42,4,43,4],[42,5,43,5],[42,6,43,6],[42,7,43,7],[42,8,43,8],[42,10,42,11],[42,12,43,12],[53,1,56,1],[36,16,36,17],[38,1,41,1],[41,2,41,12],[36,13,37,13],[36,14,37,14],[57,1,58,1],[57,2,58,2],[42,16,42,17],[42,13,43,13],[42,14,43,14],[51,16,51,17],[63,16,63,17],[57,14,58,14],[57,16,57,17],[59,1,62,1],[62,2,62,12],[63,1,64,1],[63,2,64,2],[63,3,64,3],[63,4,64,4],[63,5,64,5],[63,6,64,6],[63,7,64,7],[63,8,64,8],[63,10,63,11],[63,12,64,12],[63,13,64,13],[63,14,64,14],[42,3,43,3]]}
[null,"기술개발 및 투자실적",{"$nulls":14},"신기술",1,0.9,0.8,0.7,0.6,"구분","5년미만","5년이상\n10년미만","10년이상\n20년미만"]
[null,"가. 개발실적",{"$nulls":14},"실적\n(건)","5이상","5미만\n4이상","4미만\n3이상","3미만\n2이상","2미만\n1이상","특허",1,0.8,0.6]
[null,"업체명",null,null,"참여지분율",null,null,"각업체별\n점수","점수","비고","적용점수",{"$nulls":5},"실적금액\n(억원)","20이상","20미만","18미만\n16이상","16미만\n14이상","14미만\n12이상","실용신안",1,0.8,0]
[null,{"$f":"참여업체현황!B6","v":"A사"},null,null,{"$f":"참여업체현황!E6","v":0.6},null,null,{"$f":"N28","v":3.25},{"$f":"E4*H4","v":1.95}]
[null,{"$f":"참여업체현황!B7","v":"B사"},null,null,{"$f":"참여업체현황!E7","v":0.3},null,null,{"$f":"N49","v":3.25},{"$f":"E5*H5","v":0.97499999999999998}]
[null,{"$f":"참여업체현황!B8","v":"C사"},null,null,{"$f":"참여업체현황!E8","v":0.1},null,null,{"$f":"N70","v":3.25},{"$f":"E6*H6","v":0.32500000000000001}]
[null,"합계",{"$nulls":6},{"$f":"SUM(I4:I6)","v":3.25},null,{"$f":"ROUND(IF(I7<=3,I7,IF(I7>3,\"3\")),2)","v":3}]
[]
[null,"○",{"$f":"B4","v":"A사"},{"$nulls":10},{"$f":"참여업체현황!F2","v":"공고일"},{"$f":"참여업체현황!H2","v":"2014-10-15"}]
[null,"구분","연번","명칭","지정번호","명의자명","출원자\n수","-",{"$nulls":5},"점수","비고"]
[]
[null,"(개발\n실적)\n건설\n신기술",1,0,"000-00","㈜00엔지니어링",1,"-",{"$nulls":5},{"$f":"IF(G12=0,\"해당없음\",IF(G12>0,1/G12))","v":1}]
[null,null,2,0,"000-00","㈜01엔지니어링",3,"-",{"$nulls":5},{"$f":"IF(G13=0,\"해당없음\",IF(G13>0,1/G13))","v":0.33333333333333331}]
[null,null,3,0,"000-00","㈜02엔지니어링",2,"-",{"$nulls":5},0.5]
[null,null,"소계",{"$nulls":10},{"$f":"SUM(N12:N14)","v":1.8333333333333333}]
[null,"구분","연번","명칭","지정번호","명의자명","-","보호기간",null,"경과기간","사용실적",null,"가중치","점수","비고",null,"가중치"]
[{"$nulls":7},"(시작)","(종료)","(년)","(건)","(금액,억원)",{"$nulls":4},"건수","금액"]
[null,"(활용\n실적)\n건설\n신기술",1,0,"000-00","㈜00엔지니어링","-","2010-10-02","2011-01-01",{"$f":"ROUND((참여업체현황!$H$2-'라.기술개발 및 투자실적'!I18+1)/365,2)","v":3.79},6,22,{"$f":"IF(Q18>=R18, Q18,R18)","v":"1"},{"$f":"IF(J18>3,0,0.5*M18)","v":0},null,null,{"$f":"IF(K18<1, \" \", IF(K18>=5,\"1\", IF(K18>=4, \"0.9\", IF(K18>=3, \"0.8\", IF(K18>=2,\"0.7\", IF(K18>=1,\"0.6\"))))))","v":"1"},{"$f":"IF(L18<12, \" \", IF(L18>=20,\"1\", IF(L18>=18, \"0.9\", IF(L18>=16, \"0.8\", IF(L18>=14,\"0.7\", IF(L18>=12,\"0.6\"))))))","v":"1"}]
[null,null,2,0,"000-00","㈜01엔지니어링","-","2010-10-02","2014-10-01",{"$f":"ROUND((참여업체현황!$H$2-'라.기술개발 및 투자실적'!I19+1)/365,2)","v":0.04},2,17,{"$f":"IF(Q19>=R19, Q19,R19)","v":"0.8"},{"$f":"IF(J19>3,0,0.5*M19)","v":0.4},null,null,{"$f":"IF(K19<1, \" \", IF(K19>=5,\"1\", IF(K19>=4, \"0.9\", IF(K19>=3, \"0.8\", IF(K19>=2,\"0.7\", IF(K19>=1,\"0.6\"))))))","v":"0.7"},{"$f":"IF(L19<12, \" \", IF(L19>=20,\"1\", IF(L19>=18, \"0.9\", IF(L19>=16, \"0.8\", IF(L19>=14,\"0.7\", IF(L19>=12,\"0.6\"))))))","v":"0.8"}]
[null,null,3,0,"000-00","㈜02엔지니어링","-","2010-10-02","2014-10-01",{"$f":"ROUND((참여업체현황!$H$2-'라.기술개발 및 투자실적'!I20+1)/365,2)","v":0.04},1,13,{"$f":"IF(Q20>=R20, Q20,R20)","v":"0.6"},{"$f":"IF(J20>3,0,0.5*M20)","v":0.3},null,null,{"$f":"IF(K20<1, \" \", IF(K20>=5,\"1\", IF(K20>=4, \"0.9\", IF(K20>=3, \"0.8\", IF(K20>=2,\"0.7\", IF(K20>=1,\"0.6\"))))))","v":"0.6"},{"$f":"IF(L20<12, \" \", IF(L20>=20,\"1\", IF(L20>=18, \"0.9\", IF(L20>=16, \"0.8\", IF(L20>=14,\"0.7\", IF(L20>=12,\"0.6\"))))))","v":"0.6"}]
[null,null,"소계",{"$nulls":10},{"$f":"SUM(N18:N20)","v":0.7}]
[null,"구분","연번","명칭","지정번호","명의자명","-","등록권리\n만료기간","특허출원시기","\n경과기간","사용실적",null,"환산\n가중치","점수","비고",null,"사용실적가중치",null,"사용실적적용가중치","사용실적가중치"]
[{"$nulls":9},"(년)","(건)","(금액,억원)",{"$nulls":4},"건수","금액","건수","건수"]
[null,"(활용\n실적)\n특허",1,0,"000-00","㈜00엔지니어링","-","2015-02-20","2010-10-02",{"$f":"ROUND((참여업체현황!$H$2-I24)/365,2)","v":4.04},6,22,{"$f":"S24*T24","v":1},{"$f":"IF(('라.기술개발 및 투자실적'!H24-참여업체현황!$H$2)<0,0,0.3*M24)","v":0.3},null,null,{"$f":"IF(K24<1, \" \", IF(K24>=5,\"1\", IF(K24>=4, \"0.9\", IF(K24>=3, \"0.8\", IF(K24>=2,\"0.7\", IF(K24>=1,\"0.6\"))))))","v":"1"},{"$f":"IF(L24<12, \" \", IF(L24>=20,\"1\", IF(L24>=18, \"0.9\", IF(L24>=16, \"0.8\", IF(L24>=14,\"0.7\", IF(L24>=12,\"0.6\"))))))","v":"1"},{"$f":"IF(Q24>=R24, Q24,R24)","v":"1"},{"$f":"IF(J24>=20,0,IF(J24>=10,0.6,IF(J24>=5,0.8,IF(J24<5,1))))","v":1}]
[null,null,2,0,"000-00","㈜01엔지니어링","-","2018-01-20","2010-10-02",{"$f":"ROUND((참여업체현황!$H$2-I25)/365,2)","v":4.04},2,17,{"$f":"S25*T25","v":0.8},{"$f":"IF(('라.기술개발 및 투자실적'!H25-참여업체현황!$H$2)<0,0,0.3*M25)","v":0.24},null,null,{"$f":"IF(K25<1, \" \", IF(K25>=5,\"1\", IF(K25>=4, \"0.9\", IF(K25>=3, \"0.8\", IF(K25>=2,\"0.7\", IF(K25>=1,\"0.6\"))))))","v":"0.7"},{"$f":"IF(L25<12, \" \", IF(L25>=20,\"1\", IF(L25>=18, \"0.9\", IF(L25>=16, \"0.8\", IF(L25>=14,\"0.7\", IF(L25>=12,\"0.6\"))))))","v":"0.8"},{"$f":"IF(Q25>=R25, Q25,R25)","v":"0.8"},{"$f":"IF(J25>=20,0,IF(J25>=10,0.6,IF(J25>=5,0.8,IF(J25<5,1))))","v":1}]
[null,null,3,0,"000-00","㈜02엔지니어링","-","2014-10-30","2010-10-02",{"$f":"ROUND((참여업체현황!$H$2-I26)/365,2)","v":4.04},1,13,0.6,{"$f":"IF(('라.기술개발 및 투자실적'!H26-참여업체현황!$H$2)<0,0,0.3*M26)","v":0.18},null,null,{"$f":"IF(K26<1, \" \", IF(K26>=5,\"1\", IF(K26>=4, \"0.9\", IF(K26>=3, \"0.8\", IF(K26>=2,\"0.7\", IF(K26>=1,\"0.6\"))))))","v":"0.6"},{"$f":"IF(L26<12, \" \", IF(L26>=20,\"1\", IF(L26>=18, \"0.9\", IF(L26>=16, \"0.8\", IF(L26>=14,\"0.7\", IF(L26>=12,\"0.6\"))))))","v":"0.6"},"0.6",1]
[null,null,"소계",{"$nulls":10},{"$f":"SUM(N24:N26)","v":0.72}]
[null,"합계",{"$nulls":11},{"$f":"ROUND(N15+N21+N27,2)","v":3.25}]
[]
[null,"○",{"$f":"B5","v":"B사"}]
[null,"구분","연번","명칭","지정번호","명의자명","출원자\n수","-",{"$nulls":5},"점수","비고"]
[]
[null,"(개발\n실적)\n건설\n신기술",1,0,"000-00","㈜00엔지니어링",1,"-",{"$nulls":5},{"$f":"IF(G33=0,\"해당없음\",IF(G33>0,1/G33))","v":1}]
[null,null,2,0,"000-00","㈜01엔지니어링",3,"-",{"$nulls":5},{"$f":"IF(G34=0,\"해당없음\",IF(G34>0,1/G34))","v":0.33333333333333331}]
[null,null,3,0,"000-00","㈜02엔지니어링",2,"-",{"$nulls":5},0.5]
[null,null,"소계",{"$nulls":10},{"$f":"SUM(N33:N35)","v":1.8333333333333333}]
[null,"구분","연번","명칭","지정번호","명의자명","-","보호기간",null,"경과기간","사용실적",null,"가중치","점수","비고",null,"가중치"]
[{"$nulls":7},"(시작)","(종료)","(년)","(건)","(금액,억원)",{"$nulls":4},"건수","금액"]
[null,"(활용\n실적)\n건설\n신기술",1,0,"000-00","㈜00엔지니어링","-","2010-10-02","2011-01-01",{"$f":"ROUND((참여업체현황!$H$2-'라.기술개발 및 투자실적'!I39+1)/365,2)","v":3.79},6,22,{"$f":"IF(Q39>=R39, Q39,R39)","v":"1"},{"$f":"IF(J39>3,0,0.5*M39)","v":0},null,null,{"$f":"IF(K39<1, \" \", IF(K39>=5,\"1\", IF(K39>=4, \"0.9\", IF(K39>=3, \"0.8\", IF(K39>=2,\"0.7\", IF(K39>=1,\"0.6\"))))))","v":"1"},{"$f":"IF(L39<12, \" \", IF(L39>=20,\"1\", IF(L39>=18, \"0.9\", IF(L39>=16, \"0.8\", IF(L39>=14,\"0.7\", IF(L39>=12,\"0.6\"))))))","v":"1"}]
[null,null,2,0,"000-00","㈜01엔지니어링","-","2010-10-02","2014-10-01",{"$f":"ROUND((참여업체현황!$H$2-'라.기술개발 및 투자실적'!I40+1)/365,2)","v":0.04},2,17,{"$f":"IF(Q40>=R40, Q40,R40)","v":"0.8"},{"$f":"IF(J40>3,0,0.5*M40)","v":0.4},null,null,{"$f":"IF(K40<1, \" \", IF(K40>=5,\"1\", IF(K40>=4, \"0.9\", IF(K40>=3, \"0.8\", IF(K40>=2,\"0.7\", IF(K40>=1,\"0.6\"))))))","v":"0.7"},{"$f":"IF(L40<12, \" \", IF(L40>=20,\"1\", IF(L40>=18, \"0.9\", IF(L40>=16, \"0.8\", IF(L40>=14,\"0.7\", IF(L40>=12,\"0.6\"))))))","v":"0.8"}]
[null,null,3,0,"000-00","㈜02엔지니어링","-","2010-10-02","2014-10-01",{"$f":"ROUND((참여업체현황!$H$2-'라.기술개발 및 투자실적'!I41+1)/365,2)","v":0.04},1,13,{"$f":"IF(Q41>=R41, Q41,R41)","v":"0.6"},{"$f":"IF(J41>3,0,0.5*M41)","v":0.3},null,null,{"$f":"IF(K41<1, \" \", IF(K41>=5,\"1\", IF(K41>=4, \"0.9\", IF(K41>=3, \"0.8\", IF(K41>=2,\"0.7\", IF(K41>=1,\"0.6\"))))))","v":"0.6"},{"$f":"IF(L41<12, \" \", IF(L41>=20,\"1\", IF(L41>=18, \"0.9\", IF(L41>=16, \"0.8\", IF(L41>=14,\"0.7\", IF(L41>=12,\"0.6\"))))))","v":"0.6"}]
[null,null,"소계",{"$nulls":10},{"$f":"SUM(N39:N41)","v":0.7}]
[null,"구분","연번","명칭","지정번호","명의자명","-","등록권리\n만료기간","특허출원시기","\n경과기간","사용실적",null,"환산\n가중치","점수","비고",null,"사용실적가중치",null,"사용실적적용가중치","사용실적가중치"]
[{"$nulls":9},"(년)","(건)","(금액,억원)",{"$nulls":4},"건수","금액","건수","건수"]
[null,"(활용\n실적)\n특허",1,0,"000-00","㈜00엔지니어링","-","2015-02-20","2010-10-02",{"$f":"ROUND((참여업체현황!$H$2-I45)/365,2)","v":4.04},6,22,{"$f":"S45*T45","v":1},{"$f":"IF(('라.기술개발 및 투자실적'!H45-참여업체현황!$H$2)<0,0,0.3*M45)","v":0.3},null,null,{"$f":"IF(K45<1, \" \", IF(K45>=5,\"1\", IF(K45>=4, \"0.9\", IF(K45>=3, \"0.8\", IF(K45>=2,\"0.7\", IF(K45>=1,\"0.6\"))))))","v":"1"},{"$f":"IF(L45<12, \" \", IF(L45>=20,\"1\", IF(L45>=18, \"0.9\", IF(L45>=16, \"0.8\", IF(L45>=14,\"0.7\", IF(L45>=12,\"0.6\"))))))","v":"1"},{"$f":"IF(Q45>=R45, Q45,R45)","v":"1"},{"$f":"IF(J45>=20,0,IF(J45>=10,0.6,IF(J45>=5,0.8,IF(J45<5,1))))","v":1}]
[null,null,2,0,"000-00","㈜01엔지니어링","-","2018-01-20","2010-10-02",{"$f":"ROUND((참여업체현황!$H$2-I46)/365,2)","v":4.04},2,17,{"$f":"S46*T46","v":0.8},{"$f":"IF(('라.기술개발 및 투자실적'!H46-참여업체현황!$H$2)<0,0,0.3*M46)","v":0.24},null,null,{"$f":"IF(K46<1, \" \", IF(K46>=5,\"1\", IF(K46>=4, \"0.9\", IF(K46>=3, \"0.8\", IF(K46>=2,\"0.7\", IF(K46>=1,\"0.6\"))))))","v":"0.7"},{"$f":"IF(L46<12, \" \", IF(L46>=20,\"1\", IF(L46>=18, \"0.9\", IF(L46>=16, \"0.8\", IF(L46>=14,\"0.7\", IF(L46>=12,\"0.6\"))))))","v":"0.8"},{"$f":"IF(Q46>=R46, Q46,R46)","v":"0.8"},{"$f":"IF(J46>=20,0,IF(J46>=10,0.6,IF(J46>=5,0.8,IF(J46<5,1))))","v":1}]
[null,null,3,0,"000-00","㈜02엔지니어링","-","2014-10-30","2010-10-02",{"$f":"ROUND((참여업체현황!$H$2-I47)/365,2)","v":4.04},1,13,0.6,{"$f":"IF(('라.기술개발 및 투자실적'!H47-참여업체현황!$H$2)<0,0,0.3*M47)","v":0.18},null,null,{"$f":"IF(K47<1, \" \", IF(K47>=5,\"1\", IF(K47>=4, \"0.9\", IF(K47>=3, \"0.8\", IF(K47>=2,\"0.7\", IF(K47>=1,\"0.6\"))))))","v":"0.6"},{"$f":"IF(L47<12, \" \", IF(L47>=20,\"1\", IF(L47>=18, \"0.9\", IF(L47>=16, \"0.8\", IF(L47>=14,\"0.7\", IF(L47>=12,\"0.6\"))))))","v":"0.6"},"0.6",1]
[null,null,"소계",{"$nulls":10},{"$f":"SUM(N45:N47)","v":0.72}]
[null,"합계",{"$nulls":11},{"$f":"ROUND(N36+N42+N48,2)","v":3.25}]
[]
[null,"○",{"$f":"B6","v":"C사"}]
[null,"구분","연번","명칭","지정번호","명의자명","출원자\n수","-",{"$nulls":5},"점수","비고"]
[]
[null,"(개발\n실적)\n건설\n신기술",1,0,"000-00","㈜00엔지니어링",1,"-",{"$nulls":5},{"$f":"IF(G54=0,\"해당없음\",IF(G54>0,1/G54))","v":1}]
[null,null,2,0,"000-00","㈜01엔지니어링",3,"-",{"$nulls":5},{"$f":"IF(G55=0,\"해당없음\",IF(G55>0,1/G55))","v":0.33333333333333331}]
[null,null,3,0,"000-00","㈜02엔지니어링",2,"-",{"$nulls":5},0.5]
[null,null,"소계",{"$nulls":10},{"$f":"SUM(N54:N56)","v":1.8333333333333333}]
[null,"구분","연번","명칭","지정번호","명의자명","-","보호기간",null,"경과기간","사용실적",null,"가중치","점수","비고",null,"가중치"]
[{"$nulls":7},"(시작)","(종료)","(년)","(건)","(금액,억원)",{"$nulls":4},"건수","금액"]
[null,"(활용\n실적)\n건설\n신기술",1,0,"000-00","㈜00엔지니어링","-","2010-10-02","2011-01-01",{"$f":"ROUND((참여업체현황!$H$2-'라.기술개발 및 투자실적'!I60+1)/365,2)","v":3.79},6,22,{"$f":"IF(Q60>=R60, Q60,R60)","v":"1"},{"$f":"IF(J60>3,0,0.5*M60)","v":0},null,null,{"$f":"IF(K60<1, \" \", IF(K60>=5,\"1\", IF(K60>=4, \"0.9\", IF(K60>=3, \"0.8\", IF(K60>=2,\"0.7\", IF(K60>=1,\"0.6\"))))))","v":"1"},{"$f":"IF(L60<12, \" \", IF(L60>=20,\"1\", IF(L60>=18, \"0.9\", IF(L60>=16, \"0.8\", IF(L60>=14,\"0.7\", IF(L60>=12,\"0.6\"))))))","v":"1"}]
[null,null,2,0,"000-00","㈜01엔지니어링","-","2010-10-02","2014-10-01",{"$f":"ROUND((참여업체현황!$H$2-'라.기술개발 및 투자실적'!I61+1)/365,2)","v":0.04},2,17,{"$f":"IF(Q61>=R61, Q61,R61)","v":"0.8"},{"$f":"IF(J61>3,0,0.5*M61)","v":0.4},null,null,{"$f":"IF(K61<1, \" \", IF(K61>=5,\"1\", IF(K61>=4, \"0.9\", IF(K61>=3, \"0.8\", IF(K61>=2,\"0.7\", IF(K61>=1,\"0.6\"))))))","v":"0.7"},{"$f":"IF(L61<12, \" \", IF(L61>=20,\"1\", IF(L61>=18, \"0.9\", IF(L61>=16, \"0.8\", IF(L61>=14,\"0.7\", IF(L61>=12,\"0.6\"))))))","v":"0.8"}]
[null,null,3,0,"000-00","㈜02엔지니어링","-","2010-10-02","2014-10-01",{"$f":"ROUND((참여업체현황!$H$2-'라.기술개발 및 투자실적'!I62+1)/365,2)","v":0.04},1,13,{"$f":"IF(Q62>=R62, Q62,R62)","v":"0.6"},{"$f":"IF(J62>3,0,0.5*M62)","v":0.3},null,null,{"$f":"IF(K62<1, \" \", IF(K62>=5,\"1\", IF(K62>=4, \"0.9\", IF(K62>=3, \"0.8\", IF(K62>=2,\"0.7\", IF(K62>=1,\"0.6\"))))))","v":"0.6"},{"$f":"IF(L62<12, \" \", IF(L62>=20,\"1\", IF(L62>=18, \"0.9\", IF(L62>=16, \"0.8\", IF(L62>=14,\"0.7\", IF(L62>=12,\"0.6\"))))))","v":"0.6"}]
[null,null,"소계",{"$nulls":10},{"$f":"SUM(N60:N62)","v":0.7}]
[null,"구분","연번","명칭","지정번호","명의자명","-","등록권리\n만료기간","특허출원시기","\n경과기간","사용실적",null,"환산\n가중치","점수","비고",null,"사용실적가중치",null,"사용실적적용가중치","사용실적가중치"]
[{"$nulls":9},"(년)","(건)","(금액,억원)",{"$nulls":4},"건수","금액","건수","건수"]
[null,"(활용\n실적)\n특허",1,0,"000-00","㈜00엔지니어링","-","2015-02-20","2010-10-02",{"$f":"ROUND((참여업체현황!$H$2-I66)/365,2)","v":4.04},6,22,{"$f":"S66*T66","v":1},{"$f":"IF(('라.기술개발 및 투자실적'!H66-참여업체현황!$H$2)<0,0,0.3*M66)","v":0.3},null,null,{"$f":"IF(K66<1, \" \", IF(K66>=5,\"1\", IF(K66>=4, \"0.9\", IF(K66>=3, \"0.8\", IF(K66>=2,\"0.7\", IF(K66>=1,\"0.6\"))))))","v":"1"},{"$f":"IF(L66<12, \" \", IF(L66>=20,\"1\", IF(L66>=18, \"0.9\", IF(L66>=16, \"0.8\", IF(L66>=14,\"0.7\", IF(L66>=12,\"0.6\"))))))","v":"1"},{"$f":"IF(Q66>=R66, Q66,R66)","v":"1"},{"$f":"IF(J66>=20,0,IF(J66>=10,0.6,IF(J66>=5,0.8,IF(J66<5,1))))","v":1}]
[null,null,2,0,"000-00","㈜01엔지니어링","-","2018-01-20","2010-10-02",{"$f":"ROUND((참여업체현황!$H$2-I67)/365,2)","v":4.04},2,17,{"$f":"S67*T67","v":0.8},{"$f":"IF(('라.기술개발 및 투자실적'!H67-참여업체현황!$H$2)<0,0,0.3*M67)","v":0.24},null,null,{"$f":"IF(K67<1, \" \", IF(K67>=5,\"1\", IF(K67>=4, \"0.9\", IF(K67>=3, \"0.8\", IF(K67>=2,\"0.7\", IF(K67>=1,\"0.6\"))))))","v":"0.7"},{"$f":"IF(L67<12, \" \", IF(L67>=20,\"1\", IF(L67>=18, \"0.9\", IF(L67>=16, \"0.8\", IF(L67>=14,\"0.7\", IF(L67>=12,\"0.6\"))))))","v":"0.8"},{"$f":"IF(Q67>=R67, Q67,R67)","v":"0.8"},{"$f":"IF(J67>=20,0,IF(J67>=10,0.6,IF(J67>=5,0.8,IF(J67<5,1))))","v":1}]
[null,null,3,0,"000-00","㈜02엔지니어링","-","2014-10-30","2010-10-02",{"$f":"ROUND((참여업체현황!$H$2-I68)/365,2)","v":4.04},1,13,0.6,{"$f":"IF(('라.기술개발 및 투자실적'!H68-참여업체현황!$H$2)<0,0,0.3*M68)","v":0.18},null,null,{"$f":"IF(K68<1, \" \", IF(K68>=5,\"1\", IF(K68>=4, \"0.9\", IF(K68>=3, \"0.8\", IF(K68>=2,\"0.7\", IF(K68>=1,\"0.6\"))))))","v":"0.6"},{"$f":"IF(L68<12, \" \", IF(L68>=20,\"1\", IF(L68>=18, \"0.9\", IF(L68>=16, \"0.8\", IF(L68>=14,\"0.7\", IF(L68>=12,\"0.6\"))))))","v":"0.6"},"0.6",1]
[null,null,"소계",{"$nulls":10},{"$f":"SUM(N66:N68)","v":0.72}]
[null,"합계",{"$nulls":11},{"$f":"ROUND(N57+N63+N69,2)","v":3.25}]
[]
[]
[null,"나. 투자실적",{"$nulls":11},"(단위:","백만원)"]
[null,"업체명",null,"참여지분율",null,null,"1년차",null,"2년차",null,"3년차",null,"(A1+A2+A3)\n/(B1+B2+B3)",null,"적용점수"]
[{"$nulls":6},"A1","B1","A2","B2","A3","B3"]
[null,{"$f":"B4","v":"A사"},null,{"$f":"E4","v":0.6},null,null,2,200,3,100,7,300,{"$f":"(G76+I76+K76)/(H76+J76+L76)","v":0.02},null,{"$f":"D76*M76","v":1.2E-2}]
[null,{"$f":"B5","v":"B사"},null,{"$f":"E5","v":0.3},null,null,3,300,4,200,8,400,{"$f":"(G77+I77+K77)/(H77+J77+L77)","v":1.6666666666666666E-2},null,{"$f":"D77*M77","v":5.0000000000000001E-3}]
[null,"C사",null,0.1,null,null,4,400,5,300,9,500,{"$f":"(G78+I78+K78)/(H78+J78+L78)","v":1.4999999999999999E-2},null,{"$f":"D78*M78","v":1.5E-3}]
[null,"합계",{"$nulls":12},{"$f":"ROUND(SUM(O76:O78),4)","v":1.8499999999999999E-2}]
[null,"점수",{"$nulls":12},{"$f":"IF(O79>=3%,\"7\",IF(O79>=2.5%,\"6.8\", IF(O79>=2%,\"6.6\", IF(O79>=1.5%,\"6.4\", IF(O79>=1%,\"6.2\",\"6\")))))","v":"6.4"}]

{"sheet":"바.교체빈도","index":11,"n_rows":23,"n_cols":10,"rows_kept":23,"cut":false,"hidden":false,"merged":[[17,1,20,1],[4,4,5,4],[0,1,0,10],[3,1,5,1],[3,9,5,9],[3,5,3,8],[3,2,3,4],[4,5,5,5],[4,6,4,7],[4,2,5,3],[6,2,6,3],[7,2,7,3],[8,2,8,3]]}
[null,"최근 1년간 교체빈도 현황"]
[]
[null,"○ 건설사업관리용역회사"]
[null,"업체명","회사소속 건설사업관리기술자수",null,null,"교체건수",null,null,null,"교체빈도율\n(%)"]
[null,null,"현장배치 기술자수",null,"계","상주건설사업\n관리기술자","기술지원기술자"]
[{"$nulls":7},"환산(5건→1건)","계"]
[null,{"$f":"참여업체현황!B6","v":"A사"},264,null,{"$f":"C7+D7/5","v":264},1,0,{"$f":"G7/5","v":0},{"$f":"F7+H7","v":1},{"$f":"I7/E7","v":3.787878787878788E-3}]
[null,{"$f":"참여업체현황!B7","v":"B사"},110,null,{"$f":"C8+D8/5","v":110},2,1,{"$f":"G8/5","v":0.2},{"$f":"F8+H8","v":2.2000000000000002},{"$f":"I8/E8","v":0.02}]
[null,{"$f":"참여업체현황!B8","v":"C사"},210,null,210,1,4,0.8,1.8,8.5714285714285719E-3]
[null,"계",{"$nulls":7},{"$f":"ROUND(SUM(J7:J9),4)","v":3.2399999999999998E-2}]
[null,"점수",{"$nulls":7},{"$f":"IF(J10<5%,\"3\", IF(J10<10%, \"2.5\", IF(J10<15%, \"2\", IF(J10<20%, \"1\", \"0\"))))","v":"3"}]
[]
[]
[null,"○ 참여기술자"]
[null,"등급","성명","용역명","발주기관","참여구분\n(상주,기술지원)","교체건수","감점","비고"]
[null,{"$f":"참여기술자명단!B5","v":"책임\n건설사업\n관리기술자"},{"$f":"참여기술자명단!D5","v":"홍길일"},"00감리용역","00시","상주",1,{"$f":"G16*0.25","v":0.25}]
[null,{"$f":"참여기술자명단!B6","v":"분야별\n건설사업\n관리기술자"},{"$f":"참여기술자명단!D6","v":"홍길이"},"00감리용역","00청","상주",0,{"$f":"G17*0.25","v":0}]
[null,{"$f":"참여기술자명단!B7","v":"기술지원\n기술자"},{"$f":"참여기술자명단!D7","v":"홍길삼"},"00감리용역","00공사","비상주",0,{"$f":"G18*0.1","v":0}]
[null,null,{"$f":"참여기술자명단!D8","v":"홍길사"},"00감리용역","00시","비상주",0,{"$f":"G19*0.1","v":0}]
[null,null,{"$f":"참여기술자명단!D9","v":"홍길오"},"00감리용역","00청","비상주",1,{"$f":"G20*0.1","v":0.1}]
[null,null,{"$f":"참여기술자명단!D10","v":"홍길육"},"00감리용역","00청","비상주",1,{"$f":"G21*0.1","v":0.1}]
[null,"합계",{"$nulls":5},{"$f":"SUM(H16:H21)","v":0.44999999999999996}]
[null,"점수",{"$nulls":5},{"$f":"2-H22","v":1.55}]